BEGIN:VCALENDAR
VERSION:2.0
PRODID:-//Destination Bedford - ECPv6.8.3//NONSGML v1.0//EN
CALSCALE:GREGORIAN
METHOD:PUBLISH
X-ORIGINAL-URL:https://destinationbedfordva.com
X-WR-CALDESC:Events for Destination Bedford
REFRESH-INTERVAL;VALUE=DURATION:PT1H
X-Robots-Tag:noindex
X-PUBLISHED-TTL:PT1H
BEGIN:VTIMEZONE
TZID:America/New_York
BEGIN:DAYLIGHT
TZOFFSETFROM:-0500
TZOFFSETTO:-0400
TZNAME:EDT
DTSTART:20250309T070000
END:DAYLIGHT
BEGIN:STANDARD
TZOFFSETFROM:-0400
TZOFFSETTO:-0500
TZNAME:EST
DTSTART:20251102T060000
END:STANDARD
END:VTIMEZONE
BEGIN:VEVENT
DTSTART;TZID=America/New_York:20250517T090000
DTEND;TZID=America/New_York:20250517T120000
DTSTAMP:20260420T155632
CREATED:20250407T174251Z
LAST-MODIFIED:20251105T163921Z
UID:10061387-1747472400-1747483200@destinationbedfordva.com
SUMMARY:Forest Farmer's Market
DESCRIPTION:The Forest Farmer’s Market is held each Saturday morning behind the Forest Public Library.  The Market features farmers and artisans selling a variety of items including plants\, meats\, produce\, soaps\, lotions\, coffee\, baked goods and more!
URL:https://destinationbedfordva.com/event/forest-farmers-market-8-3/2025-05-17/
LOCATION:Forest Farmers Market\, 15583 Forest Road\, Forest\, VA\, 24523\, United States
ATTACH;FMTTYPE=image/jpeg:https://destinationbedfordva.com/wp-content/uploads/2024/05/Forest-FM.jpg
GEO:37.3649641;-79.2850156
X-APPLE-STRUCTURED-LOCATION;VALUE=URI;X-ADDRESS=Forest Farmers Market 15583 Forest Road Forest VA 24523 United States;X-APPLE-RADIUS=500;X-TITLE=15583 Forest Road:geo:-79.2850156,37.3649641
END:VEVENT
BEGIN:VEVENT
DTSTART;TZID=America/New_York:20250517T100000
DTEND;TZID=America/New_York:20250517T140000
DTSTAMP:20260420T155632
CREATED:20250314T195135Z
LAST-MODIFIED:20250314T195135Z
UID:10059358-1747476000-1747490400@destinationbedfordva.com
SUMMARY:Truckin’ for Kids
DESCRIPTION:Bring your little ones to explore big trucks\, fire engines and more! Meet local heroes and learn how these trucks help our community! Free event. 
URL:https://destinationbedfordva.com/event/truckin-for-kids/
LOCATION:Bedford Moose Lodge\, 2986 West Lynchburg Salem Turnpike\, Bedford\, VA\, 24523\, United States
ATTACH;FMTTYPE=image/jpeg:https://destinationbedfordva.com/wp-content/uploads/2025/03/trucks.jpg
GEO:37.347221;-79.591745
X-APPLE-STRUCTURED-LOCATION;VALUE=URI;X-ADDRESS=Bedford Moose Lodge 2986 West Lynchburg Salem Turnpike Bedford VA 24523 United States;X-APPLE-RADIUS=500;X-TITLE=2986 West Lynchburg Salem Turnpike:geo:-79.591745,37.347221
END:VEVENT
BEGIN:VEVENT
DTSTART;TZID=America/New_York:20250517T100000
DTEND;TZID=America/New_York:20250517T150000
DTSTAMP:20260420T155632
CREATED:20220504T140436Z
LAST-MODIFIED:20250319T195103Z
UID:10049635-1747476000-1747494000@destinationbedfordva.com
SUMMARY:Armed Forces Day - Pack the Convoy
DESCRIPTION:In recognition of Armed Forces Day\, the National D-Day Memorial invites you to help PACK THE CONVOY with supplies for currently deployed service members.\nThey will be packing a 1942 WC-53 Dodge Carryall and a Virginia National Guard Humvee with donated items to fill care packages.\n$2 off Memorial Admission at the gate with item donation\nItem collection at ticket booth for those not wishing to visit Memorial\nFree admission for active duty service members and up to five family members\n \nClick here for the shopping list. 
URL:https://destinationbedfordva.com/event/armed-forces-day-pack-the-convoy/
LOCATION:National D-Day Memorial\, 3 Overlord Circle\, Bedford\, VA\, United States
ATTACH;FMTTYPE=image/jpeg:https://destinationbedfordva.com/wp-content/uploads/2022/05/278852220_10159854779297641_1894073962370962045_n-1.jpg
GEO:37.3277294;-79.5346964
X-APPLE-STRUCTURED-LOCATION;VALUE=URI;X-ADDRESS=National D-Day Memorial 3 Overlord Circle Bedford VA United States;X-APPLE-RADIUS=500;X-TITLE=3 Overlord Circle:geo:-79.5346964,37.3277294
END:VEVENT
BEGIN:VEVENT
DTSTART;TZID=America/New_York:20250517T100000
DTEND;TZID=America/New_York:20250517T150000
DTSTAMP:20260420T155632
CREATED:20250516T192635Z
LAST-MODIFIED:20250516T192635Z
UID:10059644-1747476000-1747494000@destinationbedfordva.com
SUMMARY:BVA Mercantile 6th Anniversary
DESCRIPTION:Join BVA Mercantile in celebrating 6 years in business! There will be discounts\, giveaways\, and sweets!!! Don’t miss this exciting day as they celebrate this milestone!
URL:https://destinationbedfordva.com/event/bva-mercantile-6th-anniversary/
LOCATION:BVA Mercantile\, 206 W Depot Street\, Bedford\, VA\, 24523\, United States
ATTACH;FMTTYPE=image/jpeg:https://destinationbedfordva.com/wp-content/uploads/2025/05/bva-10.jpg
END:VEVENT
BEGIN:VEVENT
DTSTART;TZID=America/New_York:20250517T100000
DTEND;TZID=America/New_York:20250517T160000
DTSTAMP:20260420T155632
CREATED:20250505T161722Z
LAST-MODIFIED:20250509T200645Z
UID:10059632-1747476000-1747497600@destinationbedfordva.com
SUMMARY:FURbaby FUNdraiser on the Farm
DESCRIPTION:Mark your calendars for May 17\, 2025\, and come celebrate a day of fun\, family\, and furbabies — all for a great cause! \nThis special memorial event honors the legacy of Edmund Coffey and Nancy Johnson\, whose shared dream of a spay/neuter/wellness clinic for the Bedford Animal Shelter is finally coming to life. Thanks to a partnership between Assistant Bedford County Administrator DW Lawhorne and the newly forming nonprofit Community Pet Coalition\, their vision is becoming reality. \nHosted by the Community Pet Coalition\, this fundraiser supports: \n\nAll American Mutt Rescue (AAMR)\nFriends of Bedford County Animal Shelter (FOBCAS)\nBedford Humane Society\n\nEvent Highlights: \n\nHorse-drawn wagon and carriage rides — $5/person (kids under 4 ride free!)\nGuided walking farm tour with Ben Coleman — $10/person\nCruise-In hosted by the Bedford Igniters — donations encouraged!\nAdoptables on-site from FOBCAS & AAMR\nFoam Party Guy (10 AM – 12 PM)\nLive Music\n\nChris Hammock (10 AM – 12 PM)\nWood & Strings – Calvin and Mark (12 PM – 2 PM)\n\n\nFood & Coffee Trucks:\n\nPorter House BBQ\nBrew Initiative Coffee\nHot Diggity Dogs\n\n\nDozens of vendors\nDog trainers & canine demonstrations\nThe Edmund Coffey Museum open to the public
URL:https://destinationbedfordva.com/event/furbaby-fundraiser-on-the-farm/
LOCATION:Mountain Run Farm\, 1228 Charlemont Rd\, Big Island\, VA\, 24526\, United States
ATTACH;FMTTYPE=image/jpeg:https://destinationbedfordva.com/wp-content/uploads/2025/05/Furbaby-new-flyer-.jpg
END:VEVENT
BEGIN:VEVENT
DTSTART;TZID=America/New_York:20250517T110000
DTEND;TZID=America/New_York:20250517T150000
DTSTAMP:20260420T155632
CREATED:20250501T183754Z
LAST-MODIFIED:20250613T140132Z
UID:10059590-1747479600-1747494000@destinationbedfordva.com
SUMMARY:Bower Center Exhibit
DESCRIPTION:Beginning on May 6\, the Bower Center for the Arts will host a dual exhibit in their galleries.  \nThe Braaten Gallery will feature the works of Kaye Lipscomb in her exhibit titled “Inside/Out.”  Lipscomb was awarded Best in Show in our National Juried Paper Arts Exhibition in 2022.  \nIn the Terrace Gallery\, they will have the exhibit “Limited Edition.” These works were completed by artists who are members of the Bower Center family.  This includes studio artists\, staff members\, Bower Center instructors\, board members\, and committee members . \n  \nA reception for these exhibits will be held on Friday\, June 13 at 5:00pm.  It is open to the public.  As always\, admission to the galleries are free!
URL:https://destinationbedfordva.com/event/bower-center-exhibit-4/2025-05-17/
LOCATION:Bower Center for the Arts\, 309 North Bridge Street\, Bedford\, VA\, United States
ATTACH;FMTTYPE=image/jpeg:https://destinationbedfordva.com/wp-content/uploads/2025/04/Bower-Center-exhibit-may-2025.jpg
GEO:37.336317;-79.522795
X-APPLE-STRUCTURED-LOCATION;VALUE=URI;X-ADDRESS=Bower Center for the Arts 309 North Bridge Street Bedford VA United States;X-APPLE-RADIUS=500;X-TITLE=309 North Bridge Street:geo:-79.522795,37.336317
END:VEVENT
BEGIN:VEVENT
DTSTART;TZID=America/New_York:20250517T120000
DTEND;TZID=America/New_York:20250517T190000
DTSTAMP:20260420T155632
CREATED:20250516T193216Z
LAST-MODIFIED:20250516T193216Z
UID:10059645-1747483200-1747508400@destinationbedfordva.com
SUMMARY:Band & Bonfire
DESCRIPTION:MEAD AND MUSIC IN THE MOUNTAINS!\nBAND & BONFIRE SPECIAL EVENT!\nMAY 17TH – MEADERY OPEN 12-7!\nSPECIAL VENDORS & DEMOS! Costina Theresa w. Bucken Creations & Shelly Knick !\nLIVE MUSIC! By Root 2 Music! 3:30 – 6:30\nKID’S CRAFTS & ACTIVITIES!\nDELICIOUS FOOD\, DRINKS\, & S’MORES OF COURSE\nFAMILY – FRIENDLY – FUN!
URL:https://destinationbedfordva.com/event/band-bonfire/
LOCATION:The Meadery at Graham Ordinary\, 8578 Peaks Rd\, Bedford\, Virginia\, 24523
ATTACH;FMTTYPE=image/jpeg:https://destinationbedfordva.com/wp-content/uploads/2025/05/Graham-Ordinary-event.jpg
END:VEVENT
BEGIN:VEVENT
DTSTART;TZID=America/New_York:20250517T130000
DTEND;TZID=America/New_York:20250517T170000
DTSTAMP:20260420T155632
CREATED:20250425T182522Z
LAST-MODIFIED:20250912T201550Z
UID:10059647-1747486800-1747501200@destinationbedfordva.com
SUMMARY:Live Music at Harvest Moon
DESCRIPTION:Come see live music at Harvest Moon Marketplace! Click here to see who is playing each week. \n\n\nEnjoy beer\, wine\, meads\, ciders\, and non-alcoholic drinks\, along with delicious food and great shopping at the Marketplace. Free admission and free music!
URL:https://destinationbedfordva.com/event/live-music-at-harvest-moon-7/2025-05-17/
LOCATION:Harvest Moon Marketplace\, 14917 Moneta Rd\, Moneta\, VA\, 24121\, United States
ATTACH;FMTTYPE=image/jpeg:https://destinationbedfordva.com/wp-content/uploads/2023/12/harvest-moon-logo.jpg
END:VEVENT
BEGIN:VEVENT
DTSTART;TZID=America/New_York:20250517T190000
DTEND;TZID=America/New_York:20250517T220000
DTSTAMP:20260420T155632
CREATED:20250128T214617Z
LAST-MODIFIED:20250410T202324Z
UID:10059224-1747508400-1747519200@destinationbedfordva.com
SUMMARY:Live Music at New London Ruritan Club
DESCRIPTION:This is a family friendly community dance with live entertainers!! $10/adult\, doors open at 6:30pm\, music 7-10pm. Please bring your own snacks and non-alcoholic beverages. Supported by Ruritan volunteers.
URL:https://destinationbedfordva.com/event/live-music-at-new-london-ruritan-club-2/2025-05-17/
LOCATION:New London Ruritan\, 12411 East Lynchburg Salem Turnpike\, Forest\, VA\, 24551\, United States
ATTACH;FMTTYPE=image/jpeg:https://destinationbedfordva.com/wp-content/uploads/2025/01/live-music-at-new-london.jpg
GEO:37.30493;-79.304666
X-APPLE-STRUCTURED-LOCATION;VALUE=URI;X-ADDRESS=New London Ruritan 12411 East Lynchburg Salem Turnpike Forest VA 24551 United States;X-APPLE-RADIUS=500;X-TITLE=12411 East Lynchburg Salem Turnpike:geo:-79.304666,37.30493
END:VEVENT
BEGIN:VEVENT
DTSTART;TZID=America/New_York:20250517T193000
DTEND;TZID=America/New_York:20250517T220000
DTSTAMP:20260420T155632
CREATED:20250502T200556Z
LAST-MODIFIED:20250502T200556Z
UID:10059629-1747510200-1747519200@destinationbedfordva.com
SUMMARY:Little Town Players “The Color Purple"
DESCRIPTION:Little Town Players has been performing live community theatre in Bedford for more than 45 years! \nDon’t miss their latest musical “The Color Purple.” \nPerformances are May 9\, 10\, 16 &  17 at 7:30pm \nSunday matinees –  May 11 & May 18 at 2:00pm \nDoors open 30 minutes before start time. \nSpecial Note: Because the theatre is a historical site\, restrooms are not in the same building. Restrooms are available just across the way in the Elks Home Main Building. \n\nClick here to purchase tickets. \n  \n 
URL:https://destinationbedfordva.com/event/little-town-players-the-color-purple/2025-05-17/
LOCATION:Little Town Players\, 931 Ashland Avenue\, Bedford\, VA\, 24523\, United States
ATTACH;FMTTYPE=image/jpeg:https://destinationbedfordva.com/wp-content/uploads/2025/05/The-color-purple.jpg
GEO:37.3434782;-79.5351962
X-APPLE-STRUCTURED-LOCATION;VALUE=URI;X-ADDRESS=Little Town Players 931 Ashland Avenue Bedford VA 24523 United States;X-APPLE-RADIUS=500;X-TITLE=931 Ashland Avenue:geo:-79.5351962,37.3434782
END:VEVENT
END:VCALENDAR