BEGIN:VCALENDAR
VERSION:2.0
PRODID:-//Destination Bedford - ECPv6.8.3//NONSGML v1.0//EN
CALSCALE:GREGORIAN
METHOD:PUBLISH
X-WR-CALNAME:Destination Bedford
X-ORIGINAL-URL:https://destinationbedfordva.com
X-WR-CALDESC:Events for Destination Bedford
REFRESH-INTERVAL;VALUE=DURATION:PT1H
X-Robots-Tag:noindex
X-PUBLISHED-TTL:PT1H
BEGIN:VTIMEZONE
TZID:America/New_York
BEGIN:DAYLIGHT
TZOFFSETFROM:-0500
TZOFFSETTO:-0400
TZNAME:EDT
DTSTART:20250309T070000
END:DAYLIGHT
BEGIN:STANDARD
TZOFFSETFROM:-0400
TZOFFSETTO:-0500
TZNAME:EST
DTSTART:20251102T060000
END:STANDARD
END:VTIMEZONE
BEGIN:VEVENT
DTSTART;TZID=America/New_York:20250526T130000
DTEND;TZID=America/New_York:20250526T160000
DTSTAMP:20260421T230220
CREATED:20250331T135000Z
LAST-MODIFIED:20250522T192114Z
UID:10060109-1748264400-1748275200@destinationbedfordva.com
SUMMARY:Live Music @ Mitchell's
DESCRIPTION:Enjoy live music\, great food and the beautiful Smith Mountain Lake all in one place! Click here to see who is playing each week.
URL:https://destinationbedfordva.com/event/live-music-mitchells-17-2-2/2025-05-26/
LOCATION:Mitchell’s Resturant & Pizzeria\, 3553 Trading Post Rd\, Huddleston\, VA\, 24104\, United States
ATTACH;FMTTYPE=image/png:https://destinationbedfordva.com/wp-content/uploads/2021/06/Mitchells.png
END:VEVENT
BEGIN:VEVENT
DTSTART;TZID=America/New_York:20250526T133000
DTEND;TZID=America/New_York:20250526T163000
DTSTAMP:20260421T230220
CREATED:20250425T182522Z
LAST-MODIFIED:20250912T201550Z
UID:10060106-1748266200-1748277000@destinationbedfordva.com
SUMMARY:Live Music at Harvest Moon
DESCRIPTION:Come see live music at Harvest Moon Marketplace! Click here to see who is playing each week. \n\n\nEnjoy beer\, wine\, meads\, ciders\, and non-alcoholic drinks\, along with delicious food and great shopping at the Marketplace. Free admission and free music!
URL:https://destinationbedfordva.com/event/live-music-at-harvest-moon-7/2025-05-26/
LOCATION:Harvest Moon Marketplace\, 14917 Moneta Rd\, Moneta\, VA\, 24121\, United States
ATTACH;FMTTYPE=image/jpeg:https://destinationbedfordva.com/wp-content/uploads/2023/12/harvest-moon-logo.jpg
END:VEVENT
BEGIN:VEVENT
DTSTART;TZID=America/New_York:20250526T140000
DTEND;TZID=America/New_York:20250526T150000
DTSTAMP:20260421T230220
CREATED:20250522T202604Z
LAST-MODIFIED:20250522T203106Z
UID:10060114-1748268000-1748271600@destinationbedfordva.com
SUMMARY:Memorial Day Ceremony Honoring Bedford Boys
DESCRIPTION:On Memorial Day\, the Bedford International Alliance will hold a ceremony at the Greenwood Cemetery to honor the Bedford Boys who perished on the beaches of Normandy eighty years ago on D-Day\, June 6\, 1944. The event will be held rain or shine at 2:00 pm.  The public is cordially invited to attend this moving tribute to our local heroes. \n 
URL:https://destinationbedfordva.com/event/memorial-day-ceremony-honoring-bedford-boys-2/
LOCATION:Greenwood Cemetery\, 1311 Park Street\, Bedford\, VA\, 24523\, United States
ATTACH;FMTTYPE=image/png:https://destinationbedfordva.com/wp-content/uploads/2021/04/BIA.png
GEO:37.338267;-79.510235
X-APPLE-STRUCTURED-LOCATION;VALUE=URI;X-ADDRESS=Greenwood Cemetery 1311 Park Street Bedford VA 24523 United States;X-APPLE-RADIUS=500;X-TITLE=1311 Park Street:geo:-79.510235,37.338267
END:VEVENT
END:VCALENDAR