BEGIN:VCALENDAR
VERSION:2.0
PRODID:-//Destination Bedford - ECPv6.8.3//NONSGML v1.0//EN
CALSCALE:GREGORIAN
METHOD:PUBLISH
X-ORIGINAL-URL:https://destinationbedfordva.com
X-WR-CALDESC:Events for Destination Bedford
REFRESH-INTERVAL;VALUE=DURATION:PT1H
X-Robots-Tag:noindex
X-PUBLISHED-TTL:PT1H
BEGIN:VTIMEZONE
TZID:America/New_York
BEGIN:DAYLIGHT
TZOFFSETFROM:-0500
TZOFFSETTO:-0400
TZNAME:EDT
DTSTART:20250309T070000
END:DAYLIGHT
BEGIN:STANDARD
TZOFFSETFROM:-0400
TZOFFSETTO:-0500
TZNAME:EST
DTSTART:20251102T060000
END:STANDARD
END:VTIMEZONE
BEGIN:VEVENT
DTSTART;TZID=America/New_York:20250531T090000
DTEND;TZID=America/New_York:20250531T120000
DTSTAMP:20260420T155542
CREATED:20250407T174251Z
LAST-MODIFIED:20251105T163921Z
UID:10061389-1748682000-1748692800@destinationbedfordva.com
SUMMARY:Forest Farmer's Market
DESCRIPTION:The Forest Farmer’s Market is held each Saturday morning behind the Forest Public Library.  The Market features farmers and artisans selling a variety of items including plants\, meats\, produce\, soaps\, lotions\, coffee\, baked goods and more!
URL:https://destinationbedfordva.com/event/forest-farmers-market-8-3/2025-05-31/
LOCATION:Forest Farmers Market\, 15583 Forest Road\, Forest\, VA\, 24523\, United States
ATTACH;FMTTYPE=image/jpeg:https://destinationbedfordva.com/wp-content/uploads/2024/05/Forest-FM.jpg
GEO:37.3649641;-79.2850156
X-APPLE-STRUCTURED-LOCATION;VALUE=URI;X-ADDRESS=Forest Farmers Market 15583 Forest Road Forest VA 24523 United States;X-APPLE-RADIUS=500;X-TITLE=15583 Forest Road:geo:-79.2850156,37.3649641
END:VEVENT
BEGIN:VEVENT
DTSTART;TZID=America/New_York:20250531T100000
DTEND;TZID=America/New_York:20250531T160000
DTSTAMP:20260420T155542
CREATED:20250528T171731Z
LAST-MODIFIED:20250528T171731Z
UID:10060142-1748685600-1748707200@destinationbedfordva.com
SUMMARY:Claytor Centennial Celebration
DESCRIPTION:Join Claytor Nature Center for a community event to commemorate Boyd Claytor’s 100th Birthday and celebrate the grand re-opening of Claytor Nature Center to the public! The Celebration\, scheduled from 10am – 4pm on May 31st\, will host a variety of activities for the community including a vendor fair\, food\, music\, a petting zoo\, and nature activities. Fun for the whole family!  \nFree admission. 
URL:https://destinationbedfordva.com/event/claytor-centennial-celebration/
LOCATION:Claytor Nature Center\, 1844 Woods Road\, Bedford\, VA\, 24523\, United States
ATTACH;FMTTYPE=image/jpeg:https://destinationbedfordva.com/wp-content/uploads/2025/05/claytor-2025.jpg
GEO:37.38965;-79.539128
X-APPLE-STRUCTURED-LOCATION;VALUE=URI;X-ADDRESS=Claytor Nature Center 1844 Woods Road Bedford VA 24523 United States;X-APPLE-RADIUS=500;X-TITLE=1844 Woods Road:geo:-79.539128,37.38965
END:VEVENT
BEGIN:VEVENT
DTSTART;TZID=America/New_York:20250531T110000
DTEND;TZID=America/New_York:20250531T150000
DTSTAMP:20260420T155542
CREATED:20250501T183754Z
LAST-MODIFIED:20250613T140132Z
UID:10059600-1748689200-1748703600@destinationbedfordva.com
SUMMARY:Bower Center Exhibit
DESCRIPTION:Beginning on May 6\, the Bower Center for the Arts will host a dual exhibit in their galleries.  \nThe Braaten Gallery will feature the works of Kaye Lipscomb in her exhibit titled “Inside/Out.”  Lipscomb was awarded Best in Show in our National Juried Paper Arts Exhibition in 2022.  \nIn the Terrace Gallery\, they will have the exhibit “Limited Edition.” These works were completed by artists who are members of the Bower Center family.  This includes studio artists\, staff members\, Bower Center instructors\, board members\, and committee members . \n  \nA reception for these exhibits will be held on Friday\, June 13 at 5:00pm.  It is open to the public.  As always\, admission to the galleries are free!
URL:https://destinationbedfordva.com/event/bower-center-exhibit-4/2025-05-31/
LOCATION:Bower Center for the Arts\, 309 North Bridge Street\, Bedford\, VA\, United States
ATTACH;FMTTYPE=image/jpeg:https://destinationbedfordva.com/wp-content/uploads/2025/04/Bower-Center-exhibit-may-2025.jpg
GEO:37.336317;-79.522795
X-APPLE-STRUCTURED-LOCATION;VALUE=URI;X-ADDRESS=Bower Center for the Arts 309 North Bridge Street Bedford VA United States;X-APPLE-RADIUS=500;X-TITLE=309 North Bridge Street:geo:-79.522795,37.336317
END:VEVENT
BEGIN:VEVENT
DTSTART;TZID=America/New_York:20250531T130000
DTEND;TZID=America/New_York:20250531T170000
DTSTAMP:20260420T155542
CREATED:20250425T182522Z
LAST-MODIFIED:20250912T201550Z
UID:10059651-1748696400-1748710800@destinationbedfordva.com
SUMMARY:Live Music at Harvest Moon
DESCRIPTION:Come see live music at Harvest Moon Marketplace! Click here to see who is playing each week. \n\n\nEnjoy beer\, wine\, meads\, ciders\, and non-alcoholic drinks\, along with delicious food and great shopping at the Marketplace. Free admission and free music!
URL:https://destinationbedfordva.com/event/live-music-at-harvest-moon-7/2025-05-31/
LOCATION:Harvest Moon Marketplace\, 14917 Moneta Rd\, Moneta\, VA\, 24121\, United States
ATTACH;FMTTYPE=image/jpeg:https://destinationbedfordva.com/wp-content/uploads/2023/12/harvest-moon-logo.jpg
END:VEVENT
BEGIN:VEVENT
DTSTART;TZID=America/New_York:20250531T130000
DTEND;TZID=America/New_York:20250531T170000
DTSTAMP:20260420T155542
CREATED:20250527T184824Z
LAST-MODIFIED:20250527T184824Z
UID:10060137-1748696400-1748710800@destinationbedfordva.com
SUMMARY:Viking Day at the Meadery
DESCRIPTION: \nViking Day returns to the Meadery! \nWelcoming “Vikings of the Valley” with their fantastic displays\, horns\, shields\, ship and adventurous excitement! \n \nMeadery will be open 12-6pm\nViking group\, demos\, storytelling\, vending & photo ops 1-5pm\nSpecialty drinks & menu \nLive music by Cyanwoode 2-4pm
URL:https://destinationbedfordva.com/event/viking-day-at-the-meadery-2/
LOCATION:The Meadery at Graham Ordinary\, 8578 Peaks Rd\, Bedford\, Virginia\, 24523
ATTACH;FMTTYPE=image/jpeg:https://destinationbedfordva.com/wp-content/uploads/2025/05/viking-day.jpg
END:VEVENT
BEGIN:VEVENT
DTSTART;TZID=America/New_York:20250531T130000
DTEND;TZID=America/New_York:20250531T190000
DTSTAMP:20260420T155542
CREATED:20250529T140144Z
LAST-MODIFIED:20250923T180614Z
UID:10060567-1748696400-1748718000@destinationbedfordva.com
SUMMARY:Live Music at Portside
DESCRIPTION:Come to Portside Grill & Bar right on Smith Mountain Lake\, for great food and live music! Click here to see who is playing! 
URL:https://destinationbedfordva.com/event/live-music-at-portside-6/2025-05-31/
LOCATION:Portside Grill and Bar\, 3619 Airport Rd.\, Moneta\, VA\, 24121\, United States
ATTACH;FMTTYPE=image/jpeg:https://destinationbedfordva.com/wp-content/uploads/2021/05/portside.jpg
END:VEVENT
BEGIN:VEVENT
DTSTART;TZID=America/New_York:20250531T140000
DTEND;TZID=America/New_York:20250531T170000
DTSTAMP:20260420T155542
CREATED:20210426T153153Z
LAST-MODIFIED:20250828T183953Z
UID:10060184-1748700000-1748710800@destinationbedfordva.com
SUMMARY:Live Music at Drifter's
DESCRIPTION:Live music on the water front! Enjoy the beautiful Smith Mountain Lake\, great food and awesome music! Click here to see who is playing each week. 
URL:https://destinationbedfordva.com/event/live-music-at-drifters-4/2025-05-31/
LOCATION:Drifter’s\, 1617 Crystal Shores Drive\, Moneta\, VA\, 24121
ATTACH;FMTTYPE=image/jpeg:https://destinationbedfordva.com/wp-content/uploads/2021/04/live-music-at-drifters-2.jpg
END:VEVENT
BEGIN:VEVENT
DTSTART;TZID=America/New_York:20250531T180000
DTEND;TZID=America/New_York:20250531T180000
DTSTAMP:20260420T155542
CREATED:20250529T135358Z
LAST-MODIFIED:20250807T204403Z
UID:10060452-1748714400-1748714400@destinationbedfordva.com
SUMMARY:Live Music at Portside
DESCRIPTION:Come to Portside Grill & Bar right on Smith Mountain Lake\, for great food and live music! Click here to see who is playing! 
URL:https://destinationbedfordva.com/event/live-music-at-portside-5/
LOCATION:Portside Grill and Bar\, 3619 Airport Rd.\, Moneta\, VA\, 24121\, United States
ATTACH;FMTTYPE=image/jpeg:https://destinationbedfordva.com/wp-content/uploads/2021/05/portside.jpg
END:VEVENT
BEGIN:VEVENT
DTSTART;TZID=America/New_York:20250531T183000
DTEND;TZID=America/New_York:20250531T200000
DTSTAMP:20260420T155542
CREATED:20250528T195022Z
LAST-MODIFIED:20250528T195153Z
UID:10060156-1748716200-1748721600@destinationbedfordva.com
SUMMARY:The Day is Past & Gone
DESCRIPTION:Playwright Teresa Harris’s original drama returns to Jefferson’s plantation for two performances only. Drawn from real-life experiences of the men and women who were enslaved at Poplar Forest\, the trilogy explores the complexity of their lives and their struggles to survive. \nJoin Harris\, the cast and Poplar Forest’s archaeology and interpretation staff for a Q&A following the performance. Bring your friends and family\, a picnic and a blanket or chairs\, and experience a little-known but important part of Poplar Forest’s history brought to life. NOTE: The performance consists of three vignettes performed at three different locations on the property. We recommend bringing chairs\, blankets\, picnics\, etc. that are easy to move. Performance begins at 6:30 p.m. \nTickets are $20/adult (18+)\, $10 for youth ages 6-17 and college students (with valid ID)\, $5 for children under 6. Rain Date: June 1 \nClick here for tickets. 
URL:https://destinationbedfordva.com/event/the-day-is-past-gone/2025-05-31/
LOCATION:Thomas Jefferson’s Poplar Forest\, 687 Poplar Forest Dr.\, Forest\, VA\, 24551\, United States
ATTACH;FMTTYPE=image/jpeg:https://destinationbedfordva.com/wp-content/uploads/2025/05/the-day-is-past-and-gone-2025.jpg
GEO:37.3589053;-79.2680641
X-APPLE-STRUCTURED-LOCATION;VALUE=URI;X-ADDRESS=Thomas Jefferson’s Poplar Forest 687 Poplar Forest Dr. Forest VA 24551 United States;X-APPLE-RADIUS=500;X-TITLE=687 Poplar Forest Dr.:geo:-79.2680641,37.3589053
END:VEVENT
BEGIN:VEVENT
DTSTART;TZID=America/New_York:20250531T190000
DTEND;TZID=America/New_York:20250531T220000
DTSTAMP:20260420T155542
CREATED:20250521T171628Z
LAST-MODIFIED:20250724T141850Z
UID:10059225-1748718000-1748728800@destinationbedfordva.com
SUMMARY:Live Music at New London Ruritan Club
DESCRIPTION:This is a family friendly community dance with live entertainers!! $10/adult\, doors open at 6:30pm\, music 7-10pm. Please bring your own snacks and non-alcoholic beverages. Supported by Ruritan volunteers.
URL:https://destinationbedfordva.com/event/live-music-at-new-london-ruritan-club-2-2/2025-05-31/
LOCATION:New London Ruritan\, 12411 East Lynchburg Salem Turnpike\, Forest\, VA\, 24551\, United States
ATTACH;FMTTYPE=image/jpeg:https://destinationbedfordva.com/wp-content/uploads/2025/01/live-music-at-new-london.jpg
GEO:37.30493;-79.304666
X-APPLE-STRUCTURED-LOCATION;VALUE=URI;X-ADDRESS=New London Ruritan 12411 East Lynchburg Salem Turnpike Forest VA 24551 United States;X-APPLE-RADIUS=500;X-TITLE=12411 East Lynchburg Salem Turnpike:geo:-79.304666,37.30493
END:VEVENT
BEGIN:VEVENT
DTSTART;TZID=America/New_York:20250531T190000
DTEND;TZID=America/New_York:20250531T220000
DTSTAMP:20260420T155542
CREATED:20250529T192941Z
LAST-MODIFIED:20250529T192941Z
UID:10060617-1748718000-1748728800@destinationbedfordva.com
SUMMARY:Shinning Star Karaoke
DESCRIPTION:Come sing some of your favorite songs along with locally crafted beer\, cider\, and seltzer. Food available to order on site.
URL:https://destinationbedfordva.com/event/shinning-star-karaoke/
LOCATION:Apocalypse Ale Works\, 1257 Burnbridge Road\, Forest\, VA\, 24551\, United States
ATTACH;FMTTYPE=image/jpeg:https://destinationbedfordva.com/wp-content/uploads/2025/05/Shinning-star.jpg
GEO:37.3622178;-79.2877024
X-APPLE-STRUCTURED-LOCATION;VALUE=URI;X-ADDRESS=Apocalypse Ale Works 1257 Burnbridge Road Forest VA 24551 United States;X-APPLE-RADIUS=500;X-TITLE=1257 Burnbridge Road:geo:-79.2877024,37.3622178
END:VEVENT
END:VCALENDAR