BEGIN:VCALENDAR
VERSION:2.0
PRODID:-//Destination Bedford - ECPv6.8.3//NONSGML v1.0//EN
CALSCALE:GREGORIAN
METHOD:PUBLISH
X-ORIGINAL-URL:https://destinationbedfordva.com
X-WR-CALDESC:Events for Destination Bedford
REFRESH-INTERVAL;VALUE=DURATION:PT1H
X-Robots-Tag:noindex
X-PUBLISHED-TTL:PT1H
BEGIN:VTIMEZONE
TZID:America/New_York
BEGIN:DAYLIGHT
TZOFFSETFROM:-0500
TZOFFSETTO:-0400
TZNAME:EDT
DTSTART:20250309T070000
END:DAYLIGHT
BEGIN:STANDARD
TZOFFSETFROM:-0400
TZOFFSETTO:-0500
TZNAME:EST
DTSTART:20251102T060000
END:STANDARD
END:VTIMEZONE
BEGIN:VEVENT
DTSTART;TZID=America/New_York:20250615T130000
DTEND;TZID=America/New_York:20250615T160000
DTSTAMP:20260419T233839
CREATED:20250530T203741Z
LAST-MODIFIED:20250905T175526Z
UID:10060675-1749992400-1750003200@destinationbedfordva.com
SUMMARY:Live Music @ Mitchell's
DESCRIPTION:Enjoy live music\, great food and the beautiful Smith Mountain Lake all in one place! Click here to see who is playing each week.
URL:https://destinationbedfordva.com/event/live-music-mitchells-18-2/2025-06-15/
LOCATION:Mitchell’s Resturant & Pizzeria\, 3553 Trading Post Rd\, Huddleston\, VA\, 24104\, United States
ATTACH;FMTTYPE=image/png:https://destinationbedfordva.com/wp-content/uploads/2021/06/Mitchells.png
END:VEVENT
BEGIN:VEVENT
DTSTART;TZID=America/New_York:20250615T130000
DTEND;TZID=America/New_York:20250615T170000
DTSTAMP:20260419T233839
CREATED:20250425T182522Z
LAST-MODIFIED:20250912T201550Z
UID:10059656-1749992400-1750006800@destinationbedfordva.com
SUMMARY:Live Music at Harvest Moon
DESCRIPTION:Come see live music at Harvest Moon Marketplace! Click here to see who is playing each week. \n\n\nEnjoy beer\, wine\, meads\, ciders\, and non-alcoholic drinks\, along with delicious food and great shopping at the Marketplace. Free admission and free music!
URL:https://destinationbedfordva.com/event/live-music-at-harvest-moon-7/2025-06-15/
LOCATION:Harvest Moon Marketplace\, 14917 Moneta Rd\, Moneta\, VA\, 24121\, United States
ATTACH;FMTTYPE=image/jpeg:https://destinationbedfordva.com/wp-content/uploads/2023/12/harvest-moon-logo.jpg
END:VEVENT
BEGIN:VEVENT
DTSTART;TZID=America/New_York:20250615T140000
DTEND;TZID=America/New_York:20250615T170000
DTSTAMP:20260419T233839
CREATED:20210426T153153Z
LAST-MODIFIED:20250828T183953Z
UID:10060189-1749996000-1750006800@destinationbedfordva.com
SUMMARY:Live Music at Drifter's
DESCRIPTION:Live music on the water front! Enjoy the beautiful Smith Mountain Lake\, great food and awesome music! Click here to see who is playing each week. 
URL:https://destinationbedfordva.com/event/live-music-at-drifters-4/2025-06-15/
LOCATION:Drifter’s\, 1617 Crystal Shores Drive\, Moneta\, VA\, 24121
ATTACH;FMTTYPE=image/jpeg:https://destinationbedfordva.com/wp-content/uploads/2021/04/live-music-at-drifters-2.jpg
END:VEVENT
END:VCALENDAR