BEGIN:VCALENDAR
VERSION:2.0
PRODID:-//Destination Bedford - ECPv6.8.3//NONSGML v1.0//EN
CALSCALE:GREGORIAN
METHOD:PUBLISH
X-ORIGINAL-URL:https://destinationbedfordva.com
X-WR-CALDESC:Events for Destination Bedford
REFRESH-INTERVAL;VALUE=DURATION:PT1H
X-Robots-Tag:noindex
X-PUBLISHED-TTL:PT1H
BEGIN:VTIMEZONE
TZID:America/New_York
BEGIN:DAYLIGHT
TZOFFSETFROM:-0500
TZOFFSETTO:-0400
TZNAME:EDT
DTSTART:20250309T070000
END:DAYLIGHT
BEGIN:STANDARD
TZOFFSETFROM:-0400
TZOFFSETTO:-0500
TZNAME:EST
DTSTART:20251102T060000
END:STANDARD
END:VTIMEZONE
BEGIN:VEVENT
DTSTART;TZID=America/New_York:20250620T110000
DTEND;TZID=America/New_York:20250620T150000
DTSTAMP:20260420T072453
CREATED:20250501T183754Z
LAST-MODIFIED:20250613T140132Z
UID:10059614-1750417200-1750431600@destinationbedfordva.com
SUMMARY:Bower Center Exhibit
DESCRIPTION:Beginning on May 6\, the Bower Center for the Arts will host a dual exhibit in their galleries.  \nThe Braaten Gallery will feature the works of Kaye Lipscomb in her exhibit titled “Inside/Out.”  Lipscomb was awarded Best in Show in our National Juried Paper Arts Exhibition in 2022.  \nIn the Terrace Gallery\, they will have the exhibit “Limited Edition.” These works were completed by artists who are members of the Bower Center family.  This includes studio artists\, staff members\, Bower Center instructors\, board members\, and committee members . \n  \nA reception for these exhibits will be held on Friday\, June 13 at 5:00pm.  It is open to the public.  As always\, admission to the galleries are free!
URL:https://destinationbedfordva.com/event/bower-center-exhibit-4/2025-06-20/
LOCATION:Bower Center for the Arts\, 309 North Bridge Street\, Bedford\, VA\, United States
ATTACH;FMTTYPE=image/jpeg:https://destinationbedfordva.com/wp-content/uploads/2025/04/Bower-Center-exhibit-may-2025.jpg
GEO:37.336317;-79.522795
X-APPLE-STRUCTURED-LOCATION;VALUE=URI;X-ADDRESS=Bower Center for the Arts 309 North Bridge Street Bedford VA United States;X-APPLE-RADIUS=500;X-TITLE=309 North Bridge Street:geo:-79.522795,37.336317
END:VEVENT
BEGIN:VEVENT
DTSTART;TZID=America/New_York:20250620T113000
DTEND;TZID=America/New_York:20250620T133000
DTSTAMP:20260420T072453
CREATED:20250527T183409Z
LAST-MODIFIED:20250527T183423Z
UID:10060135-1750419000-1750426200@destinationbedfordva.com
SUMMARY:Summer Solstice Tea at Avenel
DESCRIPTION:Visit Historic Avenel for Summer Solstice Tea! Enjoy delicious treats including scones\, crab dip\, brie\, glazed honey ham puffs\, deserts and much more!  \n$25 a person. Reservations are required by calling 540-816-9385.
URL:https://destinationbedfordva.com/event/summer-solstice-tea-at-avenel/
LOCATION:Historic Avenel\, 413 Avenel Avenue\, Bedford\, VA\, 24523\, United States
ATTACH;FMTTYPE=image/jpeg:https://destinationbedfordva.com/wp-content/uploads/2025/05/summer-tea.jpg
GEO:37.338447;-79.524547
X-APPLE-STRUCTURED-LOCATION;VALUE=URI;X-ADDRESS=Historic Avenel 413 Avenel Avenue Bedford VA 24523 United States;X-APPLE-RADIUS=500;X-TITLE=413 Avenel Avenue:geo:-79.524547,37.338447
END:VEVENT
BEGIN:VEVENT
DTSTART;TZID=America/New_York:20250620T160000
DTEND;TZID=America/New_York:20250620T180000
DTSTAMP:20260420T072453
CREATED:20250522T205900Z
LAST-MODIFIED:20250522T205900Z
UID:10060116-1750435200-1750442400@destinationbedfordva.com
SUMMARY:SML Songwriters Festival
DESCRIPTION:The official three day SML Songwriters Festival Kicks off on Friday.\n19 Songwriters from Nashville to Austin and local favorites\, will perform at various venues at Smith Mountain Lake on Friday and Saturday. The Grand Finale on Sunday will feature country music legend Ty Herndon.\nPlease click here for complete festival details. 
URL:https://destinationbedfordva.com/event/sml-songwriters-festival/
LOCATION:Portside Grill and Bar\, 3619 Airport Rd.\, Moneta\, VA\, 24121\, United States
ATTACH;FMTTYPE=image/jpeg:https://destinationbedfordva.com/wp-content/uploads/2025/05/sml-song-writers.jpg
END:VEVENT
BEGIN:VEVENT
DTSTART;TZID=America/New_York:20250620T170000
DTEND;TZID=America/New_York:20250620T190000
DTSTAMP:20260420T072453
CREATED:20250529T140004Z
LAST-MODIFIED:20250807T203312Z
UID:10060525-1750438800-1750446000@destinationbedfordva.com
SUMMARY:Live Music at Portside
DESCRIPTION:Come to Portside Grill & Bar right on Smith Mountain Lake\, for great food and live music! Click here to see who is playing! 
URL:https://destinationbedfordva.com/event/live-music-at-portside-5-2/2025-06-20/
LOCATION:Portside Grill and Bar\, 3619 Airport Rd.\, Moneta\, VA\, 24121\, United States
ATTACH;FMTTYPE=image/jpeg:https://destinationbedfordva.com/wp-content/uploads/2021/05/portside.jpg
END:VEVENT
BEGIN:VEVENT
DTSTART;TZID=America/New_York:20250620T180000
DTEND;TZID=America/New_York:20250620T220000
DTSTAMP:20260420T072453
CREATED:20250411T183224Z
LAST-MODIFIED:20250703T165922Z
UID:10059526-1750442400-1750456800@destinationbedfordva.com
SUMMARY:Forest Friday Cheers
DESCRIPTION: \nCome enjoy Forest Friday Cheers at Apocalypse Ale Works!\nKick back\, relax\, and enjoy a FREE family-friendly evening of live music\, food\, and fun every Friday! \n **Time:** 5:00 PM – 8:00 PM\n **Location:** Apocalypse Ale Works\nExpect:\n– **Live Music:** Click here to see who is playing each week!\n– **Bounce Zones:** Fun for the little ones with bouncy castles and kid-friendly activities.\n– **Beer & Refreshments:** Grab a cold one from Apocalypse Ale Works and enjoy their fantastic selection of local brews.\n– **Food by Bunker 42: Delicious eats to fuel your evening of fun and music.\n**All Ages Welcome** – Bring the whole family out for a night of great music\, tasty food\, and unforgettable memories.\n Let’s make this Friday a night to remember! See you at Apocalypse Ale Works! 
URL:https://destinationbedfordva.com/event/forest-friday-cheers-2/2025-06-20/
LOCATION:Apocalypse Ale Works\, 1257 Burnbridge Road\, Forest\, VA\, 24551\, United States
ATTACH;FMTTYPE=image/jpeg:https://destinationbedfordva.com/wp-content/uploads/2025/04/forest-fridays.jpg
GEO:37.3622178;-79.2877024
X-APPLE-STRUCTURED-LOCATION;VALUE=URI;X-ADDRESS=Apocalypse Ale Works 1257 Burnbridge Road Forest VA 24551 United States;X-APPLE-RADIUS=500;X-TITLE=1257 Burnbridge Road:geo:-79.2877024,37.3622178
END:VEVENT
END:VCALENDAR