BEGIN:VCALENDAR
VERSION:2.0
PRODID:-//Destination Bedford - ECPv6.8.3//NONSGML v1.0//EN
CALSCALE:GREGORIAN
METHOD:PUBLISH
X-ORIGINAL-URL:https://destinationbedfordva.com
X-WR-CALDESC:Events for Destination Bedford
REFRESH-INTERVAL;VALUE=DURATION:PT1H
X-Robots-Tag:noindex
X-PUBLISHED-TTL:PT1H
BEGIN:VTIMEZONE
TZID:America/New_York
BEGIN:DAYLIGHT
TZOFFSETFROM:-0500
TZOFFSETTO:-0400
TZNAME:EDT
DTSTART:20250309T070000
END:DAYLIGHT
BEGIN:STANDARD
TZOFFSETFROM:-0400
TZOFFSETTO:-0500
TZNAME:EST
DTSTART:20251102T060000
END:STANDARD
END:VTIMEZONE
BEGIN:VEVENT
DTSTART;TZID=America/New_York:20250621T090000
DTEND;TZID=America/New_York:20250621T120000
DTSTAMP:20260420T010733
CREATED:20250407T174251Z
LAST-MODIFIED:20251105T163921Z
UID:10061392-1750496400-1750507200@destinationbedfordva.com
SUMMARY:Forest Farmer's Market
DESCRIPTION:The Forest Farmer’s Market is held each Saturday morning behind the Forest Public Library.  The Market features farmers and artisans selling a variety of items including plants\, meats\, produce\, soaps\, lotions\, coffee\, baked goods and more!
URL:https://destinationbedfordva.com/event/forest-farmers-market-8-3/2025-06-21/
LOCATION:Forest Farmers Market\, 15583 Forest Road\, Forest\, VA\, 24523\, United States
ATTACH;FMTTYPE=image/jpeg:https://destinationbedfordva.com/wp-content/uploads/2024/05/Forest-FM.jpg
GEO:37.3649641;-79.2850156
X-APPLE-STRUCTURED-LOCATION;VALUE=URI;X-ADDRESS=Forest Farmers Market 15583 Forest Road Forest VA 24523 United States;X-APPLE-RADIUS=500;X-TITLE=15583 Forest Road:geo:-79.2850156,37.3649641
END:VEVENT
BEGIN:VEVENT
DTSTART;TZID=America/New_York:20250621T130000
DTEND;TZID=America/New_York:20250621T170000
DTSTAMP:20260420T010733
CREATED:20250425T182522Z
LAST-MODIFIED:20250912T201550Z
UID:10059657-1750510800-1750525200@destinationbedfordva.com
SUMMARY:Live Music at Harvest Moon
DESCRIPTION:Come see live music at Harvest Moon Marketplace! Click here to see who is playing each week. \n\n\nEnjoy beer\, wine\, meads\, ciders\, and non-alcoholic drinks\, along with delicious food and great shopping at the Marketplace. Free admission and free music!
URL:https://destinationbedfordva.com/event/live-music-at-harvest-moon-7/2025-06-21/
LOCATION:Harvest Moon Marketplace\, 14917 Moneta Rd\, Moneta\, VA\, 24121\, United States
ATTACH;FMTTYPE=image/jpeg:https://destinationbedfordva.com/wp-content/uploads/2023/12/harvest-moon-logo.jpg
END:VEVENT
BEGIN:VEVENT
DTSTART;TZID=America/New_York:20250621T130000
DTEND;TZID=America/New_York:20250621T190000
DTSTAMP:20260420T010733
CREATED:20250529T140144Z
LAST-MODIFIED:20250923T180614Z
UID:10060570-1750510800-1750532400@destinationbedfordva.com
SUMMARY:Live Music at Portside
DESCRIPTION:Come to Portside Grill & Bar right on Smith Mountain Lake\, for great food and live music! Click here to see who is playing! 
URL:https://destinationbedfordva.com/event/live-music-at-portside-6/2025-06-21/
LOCATION:Portside Grill and Bar\, 3619 Airport Rd.\, Moneta\, VA\, 24121\, United States
ATTACH;FMTTYPE=image/jpeg:https://destinationbedfordva.com/wp-content/uploads/2021/05/portside.jpg
END:VEVENT
BEGIN:VEVENT
DTSTART;TZID=America/New_York:20250621T140000
DTEND;TZID=America/New_York:20250621T170000
DTSTAMP:20260420T010733
CREATED:20210426T153153Z
LAST-MODIFIED:20250828T183953Z
UID:10060190-1750514400-1750525200@destinationbedfordva.com
SUMMARY:Live Music at Drifter's
DESCRIPTION:Live music on the water front! Enjoy the beautiful Smith Mountain Lake\, great food and awesome music! Click here to see who is playing each week. 
URL:https://destinationbedfordva.com/event/live-music-at-drifters-4/2025-06-21/
LOCATION:Drifter’s\, 1617 Crystal Shores Drive\, Moneta\, VA\, 24121
ATTACH;FMTTYPE=image/jpeg:https://destinationbedfordva.com/wp-content/uploads/2021/04/live-music-at-drifters-2.jpg
END:VEVENT
BEGIN:VEVENT
DTSTART;TZID=America/New_York:20250621T190000
DTEND;TZID=America/New_York:20250621T220000
DTSTAMP:20260420T010733
CREATED:20250521T171628Z
LAST-MODIFIED:20250724T141850Z
UID:10059229-1750532400-1750543200@destinationbedfordva.com
SUMMARY:Live Music at New London Ruritan Club
DESCRIPTION:This is a family friendly community dance with live entertainers!! $10/adult\, doors open at 6:30pm\, music 7-10pm. Please bring your own snacks and non-alcoholic beverages. Supported by Ruritan volunteers.
URL:https://destinationbedfordva.com/event/live-music-at-new-london-ruritan-club-2-2/2025-06-21/
LOCATION:New London Ruritan\, 12411 East Lynchburg Salem Turnpike\, Forest\, VA\, 24551\, United States
ATTACH;FMTTYPE=image/jpeg:https://destinationbedfordva.com/wp-content/uploads/2025/01/live-music-at-new-london.jpg
GEO:37.30493;-79.304666
X-APPLE-STRUCTURED-LOCATION;VALUE=URI;X-ADDRESS=New London Ruritan 12411 East Lynchburg Salem Turnpike Forest VA 24551 United States;X-APPLE-RADIUS=500;X-TITLE=12411 East Lynchburg Salem Turnpike:geo:-79.304666,37.30493
END:VEVENT
END:VCALENDAR