BEGIN:VCALENDAR
VERSION:2.0
PRODID:-//Destination Bedford - ECPv6.8.3//NONSGML v1.0//EN
CALSCALE:GREGORIAN
METHOD:PUBLISH
X-WR-CALNAME:Destination Bedford
X-ORIGINAL-URL:https://destinationbedfordva.com
X-WR-CALDESC:Events for Destination Bedford
REFRESH-INTERVAL;VALUE=DURATION:PT1H
X-Robots-Tag:noindex
X-PUBLISHED-TTL:PT1H
BEGIN:VTIMEZONE
TZID:America/New_York
BEGIN:DAYLIGHT
TZOFFSETFROM:-0500
TZOFFSETTO:-0400
TZNAME:EDT
DTSTART:20250309T070000
END:DAYLIGHT
BEGIN:STANDARD
TZOFFSETFROM:-0400
TZOFFSETTO:-0500
TZNAME:EST
DTSTART:20251102T060000
END:STANDARD
END:VTIMEZONE
BEGIN:VEVENT
DTSTART;TZID=America/New_York:20250713T110000
DTEND;TZID=America/New_York:20250713T113000
DTSTAMP:20260421T044504
CREATED:20250702T155029Z
LAST-MODIFIED:20250702T155029Z
UID:10060756-1752404400-1752406200@destinationbedfordva.com
SUMMARY:Plymouth Fife & Drum Corps
DESCRIPTION:Experience the performance of the Plymouth Fife and Drum Corps (PFDC)\, a Michigan-based youth-serving community organization dedicated to preserving the ancient arts of fifing\, drumming and color guard through live performances at parades\, historical and patriotic celebrations\, concerts\, cultural affairs and other civic events. Ranging in ages from 12–18\, the PFDC performs 40–50 times a year throughout the country. Their music spans the 17th to 20th centuries with an emphasis on music played during the Revolutionary War. The 10-pound\, red\, white and blue uniform currently worn by the Corps is a replica of George Washington’s personal Life Guard or foot soldiers (1776–1783). Performance begins at 11:00 a.m. and will last approximately 30 minutes. Please note the performance is included with general admission. Purchase your general admission tickets here. 
URL:https://destinationbedfordva.com/event/plymouth-fife-drum-corps/
LOCATION:Thomas Jefferson’s Poplar Forest\, 687 Poplar Forest Dr.\, Forest\, VA\, 24551\, United States
ATTACH;FMTTYPE=image/png:https://destinationbedfordva.com/wp-content/uploads/2025/07/drum-corps.png
GEO:37.3589053;-79.2680641
X-APPLE-STRUCTURED-LOCATION;VALUE=URI;X-ADDRESS=Thomas Jefferson’s Poplar Forest 687 Poplar Forest Dr. Forest VA 24551 United States;X-APPLE-RADIUS=500;X-TITLE=687 Poplar Forest Dr.:geo:-79.2680641,37.3589053
END:VEVENT
BEGIN:VEVENT
DTSTART;TZID=America/New_York:20250713T130000
DTEND;TZID=America/New_York:20250713T160000
DTSTAMP:20260421T044504
CREATED:20250530T203741Z
LAST-MODIFIED:20250905T175526Z
UID:10060679-1752411600-1752422400@destinationbedfordva.com
SUMMARY:Live Music @ Mitchell's
DESCRIPTION:Enjoy live music\, great food and the beautiful Smith Mountain Lake all in one place! Click here to see who is playing each week.
URL:https://destinationbedfordva.com/event/live-music-mitchells-18-2/2025-07-13/
LOCATION:Mitchell’s Resturant & Pizzeria\, 3553 Trading Post Rd\, Huddleston\, VA\, 24104\, United States
ATTACH;FMTTYPE=image/png:https://destinationbedfordva.com/wp-content/uploads/2021/06/Mitchells.png
END:VEVENT
BEGIN:VEVENT
DTSTART;TZID=America/New_York:20250713T130000
DTEND;TZID=America/New_York:20250713T170000
DTSTAMP:20260421T044504
CREATED:20250425T182522Z
LAST-MODIFIED:20250912T201550Z
UID:10059664-1752411600-1752426000@destinationbedfordva.com
SUMMARY:Live Music at Harvest Moon
DESCRIPTION:Come see live music at Harvest Moon Marketplace! Click here to see who is playing each week. \n\n\nEnjoy beer\, wine\, meads\, ciders\, and non-alcoholic drinks\, along with delicious food and great shopping at the Marketplace. Free admission and free music!
URL:https://destinationbedfordva.com/event/live-music-at-harvest-moon-7/2025-07-13/
LOCATION:Harvest Moon Marketplace\, 14917 Moneta Rd\, Moneta\, VA\, 24121\, United States
ATTACH;FMTTYPE=image/jpeg:https://destinationbedfordva.com/wp-content/uploads/2023/12/harvest-moon-logo.jpg
END:VEVENT
BEGIN:VEVENT
DTSTART;TZID=America/New_York:20250713T140000
DTEND;TZID=America/New_York:20250713T160000
DTSTAMP:20260421T044504
CREATED:20250630T193448Z
LAST-MODIFIED:20250709T174709Z
UID:10060750-1752415200-1752422400@destinationbedfordva.com
SUMMARY:Little Town Players “The Wizard of Oz"
DESCRIPTION:Little Town Players has been performing live community theatre in Bedford for more than 45 years! \nDon’t miss their latest musical “The Wizard of Oz.” \nPerformances are July 11\, 12\, 18 &  19 at 7:30pm \nSunday matinees –  July 13 & July 20 at 2:00pm \nDoors open 30 minutes before start time. \nSpecial Note: Because the theatre is a historical site\, restrooms are not in the same building. Restrooms are available just across the way in the Elks Home Main Building. \n\nClick here to purchase tickets. \n  \n  \n 
URL:https://destinationbedfordva.com/event/little-town-players-the-wizard-of-oz/2025-07-13/
LOCATION:Little Town Players\, 931 Ashland Avenue\, Bedford\, VA\, 24523\, United States
ATTACH;FMTTYPE=image/jpeg:https://destinationbedfordva.com/wp-content/uploads/2025/06/wizzard-of-OZ-e1752083040526.jpg
GEO:37.3434782;-79.5351962
X-APPLE-STRUCTURED-LOCATION;VALUE=URI;X-ADDRESS=Little Town Players 931 Ashland Avenue Bedford VA 24523 United States;X-APPLE-RADIUS=500;X-TITLE=931 Ashland Avenue:geo:-79.5351962,37.3434782
END:VEVENT
BEGIN:VEVENT
DTSTART;TZID=America/New_York:20250713T140000
DTEND;TZID=America/New_York:20250713T170000
DTSTAMP:20260421T044504
CREATED:20210426T153153Z
LAST-MODIFIED:20250828T183953Z
UID:10060197-1752415200-1752426000@destinationbedfordva.com
SUMMARY:Live Music at Drifter's
DESCRIPTION:Live music on the water front! Enjoy the beautiful Smith Mountain Lake\, great food and awesome music! Click here to see who is playing each week. 
URL:https://destinationbedfordva.com/event/live-music-at-drifters-4/2025-07-13/
LOCATION:Drifter’s\, 1617 Crystal Shores Drive\, Moneta\, VA\, 24121
ATTACH;FMTTYPE=image/jpeg:https://destinationbedfordva.com/wp-content/uploads/2021/04/live-music-at-drifters-2.jpg
END:VEVENT
END:VCALENDAR