BEGIN:VCALENDAR
VERSION:2.0
PRODID:-//Destination Bedford - ECPv6.8.3//NONSGML v1.0//EN
CALSCALE:GREGORIAN
METHOD:PUBLISH
X-ORIGINAL-URL:https://destinationbedfordva.com
X-WR-CALDESC:Events for Destination Bedford
REFRESH-INTERVAL;VALUE=DURATION:PT1H
X-Robots-Tag:noindex
X-PUBLISHED-TTL:PT1H
BEGIN:VTIMEZONE
TZID:America/New_York
BEGIN:DAYLIGHT
TZOFFSETFROM:-0500
TZOFFSETTO:-0400
TZNAME:EDT
DTSTART:20250309T070000
END:DAYLIGHT
BEGIN:STANDARD
TZOFFSETFROM:-0400
TZOFFSETTO:-0500
TZNAME:EST
DTSTART:20251102T060000
END:STANDARD
END:VTIMEZONE
BEGIN:VEVENT
DTSTART;TZID=America/New_York:20250714T090000
DTEND;TZID=America/New_York:20250714T180000
DTSTAMP:20260421T061920
CREATED:20240605T150109Z
LAST-MODIFIED:20250204T215317Z
UID:10059263-1752483600-1752516000@destinationbedfordva.com
SUMMARY:Peaks and Pieces Quilt Guild show
DESCRIPTION:This free event showcases Peaks and Pieces Quilt Guild members’ quilts with entries from modern art pieces to wearable quilts to large bed quilts.  Winners in each category\, as well as Best in Show\, are decided by Viewer’s Choice. The show is open during usual library hours\, MWF 9-6\, TTh 9-8\, and Saturday 10-6 except 7/19\, when the show closes at 4 pm. \n  \n 
URL:https://destinationbedfordva.com/event/peaks-and-pieces-quilt-guild-show-2-2/2025-07-14/
LOCATION:Bedford Public Library\, 305 North Bridge Street\, Bedford\, VA\, 24523\, United States
ATTACH;FMTTYPE=image/jpeg:https://destinationbedfordva.com/wp-content/uploads/2022/09/quilt-show-2023.jpg
GEO:37.3362531;-79.5228245
X-APPLE-STRUCTURED-LOCATION;VALUE=URI;X-ADDRESS=Bedford Public Library 305 North Bridge Street Bedford VA 24523 United States;X-APPLE-RADIUS=500;X-TITLE=305 North Bridge Street:geo:-79.5228245,37.3362531
END:VEVENT
BEGIN:VEVENT
DTSTART;TZID=America/New_York:20250714T213000
DTEND;TZID=America/New_York:20250714T213000
DTSTAMP:20260421T061920
CREATED:20250630T193448Z
LAST-MODIFIED:20250709T174709Z
UID:10060759-1752528600-1752528600@destinationbedfordva.com
SUMMARY:Little Town Players “The Wizard of Oz"
DESCRIPTION:Little Town Players has been performing live community theatre in Bedford for more than 45 years! \nDon’t miss their latest musical “The Wizard of Oz.” \nPerformances are July 11\, 12\, 18 &  19 at 7:30pm \nSunday matinees –  July 13 & July 20 at 2:00pm \nDoors open 30 minutes before start time. \nSpecial Note: Because the theatre is a historical site\, restrooms are not in the same building. Restrooms are available just across the way in the Elks Home Main Building. \n\nClick here to purchase tickets. \n  \n  \n 
URL:https://destinationbedfordva.com/event/little-town-players-the-wizard-of-oz/2025-07-14/
LOCATION:Little Town Players\, 931 Ashland Avenue\, Bedford\, VA\, 24523\, United States
ATTACH;FMTTYPE=image/jpeg:https://destinationbedfordva.com/wp-content/uploads/2025/06/wizzard-of-OZ-e1752083040526.jpg
GEO:37.3434782;-79.5351962
X-APPLE-STRUCTURED-LOCATION;VALUE=URI;X-ADDRESS=Little Town Players 931 Ashland Avenue Bedford VA 24523 United States;X-APPLE-RADIUS=500;X-TITLE=931 Ashland Avenue:geo:-79.5351962,37.3434782
END:VEVENT
END:VCALENDAR