BEGIN:VCALENDAR
VERSION:2.0
PRODID:-//Destination Bedford - ECPv6.8.3//NONSGML v1.0//EN
CALSCALE:GREGORIAN
METHOD:PUBLISH
X-ORIGINAL-URL:https://destinationbedfordva.com
X-WR-CALDESC:Events for Destination Bedford
REFRESH-INTERVAL;VALUE=DURATION:PT1H
X-Robots-Tag:noindex
X-PUBLISHED-TTL:PT1H
BEGIN:VTIMEZONE
TZID:America/New_York
BEGIN:DAYLIGHT
TZOFFSETFROM:-0500
TZOFFSETTO:-0400
TZNAME:EDT
DTSTART:20250309T070000
END:DAYLIGHT
BEGIN:STANDARD
TZOFFSETFROM:-0400
TZOFFSETTO:-0500
TZNAME:EST
DTSTART:20251102T060000
END:STANDARD
END:VTIMEZONE
BEGIN:VEVENT
DTSTART;TZID=America/New_York:20250715T090000
DTEND;TZID=America/New_York:20250715T200000
DTSTAMP:20260421T044912
CREATED:20240605T150109Z
LAST-MODIFIED:20250204T215317Z
UID:10059264-1752570000-1752609600@destinationbedfordva.com
SUMMARY:Peaks and Pieces Quilt Guild show
DESCRIPTION:This free event showcases Peaks and Pieces Quilt Guild members’ quilts with entries from modern art pieces to wearable quilts to large bed quilts.  Winners in each category\, as well as Best in Show\, are decided by Viewer’s Choice. The show is open during usual library hours\, MWF 9-6\, TTh 9-8\, and Saturday 10-6 except 7/19\, when the show closes at 4 pm. \n  \n 
URL:https://destinationbedfordva.com/event/peaks-and-pieces-quilt-guild-show-2-2/2025-07-15/
LOCATION:Bedford Public Library\, 305 North Bridge Street\, Bedford\, VA\, 24523\, United States
ATTACH;FMTTYPE=image/jpeg:https://destinationbedfordva.com/wp-content/uploads/2022/09/quilt-show-2023.jpg
GEO:37.3362531;-79.5228245
X-APPLE-STRUCTURED-LOCATION;VALUE=URI;X-ADDRESS=Bedford Public Library 305 North Bridge Street Bedford VA 24523 United States;X-APPLE-RADIUS=500;X-TITLE=305 North Bridge Street:geo:-79.5228245,37.3362531
END:VEVENT
BEGIN:VEVENT
DTSTART;TZID=America/New_York:20250715T110000
DTEND;TZID=America/New_York:20250715T150000
DTSTAMP:20260421T044912
CREATED:20250630T141124Z
LAST-MODIFIED:20250702T190954Z
UID:10060722-1752577200-1752591600@destinationbedfordva.com
SUMMARY:Bower Center Exhibit
DESCRIPTION:Beginning on June 24\, the Bower Center for the Arts will host the 4th Biennial Fiber Arts National Juried Exhibit. \nA reception and awards presentation will be held on Friday\, July 18th beginning at 5:00pm.   The public is invited to attend this free reception. It is open to the public.  As always\, admission to the galleries are free!
URL:https://destinationbedfordva.com/event/bower-center-exhibit-4-2/2025-07-15/
LOCATION:Bower Center for the Arts\, 309 North Bridge Street\, Bedford\, VA\, United States
ATTACH;FMTTYPE=image/png:https://destinationbedfordva.com/wp-content/uploads/2019/11/Bower-Center-for-the-Arts.png
GEO:37.336317;-79.522795
X-APPLE-STRUCTURED-LOCATION;VALUE=URI;X-ADDRESS=Bower Center for the Arts 309 North Bridge Street Bedford VA United States;X-APPLE-RADIUS=500;X-TITLE=309 North Bridge Street:geo:-79.522795,37.336317
END:VEVENT
END:VCALENDAR