BEGIN:VCALENDAR
VERSION:2.0
PRODID:-//Destination Bedford - ECPv6.8.3//NONSGML v1.0//EN
CALSCALE:GREGORIAN
METHOD:PUBLISH
X-WR-CALNAME:Destination Bedford
X-ORIGINAL-URL:https://destinationbedfordva.com
X-WR-CALDESC:Events for Destination Bedford
REFRESH-INTERVAL;VALUE=DURATION:PT1H
X-Robots-Tag:noindex
X-PUBLISHED-TTL:PT1H
BEGIN:VTIMEZONE
TZID:America/New_York
BEGIN:DAYLIGHT
TZOFFSETFROM:-0500
TZOFFSETTO:-0400
TZNAME:EDT
DTSTART:20250309T070000
END:DAYLIGHT
BEGIN:STANDARD
TZOFFSETFROM:-0400
TZOFFSETTO:-0500
TZNAME:EST
DTSTART:20251102T060000
END:STANDARD
END:VTIMEZONE
BEGIN:VEVENT
DTSTART;TZID=America/New_York:20250720T130000
DTEND;TZID=America/New_York:20250720T160000
DTSTAMP:20260421T133457
CREATED:20250530T203741Z
LAST-MODIFIED:20250905T175526Z
UID:10060680-1753016400-1753027200@destinationbedfordva.com
SUMMARY:Live Music @ Mitchell's
DESCRIPTION:Enjoy live music\, great food and the beautiful Smith Mountain Lake all in one place! Click here to see who is playing each week.
URL:https://destinationbedfordva.com/event/live-music-mitchells-18-2/2025-07-20/
LOCATION:Mitchell’s Resturant & Pizzeria\, 3553 Trading Post Rd\, Huddleston\, VA\, 24104\, United States
ATTACH;FMTTYPE=image/png:https://destinationbedfordva.com/wp-content/uploads/2021/06/Mitchells.png
END:VEVENT
BEGIN:VEVENT
DTSTART;TZID=America/New_York:20250720T130000
DTEND;TZID=America/New_York:20250720T170000
DTSTAMP:20260421T133457
CREATED:20250425T182522Z
LAST-MODIFIED:20250912T201550Z
UID:10059666-1753016400-1753030800@destinationbedfordva.com
SUMMARY:Live Music at Harvest Moon
DESCRIPTION:Come see live music at Harvest Moon Marketplace! Click here to see who is playing each week. \n\n\nEnjoy beer\, wine\, meads\, ciders\, and non-alcoholic drinks\, along with delicious food and great shopping at the Marketplace. Free admission and free music!
URL:https://destinationbedfordva.com/event/live-music-at-harvest-moon-7/2025-07-20/
LOCATION:Harvest Moon Marketplace\, 14917 Moneta Rd\, Moneta\, VA\, 24121\, United States
ATTACH;FMTTYPE=image/jpeg:https://destinationbedfordva.com/wp-content/uploads/2023/12/harvest-moon-logo.jpg
END:VEVENT
BEGIN:VEVENT
DTSTART;TZID=America/New_York:20250720T140000
DTEND;TZID=America/New_York:20250720T160000
DTSTAMP:20260421T133457
CREATED:20250630T193448Z
LAST-MODIFIED:20250709T174709Z
UID:10060754-1753020000-1753027200@destinationbedfordva.com
SUMMARY:Little Town Players “The Wizard of Oz"
DESCRIPTION:Little Town Players has been performing live community theatre in Bedford for more than 45 years! \nDon’t miss their latest musical “The Wizard of Oz.” \nPerformances are July 11\, 12\, 18 &  19 at 7:30pm \nSunday matinees –  July 13 & July 20 at 2:00pm \nDoors open 30 minutes before start time. \nSpecial Note: Because the theatre is a historical site\, restrooms are not in the same building. Restrooms are available just across the way in the Elks Home Main Building. \n\nClick here to purchase tickets. \n  \n  \n 
URL:https://destinationbedfordva.com/event/little-town-players-the-wizard-of-oz/2025-07-20/
LOCATION:Little Town Players\, 931 Ashland Avenue\, Bedford\, VA\, 24523\, United States
ATTACH;FMTTYPE=image/jpeg:https://destinationbedfordva.com/wp-content/uploads/2025/06/wizzard-of-OZ-e1752083040526.jpg
GEO:37.3434782;-79.5351962
X-APPLE-STRUCTURED-LOCATION;VALUE=URI;X-ADDRESS=Little Town Players 931 Ashland Avenue Bedford VA 24523 United States;X-APPLE-RADIUS=500;X-TITLE=931 Ashland Avenue:geo:-79.5351962,37.3434782
END:VEVENT
BEGIN:VEVENT
DTSTART;TZID=America/New_York:20250720T140000
DTEND;TZID=America/New_York:20250720T170000
DTSTAMP:20260421T133457
CREATED:20210426T153153Z
LAST-MODIFIED:20250828T183953Z
UID:10060199-1753020000-1753030800@destinationbedfordva.com
SUMMARY:Live Music at Drifter's
DESCRIPTION:Live music on the water front! Enjoy the beautiful Smith Mountain Lake\, great food and awesome music! Click here to see who is playing each week. 
URL:https://destinationbedfordva.com/event/live-music-at-drifters-4/2025-07-20/
LOCATION:Drifter’s\, 1617 Crystal Shores Drive\, Moneta\, VA\, 24121
ATTACH;FMTTYPE=image/jpeg:https://destinationbedfordva.com/wp-content/uploads/2021/04/live-music-at-drifters-2.jpg
END:VEVENT
END:VCALENDAR