BEGIN:VCALENDAR
VERSION:2.0
PRODID:-//Destination Bedford - ECPv6.8.3//NONSGML v1.0//EN
CALSCALE:GREGORIAN
METHOD:PUBLISH
X-WR-CALNAME:Destination Bedford
X-ORIGINAL-URL:https://destinationbedfordva.com
X-WR-CALDESC:Events for Destination Bedford
REFRESH-INTERVAL;VALUE=DURATION:PT1H
X-Robots-Tag:noindex
X-PUBLISHED-TTL:PT1H
BEGIN:VTIMEZONE
TZID:America/New_York
BEGIN:DAYLIGHT
TZOFFSETFROM:-0500
TZOFFSETTO:-0400
TZNAME:EDT
DTSTART:20250309T070000
END:DAYLIGHT
BEGIN:STANDARD
TZOFFSETFROM:-0400
TZOFFSETTO:-0500
TZNAME:EST
DTSTART:20251102T060000
END:STANDARD
END:VTIMEZONE
BEGIN:VEVENT
DTSTART;TZID=America/New_York:20250722T110000
DTEND;TZID=America/New_York:20250722T150000
DTSTAMP:20260421T030205
CREATED:20250630T141124Z
LAST-MODIFIED:20250702T190954Z
UID:10060727-1753182000-1753196400@destinationbedfordva.com
SUMMARY:Bower Center Exhibit
DESCRIPTION:Beginning on June 24\, the Bower Center for the Arts will host the 4th Biennial Fiber Arts National Juried Exhibit. \nA reception and awards presentation will be held on Friday\, July 18th beginning at 5:00pm.   The public is invited to attend this free reception. It is open to the public.  As always\, admission to the galleries are free!
URL:https://destinationbedfordva.com/event/bower-center-exhibit-4-2/2025-07-22/
LOCATION:Bower Center for the Arts\, 309 North Bridge Street\, Bedford\, VA\, United States
ATTACH;FMTTYPE=image/png:https://destinationbedfordva.com/wp-content/uploads/2019/11/Bower-Center-for-the-Arts.png
GEO:37.336317;-79.522795
X-APPLE-STRUCTURED-LOCATION;VALUE=URI;X-ADDRESS=Bower Center for the Arts 309 North Bridge Street Bedford VA United States;X-APPLE-RADIUS=500;X-TITLE=309 North Bridge Street:geo:-79.522795,37.336317
END:VEVENT
BEGIN:VEVENT
DTSTART;TZID=America/New_York:20250722T183000
DTEND;TZID=America/New_York:20250722T193000
DTSTAMP:20260421T030205
CREATED:20250721T135140Z
LAST-MODIFIED:20250721T135141Z
UID:10060120-1753209000-1753212600@destinationbedfordva.com
SUMMARY:Wander & Awe
DESCRIPTION:Come learn what tasty treats and healing properties nature can provide while you explore the original grocery store\, the great outdoors!\nWander: We will have a short intro into foraging safety and wildcrafting etiquette\, following by a short hike where we explore what edible & medicinal plants & fungi are in season!\nAwe: We will cover different resources\, tools\, ways to ID\, look-alikes\, various uses\, history\, and traditional practices regarding the plants & fungi. Plan on learning 10-15 different plants/Fungi each session.\nFamilies are encouraged and all ages are welcome! We will typically hiking less than 1 mile each session unless otherwise noted in the event discussion.\nMeetings will be every 4th Tuesday of the month. Sessions start at 6:30pm and will be at different locations throughout the season depending on what is growing so click here for updates. \n \n 
URL:https://destinationbedfordva.com/event/wander-awe-2-2/2025-07-22/
LOCATION:Falling Creek Park\, 1257 County Farm Road\, Bedford\, VA\, 24523\, United States
ATTACH;FMTTYPE=image/jpeg:https://destinationbedfordva.com/wp-content/uploads/2025/04/Wander-Awe.jpg
GEO:37.305294;-79.501901
X-APPLE-STRUCTURED-LOCATION;VALUE=URI;X-ADDRESS=Falling Creek Park 1257 County Farm Road Bedford VA 24523 United States;X-APPLE-RADIUS=500;X-TITLE=1257 County Farm Road:geo:-79.501901,37.305294
END:VEVENT
END:VCALENDAR