BEGIN:VCALENDAR
VERSION:2.0
PRODID:-//Destination Bedford - ECPv6.8.3//NONSGML v1.0//EN
CALSCALE:GREGORIAN
METHOD:PUBLISH
X-ORIGINAL-URL:https://destinationbedfordva.com
X-WR-CALDESC:Events for Destination Bedford
REFRESH-INTERVAL;VALUE=DURATION:PT1H
X-Robots-Tag:noindex
X-PUBLISHED-TTL:PT1H
BEGIN:VTIMEZONE
TZID:America/New_York
BEGIN:DAYLIGHT
TZOFFSETFROM:-0500
TZOFFSETTO:-0400
TZNAME:EDT
DTSTART:20250309T070000
END:DAYLIGHT
BEGIN:STANDARD
TZOFFSETFROM:-0400
TZOFFSETTO:-0500
TZNAME:EST
DTSTART:20251102T060000
END:STANDARD
END:VTIMEZONE
BEGIN:VEVENT
DTSTART;TZID=America/New_York:20250725T110000
DTEND;TZID=America/New_York:20250725T150000
DTSTAMP:20260420T130649
CREATED:20250630T141124Z
LAST-MODIFIED:20250702T190954Z
UID:10060730-1753441200-1753455600@destinationbedfordva.com
SUMMARY:Bower Center Exhibit
DESCRIPTION:Beginning on June 24\, the Bower Center for the Arts will host the 4th Biennial Fiber Arts National Juried Exhibit. \nA reception and awards presentation will be held on Friday\, July 18th beginning at 5:00pm.   The public is invited to attend this free reception. It is open to the public.  As always\, admission to the galleries are free!
URL:https://destinationbedfordva.com/event/bower-center-exhibit-4-2/2025-07-25/
LOCATION:Bower Center for the Arts\, 309 North Bridge Street\, Bedford\, VA\, United States
ATTACH;FMTTYPE=image/png:https://destinationbedfordva.com/wp-content/uploads/2019/11/Bower-Center-for-the-Arts.png
GEO:37.336317;-79.522795
X-APPLE-STRUCTURED-LOCATION;VALUE=URI;X-ADDRESS=Bower Center for the Arts 309 North Bridge Street Bedford VA United States;X-APPLE-RADIUS=500;X-TITLE=309 North Bridge Street:geo:-79.522795,37.336317
END:VEVENT
BEGIN:VEVENT
DTSTART;TZID=America/New_York:20250725T133000
DTEND;TZID=America/New_York:20250725T150000
DTSTAMP:20260420T130649
CREATED:20250722T161614Z
LAST-MODIFIED:20250722T161614Z
UID:10060771-1753450200-1753455600@destinationbedfordva.com
SUMMARY:Friday Field Days with Poplar Forest Archaeology
DESCRIPTION:Join Poplar Forest’s Department of Archaeology and Landscapes every Friday at 1:30 PM through November 21 for an in-depth look into their current excavations and what they are learning about the people who lived in and around the 1857 Slave Dwelling. While the 1857 Slave Dwelling was built after Jefferson’s lifetime\, it is historically important as it is the only original dwelling built for enslaved people still standing on the property. As part of the 1857 Slave Dwelling Restoration Project’s efforts to stabilize\, research\, and restore this structure with the community\, we invite you to visit our archaeologists to see what they are finding and learning about the people who lived here. \nFriday Field Days are included with regular admission which can be purchased in advance here. Admission to the property includes either a docent-guided or self-guided tour of Jefferson’s retreat home\, access to exhibits in the lower level and wing of offices of the villa retreat\, and outdoor exhibits throughout the property.
URL:https://destinationbedfordva.com/event/friday-field-days-with-poplar-forest-archaeology/2025-07-25/
LOCATION:Thomas Jefferson’s Poplar Forest\, 687 Poplar Forest Dr.\, Forest\, VA\, 24551\, United States
ATTACH;FMTTYPE=image/jpeg:https://destinationbedfordva.com/wp-content/uploads/2022/06/poplar-forest-4th-july.jpg
GEO:37.3589053;-79.2680641
X-APPLE-STRUCTURED-LOCATION;VALUE=URI;X-ADDRESS=Thomas Jefferson’s Poplar Forest 687 Poplar Forest Dr. Forest VA 24551 United States;X-APPLE-RADIUS=500;X-TITLE=687 Poplar Forest Dr.:geo:-79.2680641,37.3589053
END:VEVENT
BEGIN:VEVENT
DTSTART;TZID=America/New_York:20250725T170000
DTEND;TZID=America/New_York:20250725T190000
DTSTAMP:20260420T130649
CREATED:20250529T140004Z
LAST-MODIFIED:20250807T203312Z
UID:10060530-1753462800-1753470000@destinationbedfordva.com
SUMMARY:Live Music at Portside
DESCRIPTION:Come to Portside Grill & Bar right on Smith Mountain Lake\, for great food and live music! Click here to see who is playing! 
URL:https://destinationbedfordva.com/event/live-music-at-portside-5-2/2025-07-25/
LOCATION:Portside Grill and Bar\, 3619 Airport Rd.\, Moneta\, VA\, 24121\, United States
ATTACH;FMTTYPE=image/jpeg:https://destinationbedfordva.com/wp-content/uploads/2021/05/portside.jpg
END:VEVENT
BEGIN:VEVENT
DTSTART;TZID=America/New_York:20250725T180000
DTEND;TZID=America/New_York:20250725T220000
DTSTAMP:20260420T130649
CREATED:20250411T183224Z
LAST-MODIFIED:20250703T165922Z
UID:10059531-1753466400-1753480800@destinationbedfordva.com
SUMMARY:Forest Friday Cheers
DESCRIPTION: \nCome enjoy Forest Friday Cheers at Apocalypse Ale Works!\nKick back\, relax\, and enjoy a FREE family-friendly evening of live music\, food\, and fun every Friday! \n **Time:** 5:00 PM – 8:00 PM\n **Location:** Apocalypse Ale Works\nExpect:\n– **Live Music:** Click here to see who is playing each week!\n– **Bounce Zones:** Fun for the little ones with bouncy castles and kid-friendly activities.\n– **Beer & Refreshments:** Grab a cold one from Apocalypse Ale Works and enjoy their fantastic selection of local brews.\n– **Food by Bunker 42: Delicious eats to fuel your evening of fun and music.\n**All Ages Welcome** – Bring the whole family out for a night of great music\, tasty food\, and unforgettable memories.\n Let’s make this Friday a night to remember! See you at Apocalypse Ale Works! 
URL:https://destinationbedfordva.com/event/forest-friday-cheers-2/2025-07-25/
LOCATION:Apocalypse Ale Works\, 1257 Burnbridge Road\, Forest\, VA\, 24551\, United States
ATTACH;FMTTYPE=image/jpeg:https://destinationbedfordva.com/wp-content/uploads/2025/04/forest-fridays.jpg
GEO:37.3622178;-79.2877024
X-APPLE-STRUCTURED-LOCATION;VALUE=URI;X-ADDRESS=Apocalypse Ale Works 1257 Burnbridge Road Forest VA 24551 United States;X-APPLE-RADIUS=500;X-TITLE=1257 Burnbridge Road:geo:-79.2877024,37.3622178
END:VEVENT
END:VCALENDAR