BEGIN:VCALENDAR
VERSION:2.0
PRODID:-//Destination Bedford - ECPv6.8.3//NONSGML v1.0//EN
CALSCALE:GREGORIAN
METHOD:PUBLISH
X-WR-CALNAME:Destination Bedford
X-ORIGINAL-URL:https://destinationbedfordva.com
X-WR-CALDESC:Events for Destination Bedford
REFRESH-INTERVAL;VALUE=DURATION:PT1H
X-Robots-Tag:noindex
X-PUBLISHED-TTL:PT1H
BEGIN:VTIMEZONE
TZID:America/New_York
BEGIN:DAYLIGHT
TZOFFSETFROM:-0500
TZOFFSETTO:-0400
TZNAME:EDT
DTSTART:20250309T070000
END:DAYLIGHT
BEGIN:STANDARD
TZOFFSETFROM:-0400
TZOFFSETTO:-0500
TZNAME:EST
DTSTART:20251102T060000
END:STANDARD
END:VTIMEZONE
BEGIN:VEVENT
DTSTART;TZID=America/New_York:20250730T110000
DTEND;TZID=America/New_York:20250730T150000
DTSTAMP:20260419T215919
CREATED:20250630T141124Z
LAST-MODIFIED:20250702T190954Z
UID:10060733-1753873200-1753887600@destinationbedfordva.com
SUMMARY:Bower Center Exhibit
DESCRIPTION:Beginning on June 24\, the Bower Center for the Arts will host the 4th Biennial Fiber Arts National Juried Exhibit. \nA reception and awards presentation will be held on Friday\, July 18th beginning at 5:00pm.   The public is invited to attend this free reception. It is open to the public.  As always\, admission to the galleries are free!
URL:https://destinationbedfordva.com/event/bower-center-exhibit-4-2/2025-07-30/
LOCATION:Bower Center for the Arts\, 309 North Bridge Street\, Bedford\, VA\, United States
ATTACH;FMTTYPE=image/png:https://destinationbedfordva.com/wp-content/uploads/2019/11/Bower-Center-for-the-Arts.png
GEO:37.336317;-79.522795
X-APPLE-STRUCTURED-LOCATION;VALUE=URI;X-ADDRESS=Bower Center for the Arts 309 North Bridge Street Bedford VA United States;X-APPLE-RADIUS=500;X-TITLE=309 North Bridge Street:geo:-79.522795,37.336317
END:VEVENT
BEGIN:VEVENT
DTSTART;TZID=America/New_York:20250730T150000
DTEND;TZID=America/New_York:20250730T180000
DTSTAMP:20260419T215919
CREATED:20250522T141029Z
LAST-MODIFIED:20250522T141229Z
UID:10059723-1753887600-1753898400@destinationbedfordva.com
SUMMARY:Moneta Farmer's Market
DESCRIPTION:The Moneta Farmer’s Market is open Wednesdays 3 to 6pm next to the Moneta Library. The market is producer only – fresh fruit\, vegetables\, meat\, eggs (duck and chicken)\, bread\, jams\, jellies\, and features local artisans. 
URL:https://destinationbedfordva.com/event/moneta-farmers-market-2/2025-07-30/
LOCATION:Moneta Farmer’s Market\, 13641 Moneta Road\, Moneta\, VA\, 24121
ATTACH;FMTTYPE=image/jpeg:https://destinationbedfordva.com/wp-content/uploads/2023/06/Moneta-FM.jpg
END:VEVENT
BEGIN:VEVENT
DTSTART;TZID=America/New_York:20250730T190000
DTEND;TZID=America/New_York:20250730T210000
DTSTAMP:20260419T215919
CREATED:20250110T211445Z
LAST-MODIFIED:20250813T150841Z
UID:10059064-1753902000-1753909200@destinationbedfordva.com
SUMMARY:Apocalypse Trivia Night
DESCRIPTION:Every week there will be a wide range of categories to enjoy while also drinking your favorite beer or seltzer water! \n 
URL:https://destinationbedfordva.com/event/apocalypse-trivia-night-2/2025-07-30/
LOCATION:Apocalypse Ale Works\, 1257 Burnbridge Road\, Forest\, VA\, 24551\, United States
ATTACH;FMTTYPE=image/jpeg:https://destinationbedfordva.com/wp-content/uploads/2025/01/trivia-night-2025.jpg
GEO:37.3622178;-79.2877024
X-APPLE-STRUCTURED-LOCATION;VALUE=URI;X-ADDRESS=Apocalypse Ale Works 1257 Burnbridge Road Forest VA 24551 United States;X-APPLE-RADIUS=500;X-TITLE=1257 Burnbridge Road:geo:-79.2877024,37.3622178
END:VEVENT
END:VCALENDAR