BEGIN:VCALENDAR
VERSION:2.0
PRODID:-//Destination Bedford - ECPv6.8.3//NONSGML v1.0//EN
CALSCALE:GREGORIAN
METHOD:PUBLISH
X-WR-CALNAME:Destination Bedford
X-ORIGINAL-URL:https://destinationbedfordva.com
X-WR-CALDESC:Events for Destination Bedford
REFRESH-INTERVAL;VALUE=DURATION:PT1H
X-Robots-Tag:noindex
X-PUBLISHED-TTL:PT1H
BEGIN:VTIMEZONE
TZID:America/New_York
BEGIN:DAYLIGHT
TZOFFSETFROM:-0500
TZOFFSETTO:-0400
TZNAME:EDT
DTSTART:20250309T070000
END:DAYLIGHT
BEGIN:STANDARD
TZOFFSETFROM:-0400
TZOFFSETTO:-0500
TZNAME:EST
DTSTART:20251102T060000
END:STANDARD
END:VTIMEZONE
BEGIN:VEVENT
DTSTART;TZID=America/New_York:20250801T110000
DTEND;TZID=America/New_York:20250801T150000
DTSTAMP:20260419T184645
CREATED:20250630T141124Z
LAST-MODIFIED:20250702T190954Z
UID:10060735-1754046000-1754060400@destinationbedfordva.com
SUMMARY:Bower Center Exhibit
DESCRIPTION:Beginning on June 24\, the Bower Center for the Arts will host the 4th Biennial Fiber Arts National Juried Exhibit. \nA reception and awards presentation will be held on Friday\, July 18th beginning at 5:00pm.   The public is invited to attend this free reception. It is open to the public.  As always\, admission to the galleries are free!
URL:https://destinationbedfordva.com/event/bower-center-exhibit-4-2/2025-08-01/
LOCATION:Bower Center for the Arts\, 309 North Bridge Street\, Bedford\, VA\, United States
ATTACH;FMTTYPE=image/png:https://destinationbedfordva.com/wp-content/uploads/2019/11/Bower-Center-for-the-Arts.png
GEO:37.336317;-79.522795
X-APPLE-STRUCTURED-LOCATION;VALUE=URI;X-ADDRESS=Bower Center for the Arts 309 North Bridge Street Bedford VA United States;X-APPLE-RADIUS=500;X-TITLE=309 North Bridge Street:geo:-79.522795,37.336317
END:VEVENT
BEGIN:VEVENT
DTSTART;TZID=America/New_York:20250801T133000
DTEND;TZID=America/New_York:20250801T150000
DTSTAMP:20260419T184645
CREATED:20250722T161614Z
LAST-MODIFIED:20250722T161614Z
UID:10060772-1754055000-1754060400@destinationbedfordva.com
SUMMARY:Friday Field Days with Poplar Forest Archaeology
DESCRIPTION:Join Poplar Forest’s Department of Archaeology and Landscapes every Friday at 1:30 PM through November 21 for an in-depth look into their current excavations and what they are learning about the people who lived in and around the 1857 Slave Dwelling. While the 1857 Slave Dwelling was built after Jefferson’s lifetime\, it is historically important as it is the only original dwelling built for enslaved people still standing on the property. As part of the 1857 Slave Dwelling Restoration Project’s efforts to stabilize\, research\, and restore this structure with the community\, we invite you to visit our archaeologists to see what they are finding and learning about the people who lived here. \nFriday Field Days are included with regular admission which can be purchased in advance here. Admission to the property includes either a docent-guided or self-guided tour of Jefferson’s retreat home\, access to exhibits in the lower level and wing of offices of the villa retreat\, and outdoor exhibits throughout the property.
URL:https://destinationbedfordva.com/event/friday-field-days-with-poplar-forest-archaeology/2025-08-01/
LOCATION:Thomas Jefferson’s Poplar Forest\, 687 Poplar Forest Dr.\, Forest\, VA\, 24551\, United States
ATTACH;FMTTYPE=image/jpeg:https://destinationbedfordva.com/wp-content/uploads/2022/06/poplar-forest-4th-july.jpg
GEO:37.3589053;-79.2680641
X-APPLE-STRUCTURED-LOCATION;VALUE=URI;X-ADDRESS=Thomas Jefferson’s Poplar Forest 687 Poplar Forest Dr. Forest VA 24551 United States;X-APPLE-RADIUS=500;X-TITLE=687 Poplar Forest Dr.:geo:-79.2680641,37.3589053
END:VEVENT
BEGIN:VEVENT
DTSTART;TZID=America/New_York:20250801T163000
DTEND;TZID=America/New_York:20250801T210000
DTSTAMP:20260419T184645
CREATED:20250528T210332Z
LAST-MODIFIED:20250528T210332Z
UID:10060181-1754065800-1754082000@destinationbedfordva.com
SUMMARY:Wine\, Balloons & Tunes
DESCRIPTION:This exciting 2 day event will feature a balloon glow\, tethered rides\, chartered flights\, vendor fair\, live music\, kid activities\, and much more!\nFriday night the Balloons will create an extraordinary scene as they fire up and “glow” just after sunset! Come see the balloons\, take photos\, and enjoy other attractions such as a vendor fair\, live music\, and enjoy our Jump Pad and other activities for kids!\nLive music will be on our big concert stage! Enjoy food trucks and all kinds of beverages! A vendor fair will be available for your shopping pleasure. Grape Crusher Monster Ride Truck will be thrilling riders. Come meet the pilots and check out their balloons or take a tethered balloon ride! A limited number of charter balloon flights will be available. This event will go until 9pm with balloons scheduled for either a glow or flight late in the day (weather permitting).\n\nAdvance tickets are recommended and can be found here. Day of ticket sales available only if the event is not sold out\, and will be cash only. \n\n 
URL:https://destinationbedfordva.com/event/wine-balloons-tunes-2/2025-08-01/
LOCATION:Wind Vineyards\, 15772 Moneta Road\, Moneta
ATTACH;FMTTYPE=image/jpeg:https://destinationbedfordva.com/wp-content/uploads/2025/05/Balloon-festival.jpg
END:VEVENT
BEGIN:VEVENT
DTSTART;TZID=America/New_York:20250801T170000
DTEND;TZID=America/New_York:20250801T190000
DTSTAMP:20260419T184645
CREATED:20250529T140004Z
LAST-MODIFIED:20250807T203312Z
UID:10060531-1754067600-1754074800@destinationbedfordva.com
SUMMARY:Live Music at Portside
DESCRIPTION:Come to Portside Grill & Bar right on Smith Mountain Lake\, for great food and live music! Click here to see who is playing! 
URL:https://destinationbedfordva.com/event/live-music-at-portside-5-2/2025-08-01/
LOCATION:Portside Grill and Bar\, 3619 Airport Rd.\, Moneta\, VA\, 24121\, United States
ATTACH;FMTTYPE=image/jpeg:https://destinationbedfordva.com/wp-content/uploads/2021/05/portside.jpg
END:VEVENT
BEGIN:VEVENT
DTSTART;TZID=America/New_York:20250801T180000
DTEND;TZID=America/New_York:20250801T210000
DTSTAMP:20260419T184645
CREATED:20250331T135000Z
LAST-MODIFIED:20250522T192114Z
UID:10054924-1754071200-1754082000@destinationbedfordva.com
SUMMARY:Live Music @ Mitchell's
DESCRIPTION:Enjoy live music\, great food and the beautiful Smith Mountain Lake all in one place! Click here to see who is playing each week.
URL:https://destinationbedfordva.com/event/live-music-mitchells-17-2-2/2025-08-01/
LOCATION:Mitchell’s Resturant & Pizzeria\, 3553 Trading Post Rd\, Huddleston\, VA\, 24104\, United States
ATTACH;FMTTYPE=image/png:https://destinationbedfordva.com/wp-content/uploads/2021/06/Mitchells.png
END:VEVENT
END:VCALENDAR