BEGIN:VCALENDAR
VERSION:2.0
PRODID:-//Destination Bedford - ECPv6.8.3//NONSGML v1.0//EN
CALSCALE:GREGORIAN
METHOD:PUBLISH
X-WR-CALNAME:Destination Bedford
X-ORIGINAL-URL:https://destinationbedfordva.com
X-WR-CALDESC:Events for Destination Bedford
REFRESH-INTERVAL;VALUE=DURATION:PT1H
X-Robots-Tag:noindex
X-PUBLISHED-TTL:PT1H
BEGIN:VTIMEZONE
TZID:America/New_York
BEGIN:DAYLIGHT
TZOFFSETFROM:-0500
TZOFFSETTO:-0400
TZNAME:EDT
DTSTART:20250309T070000
END:DAYLIGHT
BEGIN:STANDARD
TZOFFSETFROM:-0400
TZOFFSETTO:-0500
TZNAME:EST
DTSTART:20251102T060000
END:STANDARD
END:VTIMEZONE
BEGIN:VEVENT
DTSTART;TZID=America/New_York:20250908T100000
DTEND;TZID=America/New_York:20250908T170000
DTSTAMP:20260420T010031
CREATED:20250808T150254Z
LAST-MODIFIED:20250808T150322Z
UID:10060900-1757325600-1757350800@destinationbedfordva.com
SUMMARY:Poppy Peace Garden Display
DESCRIPTION:Each September the Memorial marks the official end of World War II with the Poppy Peace Garden. To pay remembrance\, the Memorial will place thousands of red poppies alongside the sculpture\, Le Monument Aux Morts as a visual tribute to the men and women who gave their all to preserve the freedoms we enjoy today. \nThe poppies will be on display September 2-11\, 2025. \nTo learn more about this program or to purchase a poppy\, please visit https://www.dday.org/poppy-garden/.
URL:https://destinationbedfordva.com/event/poppy-peace-garden-display-2021-09-12-2-2-2/2025-09-08/
LOCATION:National D-Day Memorial\, 3 Overlord Circle\, Bedford\, VA\, United States
ATTACH;FMTTYPE=image/jpeg:https://destinationbedfordva.com/wp-content/uploads/2021/08/poppy-2022.jpg
GEO:37.3277294;-79.5346964
X-APPLE-STRUCTURED-LOCATION;VALUE=URI;X-ADDRESS=National D-Day Memorial 3 Overlord Circle Bedford VA United States;X-APPLE-RADIUS=500;X-TITLE=3 Overlord Circle:geo:-79.5346964,37.3277294
END:VEVENT
END:VCALENDAR