BEGIN:VCALENDAR
VERSION:2.0
PRODID:-//Destination Bedford - ECPv6.8.3//NONSGML v1.0//EN
CALSCALE:GREGORIAN
METHOD:PUBLISH
X-WR-CALNAME:Destination Bedford
X-ORIGINAL-URL:https://destinationbedfordva.com
X-WR-CALDESC:Events for Destination Bedford
REFRESH-INTERVAL;VALUE=DURATION:PT1H
X-Robots-Tag:noindex
X-PUBLISHED-TTL:PT1H
BEGIN:VTIMEZONE
TZID:America/New_York
BEGIN:DAYLIGHT
TZOFFSETFROM:-0500
TZOFFSETTO:-0400
TZNAME:EDT
DTSTART:20250309T070000
END:DAYLIGHT
BEGIN:STANDARD
TZOFFSETFROM:-0400
TZOFFSETTO:-0500
TZNAME:EST
DTSTART:20251102T060000
END:STANDARD
END:VTIMEZONE
BEGIN:VEVENT
DTSTART;TZID=America/New_York:20250911T100000
DTEND;TZID=America/New_York:20250911T170000
DTSTAMP:20260420T130418
CREATED:20250808T150254Z
LAST-MODIFIED:20250808T150322Z
UID:10060903-1757584800-1757610000@destinationbedfordva.com
SUMMARY:Poppy Peace Garden Display
DESCRIPTION:Each September the Memorial marks the official end of World War II with the Poppy Peace Garden. To pay remembrance\, the Memorial will place thousands of red poppies alongside the sculpture\, Le Monument Aux Morts as a visual tribute to the men and women who gave their all to preserve the freedoms we enjoy today. \nThe poppies will be on display September 2-11\, 2025. \nTo learn more about this program or to purchase a poppy\, please visit https://www.dday.org/poppy-garden/.
URL:https://destinationbedfordva.com/event/poppy-peace-garden-display-2021-09-12-2-2-2/2025-09-11/
LOCATION:National D-Day Memorial\, 3 Overlord Circle\, Bedford\, VA\, United States
ATTACH;FMTTYPE=image/jpeg:https://destinationbedfordva.com/wp-content/uploads/2021/08/poppy-2022.jpg
GEO:37.3277294;-79.5346964
X-APPLE-STRUCTURED-LOCATION;VALUE=URI;X-ADDRESS=National D-Day Memorial 3 Overlord Circle Bedford VA United States;X-APPLE-RADIUS=500;X-TITLE=3 Overlord Circle:geo:-79.5346964,37.3277294
END:VEVENT
BEGIN:VEVENT
DTSTART;TZID=America/New_York:20250911T110000
DTEND;TZID=America/New_York:20250911T113000
DTSTAMP:20260420T130418
CREATED:20250808T150931Z
LAST-MODIFIED:20250808T150931Z
UID:10060904-1757588400-1757590200@destinationbedfordva.com
SUMMARY:Patriot Day Wreath Laying
DESCRIPTION:The National D-Day Memorial and the Bedford Fire Department will remember the September 11\, 2001 attacks with an annual wreath laying and remarks. \nRegular admission fees apply. 
URL:https://destinationbedfordva.com/event/patriot-day-wreath-laying-2/
LOCATION:National D-Day Memorial\, 3 Overlord Circle\, Bedford\, VA\, 24523\, United States
ATTACH;FMTTYPE=image/jpeg:https://destinationbedfordva.com/wp-content/uploads/2019/06/awe-inspiring-d-day-memorial.jpg
GEO:37.3277294;-79.5346964
X-APPLE-STRUCTURED-LOCATION;VALUE=URI;X-ADDRESS=National D-Day Memorial 3 Overlord Circle Bedford VA 24523 United States;X-APPLE-RADIUS=500;X-TITLE=3 Overlord Circle:geo:-79.5346964,37.3277294
END:VEVENT
BEGIN:VEVENT
DTSTART;TZID=America/New_York:20250911T110000
DTEND;TZID=America/New_York:20250911T150000
DTSTAMP:20260420T130418
CREATED:20250813T175302Z
LAST-MODIFIED:20250825T180159Z
UID:10060984-1757588400-1757602800@destinationbedfordva.com
SUMMARY:Bower Center Exhibit
DESCRIPTION:In the Braaten Gallery\, view the works by Elaine Fleck. The reception for the exhibit will be September 12 at 5pm and is free and open to the public. \nIn the Terrace Gallery\, the exhibit “Embracing the Unexpected with Fabric\, Dye and Stich” will be presented. \n Gallery admission to view the exhibits is free! \nThe Bower Center is open Tuesday – Saturday\, 11 a.m. – 3 p.m.
URL:https://destinationbedfordva.com/event/bower-center-exhibit-4-2-2/2025-09-11/
LOCATION:Bower Center for the Arts\, 309 North Bridge Street\, Bedford\, VA\, United States
ATTACH;FMTTYPE=image/png:https://destinationbedfordva.com/wp-content/uploads/2019/11/Bower-Center-for-the-Arts.png
GEO:37.336317;-79.522795
X-APPLE-STRUCTURED-LOCATION;VALUE=URI;X-ADDRESS=Bower Center for the Arts 309 North Bridge Street Bedford VA United States;X-APPLE-RADIUS=500;X-TITLE=309 North Bridge Street:geo:-79.522795,37.336317
END:VEVENT
BEGIN:VEVENT
DTSTART;TZID=America/New_York:20250911T110000
DTEND;TZID=America/New_York:20250911T150000
DTSTAMP:20260420T130418
CREATED:20250924T132402Z
LAST-MODIFIED:20250924T132451Z
UID:10061119-1757588400-1757602800@destinationbedfordva.com
SUMMARY:Bower Center Exhbit
DESCRIPTION:Come to the Bower Center for the Arts for the 13th Annual National Juried Exhibition! \nGallery admission is free.  Click here for more information.  \nAwards Reception for this exhibit will be the night of October 24th. 
URL:https://destinationbedfordva.com/event/bower-center-exhbit-3/2025-09-11/
LOCATION:Bower Center for the Arts\, 309 North Bridge Street\, Bedford\, VA\, United States
ATTACH;FMTTYPE=image/jpeg:https://destinationbedfordva.com/wp-content/uploads/2020/09/bower-5.jpg
GEO:37.336317;-79.522795
X-APPLE-STRUCTURED-LOCATION;VALUE=URI;X-ADDRESS=Bower Center for the Arts 309 North Bridge Street Bedford VA United States;X-APPLE-RADIUS=500;X-TITLE=309 North Bridge Street:geo:-79.522795,37.336317
END:VEVENT
BEGIN:VEVENT
DTSTART;TZID=America/New_York:20250911T190000
DTEND;TZID=America/New_York:20250911T210000
DTSTAMP:20260420T130418
CREATED:20250813T151425Z
LAST-MODIFIED:20250813T151425Z
UID:10060917-1757617200-1757624400@destinationbedfordva.com
SUMMARY:Music Bingo
DESCRIPTION:This is where the fun of bingo meets the excitement of your favorite tunes! Each round features hit songs across various genres\, and you’ll mark your card to the beat. Win the coveted Music Bingo chain\, gift cards\, and of course\, ultimate bragging rights! It’s a lively and unique way to enjoy great music\, compete with friends\, and score awesome prizes. Don’t miss the fun!
URL:https://destinationbedfordva.com/event/music-bingo/2025-09-11/
LOCATION:Apocalypse Ale Works\, 1257 Burnbridge Road\, Forest\, VA\, 24551\, United States
ATTACH;FMTTYPE=image/jpeg:https://destinationbedfordva.com/wp-content/uploads/2025/08/music-bingo.jpg
GEO:37.3622178;-79.2877024
X-APPLE-STRUCTURED-LOCATION;VALUE=URI;X-ADDRESS=Apocalypse Ale Works 1257 Burnbridge Road Forest VA 24551 United States;X-APPLE-RADIUS=500;X-TITLE=1257 Burnbridge Road:geo:-79.2877024,37.3622178
END:VEVENT
END:VCALENDAR