BEGIN:VCALENDAR
VERSION:2.0
PRODID:-//Destination Bedford - ECPv6.8.3//NONSGML v1.0//EN
CALSCALE:GREGORIAN
METHOD:PUBLISH
X-WR-CALNAME:Destination Bedford
X-ORIGINAL-URL:https://destinationbedfordva.com
X-WR-CALDESC:Events for Destination Bedford
REFRESH-INTERVAL;VALUE=DURATION:PT1H
X-Robots-Tag:noindex
X-PUBLISHED-TTL:PT1H
BEGIN:VTIMEZONE
TZID:America/New_York
BEGIN:DAYLIGHT
TZOFFSETFROM:-0500
TZOFFSETTO:-0400
TZNAME:EDT
DTSTART:20260308T070000
END:DAYLIGHT
BEGIN:STANDARD
TZOFFSETFROM:-0400
TZOFFSETTO:-0500
TZNAME:EST
DTSTART:20261101T060000
END:STANDARD
END:VTIMEZONE
BEGIN:VEVENT
DTSTART;TZID=America/New_York:20260110T110000
DTEND;TZID=America/New_York:20260110T150000
DTSTAMP:20260419T184652
CREATED:20251221T143917Z
LAST-MODIFIED:20251221T143917Z
UID:10061490-1768042800-1768057200@destinationbedfordva.com
SUMMARY:Bower Center Exhibit
DESCRIPTION:Come to the Bower Center for the Arts to view two new exhibits: Through the Lens II\, An Invitational Exhibit and Andrea Wild: Caught In Old Lace Between the Stars & the Earth. \n Gallery admission to view the exhibits is free! \nThe Bower Center is open Tuesday – Saturday\, 11 a.m. – 3 p.m. and both of these exhibits will be on display until January 24th. 
URL:https://destinationbedfordva.com/event/bower-center-exhibit-4-2-2-2-2/2026-01-10/
LOCATION:Bower Center for the Arts\, 309 North Bridge Street\, Bedford\, VA\, United States
ATTACH;FMTTYPE=image/png:https://destinationbedfordva.com/wp-content/uploads/2019/11/Bower-Center-for-the-Arts.png
GEO:37.336317;-79.522795
X-APPLE-STRUCTURED-LOCATION;VALUE=URI;X-ADDRESS=Bower Center for the Arts 309 North Bridge Street Bedford VA United States;X-APPLE-RADIUS=500;X-TITLE=309 North Bridge Street:geo:-79.522795,37.336317
END:VEVENT
BEGIN:VEVENT
DTSTART;TZID=America/New_York:20260110T130000
DTEND;TZID=America/New_York:20260110T170000
DTSTAMP:20260419T184652
CREATED:20250827T205523Z
LAST-MODIFIED:20260213T192118Z
UID:10061791-1768050000-1768064400@destinationbedfordva.com
SUMMARY:Live Music at Harvest Moon
DESCRIPTION: \nCome see live music at Harvest Moon Marketplace! Click here to see who is playing this weekend! \n\n\nEnjoy beer\, wine\, meads\, ciders\, and non-alcoholic drinks\, along with delicious food and great shopping at the Marketplace. Free admission and free music!\n \n\n 
URL:https://destinationbedfordva.com/event/live-music-at-harvest-moon-10/2026-01-10/
LOCATION:Harvest Moon Marketplace\, 14917 Moneta Rd\, Moneta\, VA\, 24121\, United States
ATTACH;FMTTYPE=image/jpeg:https://destinationbedfordva.com/wp-content/uploads/2023/12/harvest-moon-logo.jpg
END:VEVENT
BEGIN:VEVENT
DTSTART;TZID=America/New_York:20260110T180000
DTEND;TZID=America/New_York:20260110T210000
DTSTAMP:20260419T184652
CREATED:20260105T191636Z
LAST-MODIFIED:20260105T191737Z
UID:10062315-1768068000-1768078800@destinationbedfordva.com
SUMMARY:Social Dance at Ramulose Ridge Vineyards
DESCRIPTION:Celebrate the New Year with music\, movement\, and great company at Ramulose Ridge Vineyards! Learn a step or two during a fun\, beginner-intermediate dance lesson—first timers welcome—then jump right into social dancing. \n🕕 6:00 p.m. Beginner–Intermediate Dance Lesson (No partner required)\n🕖 6:45 p.m. Social Dancing begins \n🎶 Enjoy a lively mix of music\, from favorite English covers to energetic salsa classics.\n🍷 Wine\, 🍕 pizza\, 🍹 sangrias\, 🧀 charcuterie boards\, and non-alcoholic beverages available for purchase.\n💵 $10 cover \n 
URL:https://destinationbedfordva.com/event/social-dance-at-ramulose-ridge-vineyards/
LOCATION:VA
ATTACH;FMTTYPE=image/jpeg:https://destinationbedfordva.com/wp-content/uploads/2026/01/Ramulose-dance-party.jpg
END:VEVENT
BEGIN:VEVENT
DTSTART;TZID=America/New_York:20260110T190000
DTEND;TZID=America/New_York:20260110T220000
DTSTAMP:20260419T184652
CREATED:20260105T190645Z
LAST-MODIFIED:20260105T190743Z
UID:10062314-1768071600-1768082400@destinationbedfordva.com
SUMMARY:Open Mic Night
DESCRIPTION:📅This Saturday night\, January 10th at 7pm \nOne of our local artists\, Troy Coleman\, is kicking off an exciting Open Mic Night—and everyone’s invited to take the stage! Musicians\, comedians\, poets\, storytellers\, and all creative acts are welcome. \n🍺 Sip on your favorite Apocalypse Ale while cheering on local talent\n🍔 Enjoy food by Bunker 42 Bar Bites \n🎸 Sign-ups begin at 6:30 p.m. | Performances start at 7:00 p.m. \nBring your friends\, grab a drink\, and be part of the show!
URL:https://destinationbedfordva.com/event/open-mic-night-3/
LOCATION:Apocalypse Ale Works\, 1257 Burnbridge Road\, Forest\, VA\, 24551\, United States
ATTACH;FMTTYPE=image/jpeg:https://destinationbedfordva.com/wp-content/uploads/2026/01/Open-mic-night-3.jpg
GEO:37.3622178;-79.2877024
X-APPLE-STRUCTURED-LOCATION;VALUE=URI;X-ADDRESS=Apocalypse Ale Works 1257 Burnbridge Road Forest VA 24551 United States;X-APPLE-RADIUS=500;X-TITLE=1257 Burnbridge Road:geo:-79.2877024,37.3622178
END:VEVENT
END:VCALENDAR