BEGIN:VCALENDAR
VERSION:2.0
PRODID:-//Destination Bedford - ECPv6.8.3//NONSGML v1.0//EN
CALSCALE:GREGORIAN
METHOD:PUBLISH
X-ORIGINAL-URL:https://destinationbedfordva.com
X-WR-CALDESC:Events for Destination Bedford
REFRESH-INTERVAL;VALUE=DURATION:PT1H
X-Robots-Tag:noindex
X-PUBLISHED-TTL:PT1H
BEGIN:VTIMEZONE
TZID:America/New_York
BEGIN:DAYLIGHT
TZOFFSETFROM:-0500
TZOFFSETTO:-0400
TZNAME:EDT
DTSTART:20260308T070000
END:DAYLIGHT
BEGIN:STANDARD
TZOFFSETFROM:-0400
TZOFFSETTO:-0500
TZNAME:EST
DTSTART:20261101T060000
END:STANDARD
END:VTIMEZONE
BEGIN:VEVENT
DTSTART;TZID=America/New_York:20260115T110000
DTEND;TZID=America/New_York:20260115T150000
DTSTAMP:20260420T010427
CREATED:20251221T143917Z
LAST-MODIFIED:20251221T143917Z
UID:10061493-1768474800-1768489200@destinationbedfordva.com
SUMMARY:Bower Center Exhibit
DESCRIPTION:Come to the Bower Center for the Arts to view two new exhibits: Through the Lens II\, An Invitational Exhibit and Andrea Wild: Caught In Old Lace Between the Stars & the Earth. \n Gallery admission to view the exhibits is free! \nThe Bower Center is open Tuesday – Saturday\, 11 a.m. – 3 p.m. and both of these exhibits will be on display until January 24th. 
URL:https://destinationbedfordva.com/event/bower-center-exhibit-4-2-2-2-2/2026-01-15/
LOCATION:Bower Center for the Arts\, 309 North Bridge Street\, Bedford\, VA\, United States
ATTACH;FMTTYPE=image/png:https://destinationbedfordva.com/wp-content/uploads/2019/11/Bower-Center-for-the-Arts.png
GEO:37.336317;-79.522795
X-APPLE-STRUCTURED-LOCATION;VALUE=URI;X-ADDRESS=Bower Center for the Arts 309 North Bridge Street Bedford VA United States;X-APPLE-RADIUS=500;X-TITLE=309 North Bridge Street:geo:-79.522795,37.336317
END:VEVENT
BEGIN:VEVENT
DTSTART;TZID=America/New_York:20260115T190000
DTEND;TZID=America/New_York:20260115T210000
DTSTAMP:20260420T010427
CREATED:20250813T151425Z
LAST-MODIFIED:20250813T151425Z
UID:10060935-1768503600-1768510800@destinationbedfordva.com
SUMMARY:Music Bingo
DESCRIPTION:This is where the fun of bingo meets the excitement of your favorite tunes! Each round features hit songs across various genres\, and you’ll mark your card to the beat. Win the coveted Music Bingo chain\, gift cards\, and of course\, ultimate bragging rights! It’s a lively and unique way to enjoy great music\, compete with friends\, and score awesome prizes. Don’t miss the fun!
URL:https://destinationbedfordva.com/event/music-bingo/2026-01-15/
LOCATION:Apocalypse Ale Works\, 1257 Burnbridge Road\, Forest\, VA\, 24551\, United States
ATTACH;FMTTYPE=image/jpeg:https://destinationbedfordva.com/wp-content/uploads/2025/08/music-bingo.jpg
GEO:37.3622178;-79.2877024
X-APPLE-STRUCTURED-LOCATION;VALUE=URI;X-ADDRESS=Apocalypse Ale Works 1257 Burnbridge Road Forest VA 24551 United States;X-APPLE-RADIUS=500;X-TITLE=1257 Burnbridge Road:geo:-79.2877024,37.3622178
END:VEVENT
BEGIN:VEVENT
DTSTART;TZID=America/New_York:20260115T190000
DTEND;TZID=America/New_York:20260115T210000
DTSTAMP:20260420T010427
CREATED:20260112T153755Z
LAST-MODIFIED:20260112T153755Z
UID:10062328-1768503600-1768510800@destinationbedfordva.com
SUMMARY:Cavalier Theatre
DESCRIPTION:Cavalier Theatre presents: NOISES OFF\nBy Michael Frayn\nJanuary 15\, 16\, 17 at 7pm\nJanuary 18 at 3pm\nSponsored by Bank of the James\nJefferson Forest Auditorium\n1 Cavalier Circle\, Forest\, VA\n$15 ($10 students\, seniors)\nRegarded as the ultimate theatrical farce\, Noises Off is a riotous rollercoaster of slamming doors\, romantic entanglements\, and slapstick chaos. Behind the scenes of a disastrous play-within-a-play\, a troupe of hapless thespians struggle to bring their production to life. As their rehearsals descend into comedic catastrophe\, the actors\, director\, and stage manager learn the hilarious and hard way what happens when everything that can go wrong does! This uproarious journey will leave you laughing until the final curtain!
URL:https://destinationbedfordva.com/event/cavalier-theatre/2026-01-15/
LOCATION:Jefferson Forest Auditorium\, 1 Cavalier Circle\, Forest\, VA\, 24551\, United States
ATTACH;FMTTYPE=image/jpeg:https://destinationbedfordva.com/wp-content/uploads/2026/01/cav-theatre.jpg
GEO:37.3757418;-79.3035415
X-APPLE-STRUCTURED-LOCATION;VALUE=URI;X-ADDRESS=Jefferson Forest Auditorium 1 Cavalier Circle Forest VA 24551 United States;X-APPLE-RADIUS=500;X-TITLE=1 Cavalier Circle:geo:-79.3035415,37.3757418
END:VEVENT
END:VCALENDAR