BEGIN:VCALENDAR
VERSION:2.0
PRODID:-//Destination Bedford - ECPv6.8.3//NONSGML v1.0//EN
CALSCALE:GREGORIAN
METHOD:PUBLISH
X-WR-CALNAME:Destination Bedford
X-ORIGINAL-URL:https://destinationbedfordva.com
X-WR-CALDESC:Events for Destination Bedford
REFRESH-INTERVAL;VALUE=DURATION:PT1H
X-Robots-Tag:noindex
X-PUBLISHED-TTL:PT1H
BEGIN:VTIMEZONE
TZID:America/New_York
BEGIN:DAYLIGHT
TZOFFSETFROM:-0500
TZOFFSETTO:-0400
TZNAME:EDT
DTSTART:20260308T070000
END:DAYLIGHT
BEGIN:STANDARD
TZOFFSETFROM:-0400
TZOFFSETTO:-0500
TZNAME:EST
DTSTART:20261101T060000
END:STANDARD
END:VTIMEZONE
BEGIN:VEVENT
DTSTART;TZID=America/New_York:20260423T100000
DTEND;TZID=America/New_York:20260423T180000
DTSTAMP:20260423T015056
CREATED:20260416T205140Z
LAST-MODIFIED:20260416T205140Z
UID:10063520-1776938400-1776967200@destinationbedfordva.com
SUMMARY:America’s 250th Anniversary Exhibit
DESCRIPTION:America’s 250th Anniversary Exhibit in the MOarts Gallery and Display Case \n250 years ago\, the founding fathers of the United States of America met in Philadelphia to sign the Declaration of Independence beginning the American Nation as we know it. Come to the Moneta/Smith Mountain Lake Library to view our history as we celebrate the 250th anniversary of the signing of the Declaration of Independence through a photo exhibit of historical documents and portraits related to the American Revolution and a display case of Revolutionary items that have been in use since that time.  \nThe photos featured in this exhibit are curated from the Library of Congress and the Library of Virginia. \n            The exhibit may be viewed during regular library hours\, April 1\, 2026\, through May 30\, 2026.
URL:https://destinationbedfordva.com/event/americas-250th-anniversary-exhibit/2026-04-23/
LOCATION:Moneta Library\, 13641 Moneta Rd
ATTACH;FMTTYPE=image/png:https://destinationbedfordva.com/wp-content/uploads/2026/04/America-250-Exhibit-Flyer.png
END:VEVENT
BEGIN:VEVENT
DTSTART;TZID=America/New_York:20260423T130000
DTEND;TZID=America/New_York:20260423T180000
DTSTAMP:20260423T015056
CREATED:20260415T205401Z
LAST-MODIFIED:20260415T205542Z
UID:10062712-1776949200-1776967200@destinationbedfordva.com
SUMMARY:BCPS Middle & High School Art Show
DESCRIPTION:The Bower Center for the Arts has partnered with the Bedford County Public Schools System to showcase the amazing artistic abilities of the youth in our community. Gallery admission is free.  \nMiddle School Reception- Thursday April 16th 5-6:30PM \nHigh School Reception- Friday May 1st 5-6:30pm
URL:https://destinationbedfordva.com/event/bcps-middle-high-school-art-show-2/2026-04-23/
LOCATION:Bower Center for the Arts\, 309 North Bridge Street\, Bedford\, VA\, United States
ATTACH;FMTTYPE=image/jpeg:https://destinationbedfordva.com/wp-content/uploads/2024/02/BCPS-art-show-2026.jpg
GEO:37.336317;-79.522795
X-APPLE-STRUCTURED-LOCATION;VALUE=URI;X-ADDRESS=Bower Center for the Arts 309 North Bridge Street Bedford VA United States;X-APPLE-RADIUS=500;X-TITLE=309 North Bridge Street:geo:-79.522795,37.336317
END:VEVENT
BEGIN:VEVENT
DTSTART;TZID=America/New_York:20260423T190000
DTEND;TZID=America/New_York:20260423T210000
DTSTAMP:20260423T015056
CREATED:20250813T151425Z
LAST-MODIFIED:20250813T151425Z
UID:10060949-1776970800-1776978000@destinationbedfordva.com
SUMMARY:Music Bingo
DESCRIPTION:This is where the fun of bingo meets the excitement of your favorite tunes! Each round features hit songs across various genres\, and you’ll mark your card to the beat. Win the coveted Music Bingo chain\, gift cards\, and of course\, ultimate bragging rights! It’s a lively and unique way to enjoy great music\, compete with friends\, and score awesome prizes. Don’t miss the fun!
URL:https://destinationbedfordva.com/event/music-bingo/2026-04-23/
LOCATION:Apocalypse Ale Works\, 1257 Burnbridge Road\, Forest\, VA\, 24551\, United States
ATTACH;FMTTYPE=image/jpeg:https://destinationbedfordva.com/wp-content/uploads/2025/08/music-bingo.jpg
GEO:37.3622178;-79.2877024
X-APPLE-STRUCTURED-LOCATION;VALUE=URI;X-ADDRESS=Apocalypse Ale Works 1257 Burnbridge Road Forest VA 24551 United States;X-APPLE-RADIUS=500;X-TITLE=1257 Burnbridge Road:geo:-79.2877024,37.3622178
END:VEVENT
END:VCALENDAR