BEGIN:VCALENDAR
VERSION:2.0
PRODID:-//Destination Bedford - ECPv6.8.3//NONSGML v1.0//EN
CALSCALE:GREGORIAN
METHOD:PUBLISH
X-WR-CALNAME:Destination Bedford
X-ORIGINAL-URL:https://destinationbedfordva.com
X-WR-CALDESC:Events for Destination Bedford
REFRESH-INTERVAL;VALUE=DURATION:PT1H
X-Robots-Tag:noindex
X-PUBLISHED-TTL:PT1H
BEGIN:VTIMEZONE
TZID:America/New_York
BEGIN:DAYLIGHT
TZOFFSETFROM:-0500
TZOFFSETTO:-0400
TZNAME:EDT
DTSTART:20260308T070000
END:DAYLIGHT
BEGIN:STANDARD
TZOFFSETFROM:-0400
TZOFFSETTO:-0500
TZNAME:EST
DTSTART:20261101T060000
END:STANDARD
END:VTIMEZONE
BEGIN:VEVENT
DTSTART;TZID=America/New_York:20260501T183000
DTEND;TZID=America/New_York:20260501T210000
DTSTAMP:20260423T202545
CREATED:20260420T164551Z
LAST-MODIFIED:20260423T153638Z
UID:10063579-1777660200-1777669200@destinationbedfordva.com
SUMMARY:First Fridays at Falling Creek Park
DESCRIPTION:The First Fridays concert series is back at Falling Creek Park\, brought to you by Bedford County Parks & Recreation. \nCome to the park for live music\, kids activities and a food truck every first Friday of the month\, May – October. \nThe music starts around 6:30 p.m. \nBring a chair or blanket. You can also bring your own food. \nAdmission is free! \nClick here to see who is playing each month. 
URL:https://destinationbedfordva.com/event/first-fridays-at-falling-creek-park-2/2026-05-01/
LOCATION:Falling Creek Park\, 1257 County Farm Road\, Bedford\, VA\, 24523\, United States
ATTACH;FMTTYPE=image/jpeg:https://destinationbedfordva.com/wp-content/uploads/2026/04/Flyer-of-first-Fridays-May-1st-2026-e1776956533570.jpg
GEO:37.305294;-79.501901
X-APPLE-STRUCTURED-LOCATION;VALUE=URI;X-ADDRESS=Falling Creek Park 1257 County Farm Road Bedford VA 24523 United States;X-APPLE-RADIUS=500;X-TITLE=1257 County Farm Road:geo:-79.501901,37.305294
END:VEVENT
BEGIN:VEVENT
DTSTART;TZID=America/New_York:20260605T183000
DTEND;TZID=America/New_York:20260605T210000
DTSTAMP:20260423T202545
CREATED:20260420T164551Z
LAST-MODIFIED:20260423T153638Z
UID:10063867-1780684200-1780693200@destinationbedfordva.com
SUMMARY:First Fridays at Falling Creek Park
DESCRIPTION:The First Fridays concert series is back at Falling Creek Park\, brought to you by Bedford County Parks & Recreation. \nCome to the park for live music\, kids activities and a food truck every first Friday of the month\, May – October. \nThe music starts around 6:30 p.m. \nBring a chair or blanket. You can also bring your own food. \nAdmission is free! \nClick here to see who is playing each month. 
URL:https://destinationbedfordva.com/event/first-fridays-at-falling-creek-park-2/2026-06-05/
LOCATION:Falling Creek Park\, 1257 County Farm Road\, Bedford\, VA\, 24523\, United States
ATTACH;FMTTYPE=image/jpeg:https://destinationbedfordva.com/wp-content/uploads/2026/04/Flyer-of-first-Fridays-May-1st-2026-e1776956533570.jpg
GEO:37.305294;-79.501901
X-APPLE-STRUCTURED-LOCATION;VALUE=URI;X-ADDRESS=Falling Creek Park 1257 County Farm Road Bedford VA 24523 United States;X-APPLE-RADIUS=500;X-TITLE=1257 County Farm Road:geo:-79.501901,37.305294
END:VEVENT
BEGIN:VEVENT
DTSTART;TZID=America/New_York:20260703T183000
DTEND;TZID=America/New_York:20260703T210000
DTSTAMP:20260423T202545
CREATED:20260420T164551Z
LAST-MODIFIED:20260423T153638Z
UID:10063868-1783103400-1783112400@destinationbedfordva.com
SUMMARY:First Fridays at Falling Creek Park
DESCRIPTION:The First Fridays concert series is back at Falling Creek Park\, brought to you by Bedford County Parks & Recreation. \nCome to the park for live music\, kids activities and a food truck every first Friday of the month\, May – October. \nThe music starts around 6:30 p.m. \nBring a chair or blanket. You can also bring your own food. \nAdmission is free! \nClick here to see who is playing each month. 
URL:https://destinationbedfordva.com/event/first-fridays-at-falling-creek-park-2/2026-07-03/
LOCATION:Falling Creek Park\, 1257 County Farm Road\, Bedford\, VA\, 24523\, United States
ATTACH;FMTTYPE=image/jpeg:https://destinationbedfordva.com/wp-content/uploads/2026/04/Flyer-of-first-Fridays-May-1st-2026-e1776956533570.jpg
GEO:37.305294;-79.501901
X-APPLE-STRUCTURED-LOCATION;VALUE=URI;X-ADDRESS=Falling Creek Park 1257 County Farm Road Bedford VA 24523 United States;X-APPLE-RADIUS=500;X-TITLE=1257 County Farm Road:geo:-79.501901,37.305294
END:VEVENT
BEGIN:VEVENT
DTSTART;TZID=America/New_York:20260807T183000
DTEND;TZID=America/New_York:20260807T210000
DTSTAMP:20260423T202545
CREATED:20260420T164551Z
LAST-MODIFIED:20260423T153638Z
UID:10063869-1786127400-1786136400@destinationbedfordva.com
SUMMARY:First Fridays at Falling Creek Park
DESCRIPTION:The First Fridays concert series is back at Falling Creek Park\, brought to you by Bedford County Parks & Recreation. \nCome to the park for live music\, kids activities and a food truck every first Friday of the month\, May – October. \nThe music starts around 6:30 p.m. \nBring a chair or blanket. You can also bring your own food. \nAdmission is free! \nClick here to see who is playing each month. 
URL:https://destinationbedfordva.com/event/first-fridays-at-falling-creek-park-2/2026-08-07/
LOCATION:Falling Creek Park\, 1257 County Farm Road\, Bedford\, VA\, 24523\, United States
ATTACH;FMTTYPE=image/jpeg:https://destinationbedfordva.com/wp-content/uploads/2026/04/Flyer-of-first-Fridays-May-1st-2026-e1776956533570.jpg
GEO:37.305294;-79.501901
X-APPLE-STRUCTURED-LOCATION;VALUE=URI;X-ADDRESS=Falling Creek Park 1257 County Farm Road Bedford VA 24523 United States;X-APPLE-RADIUS=500;X-TITLE=1257 County Farm Road:geo:-79.501901,37.305294
END:VEVENT
BEGIN:VEVENT
DTSTART;TZID=America/New_York:20260904T183000
DTEND;TZID=America/New_York:20260904T210000
DTSTAMP:20260423T202545
CREATED:20260420T164551Z
LAST-MODIFIED:20260423T153638Z
UID:10063870-1788546600-1788555600@destinationbedfordva.com
SUMMARY:First Fridays at Falling Creek Park
DESCRIPTION:The First Fridays concert series is back at Falling Creek Park\, brought to you by Bedford County Parks & Recreation. \nCome to the park for live music\, kids activities and a food truck every first Friday of the month\, May – October. \nThe music starts around 6:30 p.m. \nBring a chair or blanket. You can also bring your own food. \nAdmission is free! \nClick here to see who is playing each month. 
URL:https://destinationbedfordva.com/event/first-fridays-at-falling-creek-park-2/2026-09-04/
LOCATION:Falling Creek Park\, 1257 County Farm Road\, Bedford\, VA\, 24523\, United States
ATTACH;FMTTYPE=image/jpeg:https://destinationbedfordva.com/wp-content/uploads/2026/04/Flyer-of-first-Fridays-May-1st-2026-e1776956533570.jpg
GEO:37.305294;-79.501901
X-APPLE-STRUCTURED-LOCATION;VALUE=URI;X-ADDRESS=Falling Creek Park 1257 County Farm Road Bedford VA 24523 United States;X-APPLE-RADIUS=500;X-TITLE=1257 County Farm Road:geo:-79.501901,37.305294
END:VEVENT
BEGIN:VEVENT
DTSTART;TZID=America/New_York:20261002T183000
DTEND;TZID=America/New_York:20261002T210000
DTSTAMP:20260423T202545
CREATED:20260420T164551Z
LAST-MODIFIED:20260423T153638Z
UID:10063871-1790965800-1790974800@destinationbedfordva.com
SUMMARY:First Fridays at Falling Creek Park
DESCRIPTION:The First Fridays concert series is back at Falling Creek Park\, brought to you by Bedford County Parks & Recreation. \nCome to the park for live music\, kids activities and a food truck every first Friday of the month\, May – October. \nThe music starts around 6:30 p.m. \nBring a chair or blanket. You can also bring your own food. \nAdmission is free! \nClick here to see who is playing each month. 
URL:https://destinationbedfordva.com/event/first-fridays-at-falling-creek-park-2/2026-10-02/
LOCATION:Falling Creek Park\, 1257 County Farm Road\, Bedford\, VA\, 24523\, United States
ATTACH;FMTTYPE=image/jpeg:https://destinationbedfordva.com/wp-content/uploads/2026/04/Flyer-of-first-Fridays-May-1st-2026-e1776956533570.jpg
GEO:37.305294;-79.501901
X-APPLE-STRUCTURED-LOCATION;VALUE=URI;X-ADDRESS=Falling Creek Park 1257 County Farm Road Bedford VA 24523 United States;X-APPLE-RADIUS=500;X-TITLE=1257 County Farm Road:geo:-79.501901,37.305294
END:VEVENT
END:VCALENDAR