BEGIN:VCALENDAR
VERSION:2.0
PRODID:-//Destination Bedford - ECPv6.8.3//NONSGML v1.0//EN
CALSCALE:GREGORIAN
METHOD:PUBLISH
X-ORIGINAL-URL:https://destinationbedfordva.com
X-WR-CALDESC:Events for Destination Bedford
REFRESH-INTERVAL;VALUE=DURATION:PT1H
X-Robots-Tag:noindex
X-PUBLISHED-TTL:PT1H
BEGIN:VTIMEZONE
TZID:America/New_York
BEGIN:DAYLIGHT
TZOFFSETFROM:-0500
TZOFFSETTO:-0400
TZNAME:EDT
DTSTART:20260308T070000
END:DAYLIGHT
BEGIN:STANDARD
TZOFFSETFROM:-0400
TZOFFSETTO:-0500
TZNAME:EST
DTSTART:20261101T060000
END:STANDARD
END:VTIMEZONE
BEGIN:VEVENT
DTSTART;TZID=America/New_York:20260501T190000
DTEND;TZID=America/New_York:20260501T210000
DTSTAMP:20260423T014550
CREATED:20260422T201227Z
LAST-MODIFIED:20260422T201227Z
UID:10063616-1777662000-1777669200@destinationbedfordva.com
SUMMARY:Little Shop of Horrors
DESCRIPTION:Come to Sussie B Gibson Auditorium to see  Liberty High School Performing Arts production of Little Shop of Horrors!  \nClick here for tickets. 
URL:https://destinationbedfordva.com/event/little-shop-of-horrors/2026-05-01/
LOCATION:Susie G. Gibson Science & Technology Center\, 600 Edmund St.\, Bedford\, Virginia\, 24523
ATTACH;FMTTYPE=image/jpeg:https://destinationbedfordva.com/wp-content/uploads/2026/04/A-flyer-of-Little-Shop-of-Horrors.jpg
END:VEVENT
BEGIN:VEVENT
DTSTART;TZID=America/New_York:20260502T190000
DTEND;TZID=America/New_York:20260502T210000
DTSTAMP:20260423T014550
CREATED:20260422T201227Z
LAST-MODIFIED:20260422T201227Z
UID:10063617-1777748400-1777755600@destinationbedfordva.com
SUMMARY:Little Shop of Horrors
DESCRIPTION:Come to Sussie B Gibson Auditorium to see  Liberty High School Performing Arts production of Little Shop of Horrors!  \nClick here for tickets. 
URL:https://destinationbedfordva.com/event/little-shop-of-horrors/2026-05-02/
LOCATION:Susie G. Gibson Science & Technology Center\, 600 Edmund St.\, Bedford\, Virginia\, 24523
ATTACH;FMTTYPE=image/jpeg:https://destinationbedfordva.com/wp-content/uploads/2026/04/A-flyer-of-Little-Shop-of-Horrors.jpg
END:VEVENT
BEGIN:VEVENT
DTSTART;TZID=America/New_York:20260503T150000
DTEND;TZID=America/New_York:20260503T170000
DTSTAMP:20260423T014550
CREATED:20260422T201227Z
LAST-MODIFIED:20260422T201227Z
UID:10063618-1777820400-1777827600@destinationbedfordva.com
SUMMARY:Little Shop of Horrors
DESCRIPTION:Come to Sussie B Gibson Auditorium to see  Liberty High School Performing Arts production of Little Shop of Horrors!  \nClick here for tickets. 
URL:https://destinationbedfordva.com/event/little-shop-of-horrors/2026-05-03/
LOCATION:Susie G. Gibson Science & Technology Center\, 600 Edmund St.\, Bedford\, Virginia\, 24523
ATTACH;FMTTYPE=image/jpeg:https://destinationbedfordva.com/wp-content/uploads/2026/04/A-flyer-of-Little-Shop-of-Horrors.jpg
END:VEVENT
END:VCALENDAR