BEGIN:VCALENDAR
VERSION:2.0
PRODID:-//Destination Bedford - ECPv6.8.3//NONSGML v1.0//EN
CALSCALE:GREGORIAN
METHOD:PUBLISH
X-WR-CALNAME:Destination Bedford
X-ORIGINAL-URL:https://destinationbedfordva.com
X-WR-CALDESC:Events for Destination Bedford
REFRESH-INTERVAL;VALUE=DURATION:PT1H
X-Robots-Tag:noindex
X-PUBLISHED-TTL:PT1H
BEGIN:VTIMEZONE
TZID:America/New_York
BEGIN:DAYLIGHT
TZOFFSETFROM:-0500
TZOFFSETTO:-0400
TZNAME:EDT
DTSTART:20200308T070000
END:DAYLIGHT
BEGIN:STANDARD
TZOFFSETFROM:-0400
TZOFFSETTO:-0500
TZNAME:EST
DTSTART:20201101T060000
END:STANDARD
END:VTIMEZONE
BEGIN:VEVENT
DTSTART;TZID=America/New_York:20200516T070000
DTEND;TZID=America/New_York:20200516T130000
DTSTAMP:20260419T202143
CREATED:20200502T191139Z
LAST-MODIFIED:20200812T140036Z
UID:10047918-1589612400-1589634000@destinationbedfordva.com
SUMMARY:Bedford Farmer Managed Market
DESCRIPTION:Our mission is to establish and operate a community-supported Producer Only Farmers Market\, managed by Farmers\, that provides: Viable economic outlets for Bedford County farmers\, food producers\, artists and craftsmen\, and local access to farm fresh products. \nOpen on Saturdays\, 7 a.m. – 1 p.m.  (Weather permitting)
URL:https://destinationbedfordva.com/event/bedfords-finest-farmers-market-managed-by-farmers/2020-05-16/
LOCATION:Bedford Farmer Managed Market\, 1032 Triggs Road\, Bedford\, VA\, 24523\, United States
ORGANIZER;CN="Bedfords Finest Farmers Market - Managed by Farmers":MAILTO:thefarmermanagedmarket@gmail.com
END:VEVENT
BEGIN:VEVENT
DTSTART;TZID=America/New_York:20200509T070000
DTEND;TZID=America/New_York:20200509T130000
DTSTAMP:20260419T202143
CREATED:20200502T191139Z
LAST-MODIFIED:20200812T140036Z
UID:10047917-1589007600-1589029200@destinationbedfordva.com
SUMMARY:Bedford Farmer Managed Market
DESCRIPTION:Our mission is to establish and operate a community-supported Producer Only Farmers Market\, managed by Farmers\, that provides: Viable economic outlets for Bedford County farmers\, food producers\, artists and craftsmen\, and local access to farm fresh products. \nOpen on Saturdays\, 7 a.m. – 1 p.m.  (Weather permitting)
URL:https://destinationbedfordva.com/event/bedfords-finest-farmers-market-managed-by-farmers/2020-05-09/
LOCATION:Bedford Farmer Managed Market\, 1032 Triggs Road\, Bedford\, VA\, 24523\, United States
ORGANIZER;CN="Bedfords Finest Farmers Market - Managed by Farmers":MAILTO:thefarmermanagedmarket@gmail.com
END:VEVENT
BEGIN:VEVENT
DTSTART;TZID=America/New_York:20200502T070000
DTEND;TZID=America/New_York:20200502T130000
DTSTAMP:20260419T202143
CREATED:20200502T191139Z
LAST-MODIFIED:20200812T140036Z
UID:10047916-1588402800-1588424400@destinationbedfordva.com
SUMMARY:Bedford Farmer Managed Market
DESCRIPTION:Our mission is to establish and operate a community-supported Producer Only Farmers Market\, managed by Farmers\, that provides: Viable economic outlets for Bedford County farmers\, food producers\, artists and craftsmen\, and local access to farm fresh products. \nOpen on Saturdays\, 7 a.m. – 1 p.m.  (Weather permitting)
URL:https://destinationbedfordva.com/event/bedfords-finest-farmers-market-managed-by-farmers/2020-05-02/
LOCATION:Bedford Farmer Managed Market\, 1032 Triggs Road\, Bedford\, VA\, 24523\, United States
ORGANIZER;CN="Bedfords Finest Farmers Market - Managed by Farmers":MAILTO:thefarmermanagedmarket@gmail.com
END:VEVENT
BEGIN:VEVENT
DTSTART;TZID=America/New_York:20200501T070000
DTEND;TZID=America/New_York:20200501T130000
DTSTAMP:20260419T202143
CREATED:20200502T191139Z
LAST-MODIFIED:20200812T140036Z
UID:10047915-1588316400-1588338000@destinationbedfordva.com
SUMMARY:Bedford Farmer Managed Market
DESCRIPTION:Our mission is to establish and operate a community-supported Producer Only Farmers Market\, managed by Farmers\, that provides: Viable economic outlets for Bedford County farmers\, food producers\, artists and craftsmen\, and local access to farm fresh products. \nOpen on Saturdays\, 7 a.m. – 1 p.m.  (Weather permitting)
URL:https://destinationbedfordva.com/event/bedfords-finest-farmers-market-managed-by-farmers/2020-05-01/
LOCATION:Bedford Farmer Managed Market\, 1032 Triggs Road\, Bedford\, VA\, 24523\, United States
ORGANIZER;CN="Bedfords Finest Farmers Market - Managed by Farmers":MAILTO:thefarmermanagedmarket@gmail.com
END:VEVENT
END:VCALENDAR