BEGIN:VCALENDAR
VERSION:2.0
PRODID:-//Destination Bedford - ECPv6.8.3//NONSGML v1.0//EN
CALSCALE:GREGORIAN
METHOD:PUBLISH
X-ORIGINAL-URL:https://destinationbedfordva.com
X-WR-CALDESC:Events for Destination Bedford
REFRESH-INTERVAL;VALUE=DURATION:PT1H
X-Robots-Tag:noindex
X-PUBLISHED-TTL:PT1H
BEGIN:VTIMEZONE
TZID:America/New_York
BEGIN:DAYLIGHT
TZOFFSETFROM:-0500
TZOFFSETTO:-0400
TZNAME:EDT
DTSTART:20160313T070000
END:DAYLIGHT
BEGIN:STANDARD
TZOFFSETFROM:-0400
TZOFFSETTO:-0500
TZNAME:EST
DTSTART:20161106T060000
END:STANDARD
BEGIN:DAYLIGHT
TZOFFSETFROM:-0500
TZOFFSETTO:-0400
TZNAME:EDT
DTSTART:20170312T070000
END:DAYLIGHT
BEGIN:STANDARD
TZOFFSETFROM:-0400
TZOFFSETTO:-0500
TZNAME:EST
DTSTART:20171105T060000
END:STANDARD
END:VTIMEZONE
BEGIN:VEVENT
DTSTART;TZID=America/New_York:20170910T170000
DTEND;TZID=America/New_York:20170910T210000
DTSTAMP:20260421T171853
CREATED:20170801T170904Z
LAST-MODIFIED:20170801T170904Z
UID:10046425-1505062800-1505077200@destinationbedfordva.com
SUMMARY:Bedford's Finest Fare
DESCRIPTION:Mark your calendars for Sunday\, September 10\, 2017 from 5:00 – 9:00 PM and come enjoy a wonderful evening of great food\, beverages\, and entertainment at Bower Center for the Arts. \nThe 4th Annual Bedford’s Finest Fare will celebrate Bedford’s vibrant food\, beverages\, music\, and art! Local chefs will offer a sampling of mouth-watering gourmet appetizers\, entrees\, and desserts.  \nLocal restaurants participating in the 4th Annual Bedford Finest Fare are Benjamins\, Millstone Tea Room\, Happy Coffee\, Town Kitchen & Provisions\, and many more! \nBrand new in Bedford is Beale’s Brewery and they will be serving their craft beer all evening! \nLive music will be provided by The Tommy Cox Band and HOPPIE VAUGHAN and The Ministers of Soul. \nReturning this year is the Artisan Villiage\, sponsored by Goose Creek Studio. \nTickets will go on sale in August 10th\n$30.00 in advance | $35.00 at the gate\nChildren ages 6-12 are $15.00\nChildren 5 and under are free\nTickets are available\, in advance\, at the Bedford Welcome Center\, Town Kitchen & Provisions\, or online at lynchburgtickets.com. \n 
URL:https://destinationbedfordva.com/event/bedfords-finest-fare/
LOCATION:Bower Center for the Arts\, 305 North Bridge Street\, Bedford\, VA\, 24523\, United States
CATEGORIES:Featured
GEO:37.3365706;-79.5229491
X-APPLE-STRUCTURED-LOCATION;VALUE=URI;X-ADDRESS=Bower Center for the Arts 305 North Bridge Street Bedford VA 24523 United States;X-APPLE-RADIUS=500;X-TITLE=305 North Bridge Street:geo:-79.5229491,37.3365706
END:VEVENT
BEGIN:VEVENT
DTSTART;TZID=America/New_York:20170604T140000
DTEND;TZID=America/New_York:20170604T160000
DTSTAMP:20260421T171853
CREATED:20170602T141812Z
LAST-MODIFIED:20170602T141812Z
UID:10046406-1496584800-1496592000@destinationbedfordva.com
SUMMARY:Tom Bachtell Exhibit at Bower Center for the Arts
DESCRIPTION:Tom Bachtell Reception June 4th 2 – 4 PM\nMeet Tom\, illustrator for the New Yorker magazine\, and view his amazing illustrations in the Terrace Gallery!  Gallery talk starts @ 2:30. \nThis event is catered and a cash bar will be available!
URL:https://destinationbedfordva.com/event/tom-bachtell-exhibit-at-bower-center-for-the-arts/
LOCATION:Bower Center for the Arts\, 305 North Bridge Street\, Bedford\, VA\, 24523\, United States
GEO:37.3365706;-79.5229491
X-APPLE-STRUCTURED-LOCATION;VALUE=URI;X-ADDRESS=Bower Center for the Arts 305 North Bridge Street Bedford VA 24523 United States;X-APPLE-RADIUS=500;X-TITLE=305 North Bridge Street:geo:-79.5229491,37.3365706
END:VEVENT
BEGIN:VEVENT
DTSTART;TZID=America/New_York:20170527T170000
DTEND;TZID=America/New_York:20170527T210000
DTSTAMP:20260421T171853
CREATED:20161222T205955Z
LAST-MODIFIED:20161222T205955Z
UID:10046342-1495904400-1495918800@destinationbedfordva.com
SUMMARY:Bower Center for the Arts 8th Annual Crawfish Festival
DESCRIPTION:Mark your calendar and bring your lawn chairs for Bower Center for the Arts 8th Annual Crawfish Festival! Hundreds of pounds of freshwater crawfish are brought to Bedford live and boiled on the spot. \nEtoufee\, red beans & rice\, chicken gumbo\, corn on the cob\, and potatoes are included in the spring feast. Dr. John Bower and Edna Curry not only bring everything (food & cooks) from Mississippi\, they also bring several family members and friends from Mississippi and Virginia to prepare and serve at the Crawfish Festival.\nAnd you can’t have a festival without live music! Get ready to move your feet to the rollicking music of zydeco music performed by Zydeco Crayz\, from DC. \nTicket Information:\n* $30 in advance\, $35 at the gate. All you can eat!\n* $10 Children 12 and under\n* Children under 5 Free \nBeer/wine available for purchase with ID. \nNote: No coolers allowed \nTicket locations: Bower Center for the Arts\, Bedford Area Welcome Center\, and online at Lynchburg Tickets/BowerCenter \nFestival Location: festivities will take place on the street directly in front of Bower Center for the Arts. Ticketing entrance will be at Bedford and Bridge Street intersection\, look for the fire truck and ladder. \nSponsored in part by: Dr. John Bower and Edna Curry\, Tharp Funeral Home & Crematory\, Inc.\, Goose Creek Studio\, and Bedford Tourism
URL:https://destinationbedfordva.com/event/bower-center-crawfish-festival/
LOCATION:Bower Center for the Arts\, 305 North Bridge Street\, Bedford\, VA\, 24523\, United States
CATEGORIES:Featured
GEO:37.3365706;-79.5229491
X-APPLE-STRUCTURED-LOCATION;VALUE=URI;X-ADDRESS=Bower Center for the Arts 305 North Bridge Street Bedford VA 24523 United States;X-APPLE-RADIUS=500;X-TITLE=305 North Bridge Street:geo:-79.5229491,37.3365706
END:VEVENT
BEGIN:VEVENT
DTSTART;TZID=America/New_York:20170513T193000
DTEND;TZID=America/New_York:20170513T210000
DTSTAMP:20260421T171853
CREATED:20161222T205404Z
LAST-MODIFIED:20161222T205404Z
UID:10046341-1494703800-1494709200@destinationbedfordva.com
SUMMARY:Lenny Marcus Trio in concert at Bower Center
DESCRIPTION:Lenny Marcus hails from Wash\, DC\, but he worked for many years in New Orleans\, studying and performing with legends such as Ray Bryant\, Ellis Marsalis\, Alvin Batiste\, and recording with David “Fathead” Newman\, Charlie Byrd\, Frank Foster\, Sonny Fortune\, Brian Lynch\, Jane Powell and others. His band is a well-schooled jazz group. Lenny has recorded 20+ CDs to date\, 22 as leader\, performed in two international jazz festivals\, and has had his music featured on the National Weather Channel\, NPR’s All that Jazz and All Songs Considered. Two of his songs were finalists in the ISC international song writer’s competition. Lenny is a highly trained jazz pianist who also plays flute and adds vocals. Lenny’s music goes from modern high energy to a more contemplative\, meditative approach. \nCheck out his music at https://www.lennymarcusmusic.com/media/. \nTickets can be purchased in advance at lynchburgtickets.com or Bower Center for $10 or at the door the evening of the performance for $12. \nFor more information you may phone 540-586-4235 or visit www.bowercenter.org. \nThe Concert is partially sponsored by a grant from the Town of Bedford and the Virginia Commission for the Arts. \n 
URL:https://destinationbedfordva.com/event/lenny-marcus-trio-in-concert-at-bower-center/
LOCATION:Bower Center for the Arts\, 305 North Bridge Street\, Bedford\, VA\, 24523\, United States
GEO:37.3365706;-79.5229491
X-APPLE-STRUCTURED-LOCATION;VALUE=URI;X-ADDRESS=Bower Center for the Arts 305 North Bridge Street Bedford VA 24523 United States;X-APPLE-RADIUS=500;X-TITLE=305 North Bridge Street:geo:-79.5229491,37.3365706
END:VEVENT
BEGIN:VEVENT
DTSTART;TZID=America/New_York:20170324T193000
DTEND;TZID=America/New_York:20170324T210000
DTSTAMP:20260421T171853
CREATED:20161222T204243Z
LAST-MODIFIED:20161222T204243Z
UID:10046340-1490383800-1490389200@destinationbedfordva.com
SUMMARY:Elena Mullins and Friends in Concert at Bower Center
DESCRIPTION:Singer and composer Elena Mullins will perform in a baroque concert.  She will be accompanied by David McCormick on violin and Anthony Harvey on lute and theorbo. \nAll three are well-known to AGAR audiences for their performances with Three Notch’d Road and Alkemie. \nTickets can be purchased in advance at lynchburgtickets.com or Bower Center for $15 or at the door the evening of the performance. \nFor more information you may phone 540-586-4235 or visit www.bowercenter.org. \nThe Concert is co-sponsored by AGAR and the Virginia Commission for the Arts. \n 
URL:https://destinationbedfordva.com/event/elena-mullins-and-friends-in-concert-at-bower-center/
LOCATION:Bower Center for the Arts\, 305 North Bridge Street\, Bedford\, VA\, 24523\, United States
GEO:37.3365706;-79.5229491
X-APPLE-STRUCTURED-LOCATION;VALUE=URI;X-ADDRESS=Bower Center for the Arts 305 North Bridge Street Bedford VA 24523 United States;X-APPLE-RADIUS=500;X-TITLE=305 North Bridge Street:geo:-79.5229491,37.3365706
END:VEVENT
BEGIN:VEVENT
DTSTART;TZID=America/New_York:20170211T193000
DTEND;TZID=America/New_York:20170211T210000
DTSTAMP:20260421T171853
CREATED:20161222T203924Z
LAST-MODIFIED:20161222T203924Z
UID:10046339-1486841400-1486846800@destinationbedfordva.com
SUMMARY:Marc Baskind Trio with Keith Campbell in Concert at Bower Center
DESCRIPTION:Baskind and his trio with perform rock/jazz/blues/beach\, country/bluegrass with local artist Keith Campbell in this cabaret style concert. Marc was raised in the heart of the Mississippi Delta (Greenville) and influenced by jazz\, blues\, and classics. He started ukulele at 7\, guitar at 11\, and majored in Tuba\, leaving him in love with almost every genre of music \nTickets can be purchased in advance at lynchburgtickets.com or Bower Center for $10 or at the door the evening of the performance for $12. \nFor more information you may phone 540-586-4235 or visit www.bowercenter.org. \nThe Concert is partially sponsored by a grant from the Town of Bedford and the Virginia Commission for the Arts. \n 
URL:https://destinationbedfordva.com/event/marc-baskind-trio-with-keith-campbell-in-concert-at-bower-center/
LOCATION:Bower Center for the Arts\, 305 North Bridge Street\, Bedford\, VA\, 24523\, United States
GEO:37.3365706;-79.5229491
X-APPLE-STRUCTURED-LOCATION;VALUE=URI;X-ADDRESS=Bower Center for the Arts 305 North Bridge Street Bedford VA 24523 United States;X-APPLE-RADIUS=500;X-TITLE=305 North Bridge Street:geo:-79.5229491,37.3365706
END:VEVENT
BEGIN:VEVENT
DTSTART;TZID=America/New_York:20170114T193000
DTEND;TZID=America/New_York:20170114T210000
DTSTAMP:20260421T171853
CREATED:20161222T203649Z
LAST-MODIFIED:20161222T203649Z
UID:10046338-1484422200-1484427600@destinationbedfordva.com
SUMMARY:Gospel Concert at Bower Center with the JoyBells and Perkins & Envision
DESCRIPTION:Come to the Bower Center on January 14th at 7:30 pm to be entertained by the JoyBells and Perkins & Envision\, two amazing gospel groups.  Tickets can be purchased in advance at lynchburgtickets.com or Bower Center for $10 or at the door the evening of the performance for $12. \nFor more information you may phone 540-586-4235 or visit www.bowercenter.org. \nThe Concert is partially sponsored by a grant from the Town of Bedford and the Virginia Commission for the Arts.
URL:https://destinationbedfordva.com/event/gospel-concert-at-bower-center-with-the-joybells-and-perkins-envision/
LOCATION:Bower Center for the Arts\, 305 North Bridge Street\, Bedford\, VA\, 24523\, United States
GEO:37.3365706;-79.5229491
X-APPLE-STRUCTURED-LOCATION;VALUE=URI;X-ADDRESS=Bower Center for the Arts 305 North Bridge Street Bedford VA 24523 United States;X-APPLE-RADIUS=500;X-TITLE=305 North Bridge Street:geo:-79.5229491,37.3365706
END:VEVENT
BEGIN:VEVENT
DTSTART;TZID=America/New_York:20161119T100000
DTEND;TZID=America/New_York:20161119T140000
DTSTAMP:20260421T171853
CREATED:20161110T220727Z
LAST-MODIFIED:20161110T220727Z
UID:10046319-1479549600-1479564000@destinationbedfordva.com
SUMMARY:Bower Center for the Arts Hosts Great Pink Rummage Sale & Auction
DESCRIPTION:The Great Pink Rummage Sale and Auction will have hundreds of items for sale\, everything from books and art to furniture and musical instruments. Ticketed items will be in the Rummage Sale\, and Auctioneer Randy Patterson will lead the live auction for higher value items starting at 10:00 AM. The event is free and open to the public. \nBower Center for the Arts is a nonprofit organization that enriches the cultural life of Bedford and Central Virginia through the arts by fostering creative expression\, offering diverse educational opportunities\, and preserving historic venues. Proceeds from the Great Pink Rummage Sale and Auction will benefit Bower Center for the Arts. \nFor more information about Bower Center for the Arts\, please visit www.bowercenter.com or Bower Center for the Arts Facebook page. \n 
URL:https://destinationbedfordva.com/event/bower-center-for-the-arts-hosts-great-pink-rummage-sale-auction/
LOCATION:Bower Center for the Arts\, 305 North Bridge Street\, Bedford\, VA\, 24523\, United States
GEO:37.3365706;-79.5229491
X-APPLE-STRUCTURED-LOCATION;VALUE=URI;X-ADDRESS=Bower Center for the Arts 305 North Bridge Street Bedford VA 24523 United States;X-APPLE-RADIUS=500;X-TITLE=305 North Bridge Street:geo:-79.5229491,37.3365706
END:VEVENT
BEGIN:VEVENT
DTSTART;TZID=America/New_York:20160917T193000
DTEND;TZID=America/New_York:20160917T220000
DTSTAMP:20260421T171853
CREATED:20160830T142107Z
LAST-MODIFIED:20160830T142107Z
UID:10046291-1474140600-1474149600@destinationbedfordva.com
SUMMARY:Bower Concert with Ken and Alli\, Bedford’s folk duo
DESCRIPTION:Ken Horne and Allison Johnson will perform at the Bower Center on Saturday September 17th beginning at 7:30 PM.   Tickets are $10 in advance bought at lynchburgtickets.com or Bower Center.   Tickets at the door are $12.  The price of the tickets is kept low because of the Town of Bedford’s Government Challenge Grant and the VCA. \nKen and Alli treat their audiences to a show spanning several centuries and many genres of American folk music. From contemporary Americana to sixteenth-century Childe ballads\, from classic blues to country music standards\, they offer a variety of musical flavors. Ken Horne and Allison Johnson perform as the vocal duet “Ken and Alli”. Their stage show spans several centuries and many genres of American folk music. From contemporary Americana to sixteenth century Childe ballads\, from classic blues to country music standards (and some that ought to be)\, Ken and Alli offer a variety of musical styles and arrangements that can only be described as delightfully eclectic. Allison’s sparkling lead vocals and intricate harmonies blend perfectly with Ken’s rich baritone. Accompanied by finger style guitar and six string banjo with an occasional harmonica bit thrown in\, Ken and Alli create an evening of music that is entertaining\, inspirational\, and mostly\, a whole lot of fun.
URL:https://destinationbedfordva.com/event/bower-concert-with-ken-and-alli-bedfords-folk-duo/
END:VEVENT
BEGIN:VEVENT
DTSTART;VALUE=DATE:20160830
DTEND;VALUE=DATE:20161002
DTSTAMP:20260421T171853
CREATED:20160830T142425Z
LAST-MODIFIED:20160830T142425Z
UID:10046292-1472515200-1475366399@destinationbedfordva.com
SUMMARY:Sculptural Revelations
DESCRIPTION:Sculptural Revelations will be exhibited from August 30th through October 1st at the Bower Center and includes works by Bobby Fuller\, Patrick Ellis\, J. Gail Greer\, Robert Mason\, Sarah E.K. Muse\, Joe Collins\, Frederic Crist\, Darcy Meeker\, Nol Putnam\, Millicent Young\, Aggie Zed\, and Lori Stetson. \n 
URL:https://destinationbedfordva.com/event/artist-reception-for-sculptural-revelations/
END:VEVENT
END:VCALENDAR