BEGIN:VCALENDAR
VERSION:2.0
PRODID:-//Destination Bedford - ECPv6.8.3//NONSGML v1.0//EN
CALSCALE:GREGORIAN
METHOD:PUBLISH
X-ORIGINAL-URL:https://destinationbedfordva.com
X-WR-CALDESC:Events for Destination Bedford
REFRESH-INTERVAL;VALUE=DURATION:PT1H
X-Robots-Tag:noindex
X-PUBLISHED-TTL:PT1H
BEGIN:VTIMEZONE
TZID:America/New_York
BEGIN:DAYLIGHT
TZOFFSETFROM:-0500
TZOFFSETTO:-0400
TZNAME:EDT
DTSTART:20160313T070000
END:DAYLIGHT
BEGIN:STANDARD
TZOFFSETFROM:-0400
TZOFFSETTO:-0500
TZNAME:EST
DTSTART:20161106T060000
END:STANDARD
END:VTIMEZONE
BEGIN:VEVENT
DTSTART;VALUE=DATE:20160917
DTEND;VALUE=DATE:20160918
DTSTAMP:20260419T185251
CREATED:20160303T002827Z
LAST-MODIFIED:20160303T002827Z
UID:10045924-1474070400-1474156799@destinationbedfordva.com
SUMMARY:Jim Cameron Memorial Walk at Smith Mountain Lake State Park
DESCRIPTION:The annual Jim Cameron Memorial Walk will be held at scenic Smith Mountain Lake State Park for the benefit of Lake Christian Ministries. Jim Cameron\, LCM’s Executive Director from 2003-2010\, was renowned for his tireless efforts managing day-to-day operations of the Ministry as well as his passionate dedication to helping those in need. All proceeds from the JCMW will be utilized by Lake Christian Ministries to help our neighbors in need in the SML area. Lake Christian Ministries is a 501(c)(3) nonprofit organization\, located on Old Moneta Road in Moneta. Since 1992\, LCM has been providing food\, clothing and emergency financial aid to lake-area residents from Bedford\, Franklin\, and Pittsylvania counties. \nFor more information about the JCMW or to become involved as a walker\, team leader\, sponsor\, patron\, or volunteer \, please contact Bart Matthies at (540) 912-9141 or Lynda Imirie at (540) 721-3492. After June\, registration and forms should be available online at our website. \nMost walkers are with teams from businesses\, churches\, service clubs\, neighborhoods\, etc.\, but there are many individuals also\, who gather pledges July-August\, then collect the pledges the first two weeks of September\, and turn them in to complete preregistration. Others turn in their collected pledges at registration on the day of the walk.  The 5K or 10K Walks begin and end at the Smith Mountain Lake State Park beach area.
URL:https://destinationbedfordva.com/event/jim-cameron-memorial-walk-at-smith-mountain-lake-state-park/
LOCATION:Smith Mountain Lake State Park\, 1235 State Park Road\, Huddleston\, VA\, 24104\, United States
GEO:37.0916911;-79.592936
X-APPLE-STRUCTURED-LOCATION;VALUE=URI;X-ADDRESS=Smith Mountain Lake State Park 1235 State Park Road Huddleston VA 24104 United States;X-APPLE-RADIUS=500;X-TITLE=1235 State Park Road:geo:-79.592936,37.0916911
END:VEVENT
END:VCALENDAR