BEGIN:VCALENDAR
VERSION:2.0
PRODID:-//Destination Bedford - ECPv6.8.3//NONSGML v1.0//EN
CALSCALE:GREGORIAN
METHOD:PUBLISH
X-WR-CALNAME:Destination Bedford
X-ORIGINAL-URL:https://destinationbedfordva.com
X-WR-CALDESC:Events for Destination Bedford
REFRESH-INTERVAL;VALUE=DURATION:PT1H
X-Robots-Tag:noindex
X-PUBLISHED-TTL:PT1H
BEGIN:VTIMEZONE
TZID:America/New_York
BEGIN:DAYLIGHT
TZOFFSETFROM:-0500
TZOFFSETTO:-0400
TZNAME:EDT
DTSTART:20250309T070000
END:DAYLIGHT
BEGIN:STANDARD
TZOFFSETFROM:-0400
TZOFFSETTO:-0500
TZNAME:EST
DTSTART:20251102T060000
END:STANDARD
END:VTIMEZONE
BEGIN:VEVENT
DTSTART;TZID=America/New_York:20250719T110000
DTEND;TZID=America/New_York:20250719T170000
DTSTAMP:20260422T201131
CREATED:20250612T202919Z
LAST-MODIFIED:20250612T202919Z
UID:10060704-1752922800-1752944400@destinationbedfordva.com
SUMMARY:Beers\, Boots & BBQ
DESCRIPTION:Bring the whole family out for a fun-filled day. Enjoy a variety of arts\, crafts and delicious local food vendors. A beer truck will be on-site. At 12 p.m.\, Out of Spite will take the stage. $15.00 Cash Only at the gate\, 7 & under free\, lawn chairs welcome\, no coolers\, no pets. Don’t miss this fun-filled community event!
URL:https://destinationbedfordva.com/event/beers-boots-bbq/
LOCATION:2220 Harvest Lane\, 2220 Harvest Ln\,\, Forest\, VA\, 24551\, United States
ATTACH;FMTTYPE=image/jpeg:https://destinationbedfordva.com/wp-content/uploads/2025/06/beer-boots-and-bbq.jpg
END:VEVENT
BEGIN:VEVENT
DTSTART;TZID=America/New_York:20250503T130000
DTEND;TZID=America/New_York:20250503T180000
DTSTAMP:20260422T201131
CREATED:20250501T184438Z
LAST-MODIFIED:20250501T184438Z
UID:10059616-1746277200-1746295200@destinationbedfordva.com
SUMMARY:Mommas\, Mimosas\, & Music
DESCRIPTION:Bring the whole family out for a fun-filled day! Enjoy a variety of arts\, crafts\, and delicious food from local vendors. A beer truck will be on-site. At 2:00 p.m.\, Pleading The 5th Band will take the stage\, come relax\, listen to live music\, shop unique finds\, and have a picnic on the lawn. Don’t miss this great community event! $10 at the gate Gates open at 1 p.m.\, cash only 10 and under free. Lawn Chairs Welcome\, No Coolers
URL:https://destinationbedfordva.com/event/mommas-mimosas-music/
LOCATION:2220 Harvest Lane\, 2220 Harvest Ln\,\, Forest\, VA\, 24551\, United States
ATTACH;FMTTYPE=image/jpeg:https://destinationbedfordva.com/wp-content/uploads/2025/05/challenge-sports-mothers-day-event.jpg
END:VEVENT
END:VCALENDAR