BEGIN:VCALENDAR
VERSION:2.0
PRODID:-//Destination Bedford - ECPv6.8.3//NONSGML v1.0//EN
CALSCALE:GREGORIAN
METHOD:PUBLISH
X-WR-CALNAME:Destination Bedford
X-ORIGINAL-URL:https://destinationbedfordva.com
X-WR-CALDESC:Events for Destination Bedford
REFRESH-INTERVAL;VALUE=DURATION:PT1H
X-Robots-Tag:noindex
X-PUBLISHED-TTL:PT1H
BEGIN:VTIMEZONE
TZID:America/New_York
BEGIN:DAYLIGHT
TZOFFSETFROM:-0500
TZOFFSETTO:-0400
TZNAME:EDT
DTSTART:20260308T070000
END:DAYLIGHT
BEGIN:STANDARD
TZOFFSETFROM:-0400
TZOFFSETTO:-0500
TZNAME:EST
DTSTART:20261101T060000
END:STANDARD
END:VTIMEZONE
BEGIN:VEVENT
DTSTART;TZID=America/New_York:20260905T080000
DTEND;TZID=America/New_York:20260905T120000
DTSTAMP:20260421T181946
CREATED:20210112T144938Z
LAST-MODIFIED:20260420T182855Z
UID:10063601-1788595200-1788609600@destinationbedfordva.com
SUMMARY:Bedford Farmers Market
DESCRIPTION:The Bedford Farmers Market will have fresh produce\, vegetables\, baked goods\, artisan crafts and a variety of Bedford and locally grown products! Free off-street parking. The market is open Every Saturday!  \nClick here to see which vendors will be on site each week!  \n 
URL:https://destinationbedfordva.com/event/bedford-farmers-market-4/2026-09-05/
LOCATION:Bedford Farmers Market\, Washington and Center Streets\, Bedford\, VA\, 24523\, United States
ATTACH;FMTTYPE=image/jpeg:https://destinationbedfordva.com/wp-content/uploads/2020/03/Bedford-Farmers-Market-logo-2024-002.jpg
GEO:37.3337321;-79.5252117
X-APPLE-STRUCTURED-LOCATION;VALUE=URI;X-ADDRESS=Bedford Farmers Market Washington and Center Streets Bedford VA 24523 United States;X-APPLE-RADIUS=500;X-TITLE=Washington and Center Streets:geo:-79.5252117,37.3337321
END:VEVENT
BEGIN:VEVENT
DTSTART;TZID=America/New_York:20260912T080000
DTEND;TZID=America/New_York:20260912T120000
DTSTAMP:20260421T181946
CREATED:20210112T144938Z
LAST-MODIFIED:20260420T182855Z
UID:10063602-1789200000-1789214400@destinationbedfordva.com
SUMMARY:Bedford Farmers Market
DESCRIPTION:The Bedford Farmers Market will have fresh produce\, vegetables\, baked goods\, artisan crafts and a variety of Bedford and locally grown products! Free off-street parking. The market is open Every Saturday!  \nClick here to see which vendors will be on site each week!  \n 
URL:https://destinationbedfordva.com/event/bedford-farmers-market-4/2026-09-12/
LOCATION:Bedford Farmers Market\, Washington and Center Streets\, Bedford\, VA\, 24523\, United States
ATTACH;FMTTYPE=image/jpeg:https://destinationbedfordva.com/wp-content/uploads/2020/03/Bedford-Farmers-Market-logo-2024-002.jpg
GEO:37.3337321;-79.5252117
X-APPLE-STRUCTURED-LOCATION;VALUE=URI;X-ADDRESS=Bedford Farmers Market Washington and Center Streets Bedford VA 24523 United States;X-APPLE-RADIUS=500;X-TITLE=Washington and Center Streets:geo:-79.5252117,37.3337321
END:VEVENT
BEGIN:VEVENT
DTSTART;TZID=America/New_York:20260919T080000
DTEND;TZID=America/New_York:20260919T120000
DTSTAMP:20260421T181946
CREATED:20210112T144938Z
LAST-MODIFIED:20260420T182855Z
UID:10063603-1789804800-1789819200@destinationbedfordva.com
SUMMARY:Bedford Farmers Market
DESCRIPTION:The Bedford Farmers Market will have fresh produce\, vegetables\, baked goods\, artisan crafts and a variety of Bedford and locally grown products! Free off-street parking. The market is open Every Saturday!  \nClick here to see which vendors will be on site each week!  \n 
URL:https://destinationbedfordva.com/event/bedford-farmers-market-4/2026-09-19/
LOCATION:Bedford Farmers Market\, Washington and Center Streets\, Bedford\, VA\, 24523\, United States
ATTACH;FMTTYPE=image/jpeg:https://destinationbedfordva.com/wp-content/uploads/2020/03/Bedford-Farmers-Market-logo-2024-002.jpg
GEO:37.3337321;-79.5252117
X-APPLE-STRUCTURED-LOCATION;VALUE=URI;X-ADDRESS=Bedford Farmers Market Washington and Center Streets Bedford VA 24523 United States;X-APPLE-RADIUS=500;X-TITLE=Washington and Center Streets:geo:-79.5252117,37.3337321
END:VEVENT
BEGIN:VEVENT
DTSTART;TZID=America/New_York:20260926T080000
DTEND;TZID=America/New_York:20260926T120000
DTSTAMP:20260421T181946
CREATED:20210112T144938Z
LAST-MODIFIED:20260420T182855Z
UID:10063604-1790409600-1790424000@destinationbedfordva.com
SUMMARY:Bedford Farmers Market
DESCRIPTION:The Bedford Farmers Market will have fresh produce\, vegetables\, baked goods\, artisan crafts and a variety of Bedford and locally grown products! Free off-street parking. The market is open Every Saturday!  \nClick here to see which vendors will be on site each week!  \n 
URL:https://destinationbedfordva.com/event/bedford-farmers-market-4/2026-09-26/
LOCATION:Bedford Farmers Market\, Washington and Center Streets\, Bedford\, VA\, 24523\, United States
ATTACH;FMTTYPE=image/jpeg:https://destinationbedfordva.com/wp-content/uploads/2020/03/Bedford-Farmers-Market-logo-2024-002.jpg
GEO:37.3337321;-79.5252117
X-APPLE-STRUCTURED-LOCATION;VALUE=URI;X-ADDRESS=Bedford Farmers Market Washington and Center Streets Bedford VA 24523 United States;X-APPLE-RADIUS=500;X-TITLE=Washington and Center Streets:geo:-79.5252117,37.3337321
END:VEVENT
END:VCALENDAR