BEGIN:VCALENDAR
VERSION:2.0
PRODID:-//Destination Bedford - ECPv6.8.3//NONSGML v1.0//EN
CALSCALE:GREGORIAN
METHOD:PUBLISH
X-ORIGINAL-URL:https://destinationbedfordva.com
X-WR-CALDESC:Events for Destination Bedford
REFRESH-INTERVAL;VALUE=DURATION:PT1H
X-Robots-Tag:noindex
X-PUBLISHED-TTL:PT1H
BEGIN:VTIMEZONE
TZID:America/New_York
BEGIN:DAYLIGHT
TZOFFSETFROM:-0500
TZOFFSETTO:-0400
TZNAME:EDT
DTSTART:20170312T070000
END:DAYLIGHT
BEGIN:STANDARD
TZOFFSETFROM:-0400
TZOFFSETTO:-0500
TZNAME:EST
DTSTART:20171105T060000
END:STANDARD
END:VTIMEZONE
BEGIN:VEVENT
DTSTART;TZID=America/New_York:20170209T063000
DTEND;TZID=America/New_York:20170209T200000
DTSTAMP:20260422T132516
CREATED:20170203T205441Z
LAST-MODIFIED:20170203T205441Z
UID:10046354-1486621800-1486670400@destinationbedfordva.com
SUMMARY:Community Awareness Meeting
DESCRIPTION:Drugs in Bedford? \nJoin the Town Bedford Police Department for their next Community Awareness Meeting on February 9\, 2017 and find out which drugs are prevalent in our area and strategies others have taken to make their communities safer.
URL:https://destinationbedfordva.com/event/community-awareness-meeting/
LOCATION:Bedford Police Department\, Town of Bedford Municipal Building\, 215 East Main Street\, 3rd Floor\, Bedford\, 24523
END:VEVENT
BEGIN:VEVENT
DTSTART;TZID=America/New_York:20170112T183000
DTEND;TZID=America/New_York:20170112T193000
DTSTAMP:20260422T132516
CREATED:20170109T191828Z
LAST-MODIFIED:20170109T191828Z
UID:10046347-1484245800-1484249400@destinationbedfordva.com
SUMMARY:Bedford Police Department Community Awareness Meeting
DESCRIPTION:The Future and Upcoming Improvements \nCome and join Chief Todd Foreman for an informative evening at the next Community Awareness meeting as he will be discussing changes\, improvements and goals being set for the Bedford Police Department and how they will benefit the quality of life for our residents. \nThere will be a question and answer period after the discussion. \n 
URL:https://destinationbedfordva.com/event/bedford-police-department-community-awareness-meeting/
LOCATION:Bedford Police Department\, Town of Bedford Municipal Building\, 215 East Main Street\, 3rd Floor\, Bedford\, 24523
END:VEVENT
END:VCALENDAR