BEGIN:VCALENDAR
VERSION:2.0
PRODID:-//Destination Bedford - ECPv6.8.3//NONSGML v1.0//EN
CALSCALE:GREGORIAN
METHOD:PUBLISH
X-WR-CALNAME:Destination Bedford
X-ORIGINAL-URL:https://destinationbedfordva.com
X-WR-CALDESC:Events for Destination Bedford
REFRESH-INTERVAL;VALUE=DURATION:PT1H
X-Robots-Tag:noindex
X-PUBLISHED-TTL:PT1H
BEGIN:VTIMEZONE
TZID:America/New_York
BEGIN:DAYLIGHT
TZOFFSETFROM:-0500
TZOFFSETTO:-0400
TZNAME:EDT
DTSTART:20160313T070000
END:DAYLIGHT
BEGIN:STANDARD
TZOFFSETFROM:-0400
TZOFFSETTO:-0500
TZNAME:EST
DTSTART:20161106T060000
END:STANDARD
BEGIN:DAYLIGHT
TZOFFSETFROM:-0500
TZOFFSETTO:-0400
TZNAME:EDT
DTSTART:20170312T070000
END:DAYLIGHT
BEGIN:STANDARD
TZOFFSETFROM:-0400
TZOFFSETTO:-0500
TZNAME:EST
DTSTART:20171105T060000
END:STANDARD
BEGIN:DAYLIGHT
TZOFFSETFROM:-0500
TZOFFSETTO:-0400
TZNAME:EDT
DTSTART:20180311T070000
END:DAYLIGHT
BEGIN:STANDARD
TZOFFSETFROM:-0400
TZOFFSETTO:-0500
TZNAME:EST
DTSTART:20181104T060000
END:STANDARD
BEGIN:DAYLIGHT
TZOFFSETFROM:-0500
TZOFFSETTO:-0400
TZNAME:EDT
DTSTART:20190310T070000
END:DAYLIGHT
BEGIN:STANDARD
TZOFFSETFROM:-0400
TZOFFSETTO:-0500
TZNAME:EST
DTSTART:20191103T060000
END:STANDARD
END:VTIMEZONE
BEGIN:VEVENT
DTSTART;TZID=America/New_York:20190803T110000
DTEND;TZID=America/New_York:20190803T120000
DTSTAMP:20260420T133125
CREATED:20190129T204051Z
LAST-MODIFIED:20190129T204051Z
UID:10046932-1564830000-1564833600@destinationbedfordva.com
SUMMARY:Saturday Story Time
DESCRIPTION:Saturday Story Time @ Bedford Central Library\nJoin us on the 1st Saturday of every month at 11:00 AM (unless the library is closed) for a new program filled with fun stories\, songs\, crafts and more! For children ages 0-5.
URL:https://destinationbedfordva.com/event/saturday-story-time/2019-08-03/
LOCATION:Bedford Public Library\, 305 North Bridge Street\, Bedford\, VA\, 24523\, United States
GEO:37.3362531;-79.5228245
X-APPLE-STRUCTURED-LOCATION;VALUE=URI;X-ADDRESS=Bedford Public Library 305 North Bridge Street Bedford VA 24523 United States;X-APPLE-RADIUS=500;X-TITLE=305 North Bridge Street:geo:-79.5228245,37.3362531
END:VEVENT
BEGIN:VEVENT
DTSTART;TZID=America/New_York:20190720T153000
DTEND;TZID=America/New_York:20190720T180000
DTSTAMP:20260420T133125
CREATED:20190719T151401Z
LAST-MODIFIED:20190719T151401Z
UID:10047364-1563636600-1563645600@destinationbedfordva.com
SUMMARY:Family Movie Matinee
DESCRIPTION:Come to the Bedford Central Library on the 3rd Saturday of every month for a fun family afternoon of crafts\, games\, snacks and a movie. This month the movie is How to Train Your Dragon 3 (PG). We hope to see you there!
URL:https://destinationbedfordva.com/event/family-movie-matinee/
LOCATION:Bedford Public Library\, 305 North Bridge Street\, Bedford\, VA\, 24523\, United States
GEO:37.3362531;-79.5228245
X-APPLE-STRUCTURED-LOCATION;VALUE=URI;X-ADDRESS=Bedford Public Library 305 North Bridge Street Bedford VA 24523 United States;X-APPLE-RADIUS=500;X-TITLE=305 North Bridge Street:geo:-79.5228245,37.3362531
END:VEVENT
BEGIN:VEVENT
DTSTART;TZID=America/New_York:20190706T110000
DTEND;TZID=America/New_York:20190706T120000
DTSTAMP:20260420T133125
CREATED:20190129T204051Z
LAST-MODIFIED:20190129T204051Z
UID:10046931-1562410800-1562414400@destinationbedfordva.com
SUMMARY:Saturday Story Time
DESCRIPTION:Saturday Story Time @ Bedford Central Library\nJoin us on the 1st Saturday of every month at 11:00 AM (unless the library is closed) for a new program filled with fun stories\, songs\, crafts and more! For children ages 0-5.
URL:https://destinationbedfordva.com/event/saturday-story-time/2019-07-06/
LOCATION:Bedford Public Library\, 305 North Bridge Street\, Bedford\, VA\, 24523\, United States
GEO:37.3362531;-79.5228245
X-APPLE-STRUCTURED-LOCATION;VALUE=URI;X-ADDRESS=Bedford Public Library 305 North Bridge Street Bedford VA 24523 United States;X-APPLE-RADIUS=500;X-TITLE=305 North Bridge Street:geo:-79.5228245,37.3362531
END:VEVENT
BEGIN:VEVENT
DTSTART;TZID=America/New_York:20190601T110000
DTEND;TZID=America/New_York:20190601T120000
DTSTAMP:20260420T133125
CREATED:20190129T204051Z
LAST-MODIFIED:20190129T204051Z
UID:10046930-1559386800-1559390400@destinationbedfordva.com
SUMMARY:Saturday Story Time
DESCRIPTION:Saturday Story Time @ Bedford Central Library\nJoin us on the 1st Saturday of every month at 11:00 AM (unless the library is closed) for a new program filled with fun stories\, songs\, crafts and more! For children ages 0-5.
URL:https://destinationbedfordva.com/event/saturday-story-time/2019-06-01/
LOCATION:Bedford Public Library\, 305 North Bridge Street\, Bedford\, VA\, 24523\, United States
GEO:37.3362531;-79.5228245
X-APPLE-STRUCTURED-LOCATION;VALUE=URI;X-ADDRESS=Bedford Public Library 305 North Bridge Street Bedford VA 24523 United States;X-APPLE-RADIUS=500;X-TITLE=305 North Bridge Street:geo:-79.5228245,37.3362531
END:VEVENT
BEGIN:VEVENT
DTSTART;TZID=America/New_York:20190504T110000
DTEND;TZID=America/New_York:20190504T120000
DTSTAMP:20260420T133125
CREATED:20190129T204051Z
LAST-MODIFIED:20190129T204051Z
UID:10046929-1556967600-1556971200@destinationbedfordva.com
SUMMARY:Saturday Story Time
DESCRIPTION:Saturday Story Time @ Bedford Central Library\nJoin us on the 1st Saturday of every month at 11:00 AM (unless the library is closed) for a new program filled with fun stories\, songs\, crafts and more! For children ages 0-5.
URL:https://destinationbedfordva.com/event/saturday-story-time/2019-05-04/
LOCATION:Bedford Public Library\, 305 North Bridge Street\, Bedford\, VA\, 24523\, United States
GEO:37.3362531;-79.5228245
X-APPLE-STRUCTURED-LOCATION;VALUE=URI;X-ADDRESS=Bedford Public Library 305 North Bridge Street Bedford VA 24523 United States;X-APPLE-RADIUS=500;X-TITLE=305 North Bridge Street:geo:-79.5228245,37.3362531
END:VEVENT
BEGIN:VEVENT
DTSTART;TZID=America/New_York:20190412T193000
DTEND;TZID=America/New_York:20190412T220000
DTSTAMP:20260420T133125
CREATED:20190322T155329Z
LAST-MODIFIED:20190322T155329Z
UID:10047054-1555097400-1555106400@destinationbedfordva.com
SUMMARY:The Sweetback Sisters
DESCRIPTION:Join the Friends of the Bedford Public Library on Friday\, April 12\, at 7:30 p.m. as they host in concert\, The Sweetback Sisters. The concert\, held in the Bedford Room of Bedford Central Library is open to the public\, with a ticket price of $15.00 per person; collected at the door or purchased in advance through http://www.lynchburgtickets.com/ Seating is limited.  For more information\, call 540-586-8911\, or visit: www.friendsofbedfordlibrary.org.  Join us and bring a friend or two!
URL:https://destinationbedfordva.com/event/the-sweetback-sisters/
LOCATION:Bedford Public Library\, 305 North Bridge Street\, Bedford\, VA\, 24523\, United States
GEO:37.3362531;-79.5228245
X-APPLE-STRUCTURED-LOCATION;VALUE=URI;X-ADDRESS=Bedford Public Library 305 North Bridge Street Bedford VA 24523 United States;X-APPLE-RADIUS=500;X-TITLE=305 North Bridge Street:geo:-79.5228245,37.3362531
END:VEVENT
BEGIN:VEVENT
DTSTART;TZID=America/New_York:20190406T110000
DTEND;TZID=America/New_York:20190406T120000
DTSTAMP:20260420T133125
CREATED:20190129T204051Z
LAST-MODIFIED:20190129T204051Z
UID:10046928-1554548400-1554552000@destinationbedfordva.com
SUMMARY:Saturday Story Time
DESCRIPTION:Saturday Story Time @ Bedford Central Library\nJoin us on the 1st Saturday of every month at 11:00 AM (unless the library is closed) for a new program filled with fun stories\, songs\, crafts and more! For children ages 0-5.
URL:https://destinationbedfordva.com/event/saturday-story-time/2019-04-06/
LOCATION:Bedford Public Library\, 305 North Bridge Street\, Bedford\, VA\, 24523\, United States
GEO:37.3362531;-79.5228245
X-APPLE-STRUCTURED-LOCATION;VALUE=URI;X-ADDRESS=Bedford Public Library 305 North Bridge Street Bedford VA 24523 United States;X-APPLE-RADIUS=500;X-TITLE=305 North Bridge Street:geo:-79.5228245,37.3362531
END:VEVENT
BEGIN:VEVENT
DTSTART;TZID=America/New_York:20190302T110000
DTEND;TZID=America/New_York:20190302T120000
DTSTAMP:20260420T133125
CREATED:20190129T204051Z
LAST-MODIFIED:20190129T204051Z
UID:10046927-1551524400-1551528000@destinationbedfordva.com
SUMMARY:Saturday Story Time
DESCRIPTION:Saturday Story Time @ Bedford Central Library\nJoin us on the 1st Saturday of every month at 11:00 AM (unless the library is closed) for a new program filled with fun stories\, songs\, crafts and more! For children ages 0-5.
URL:https://destinationbedfordva.com/event/saturday-story-time/2019-03-02/
LOCATION:Bedford Public Library\, 305 North Bridge Street\, Bedford\, VA\, 24523\, United States
GEO:37.3362531;-79.5228245
X-APPLE-STRUCTURED-LOCATION;VALUE=URI;X-ADDRESS=Bedford Public Library 305 North Bridge Street Bedford VA 24523 United States;X-APPLE-RADIUS=500;X-TITLE=305 North Bridge Street:geo:-79.5228245,37.3362531
END:VEVENT
BEGIN:VEVENT
DTSTART;TZID=America/New_York:20190202T193000
DTEND;TZID=America/New_York:20190202T223000
DTSTAMP:20260420T133125
CREATED:20190122T203627Z
LAST-MODIFIED:20190122T203627Z
UID:10046844-1549135800-1549146600@destinationbedfordva.com
SUMMARY:Freddy & Francine  - Americana Soul
DESCRIPTION:Join the Friends of the Bedford Public Library on Saturday\, February 2\, at 7:30 p.m. as they host in concert\, Freddy & Francine. The concert\, held in the Bedford Room of Bedford Central Library is open to the public\, with a ticket price of $15.00 per person; collected at the door or purchased in advance through http://www.lynchburgtickets.com/ Seating is limited.  For more information\, call 540-586-8911\, or visit: www.friendsofbedfordlibrary.org.  Join us and bring a friend or two! To receive notifications of upcoming shows please join our email list\, accessible through our web site. Help us build our mailing list by forwarding this to your friends. \nFreddy & Francine is an Americana-Soul duo comprised of Bianca Caruso & Lee Ferris. With voices reminiscent of Aretha Franklin & Van Morrison\, their songs blend Soul\, R&B\, Folk\, and Americana with a modern\, yet timeless appeal to all ages.  Based in Los Angeles\, Ferris and Caruso met in the 40th Anniversary of a musical production of HAiR in LA in 2007.  As individuals\, Caruso developed a comedy television show with ABC and Ferris racked up 500 performances as Carl Perkins in the Broadway musical Million Dollar Quartet.   Freddy & Francine have released 2 EPs & 3 full length records since 2008.  Their latest\, “Gung Ho” was produced by renowned producer Todd Sickafoose (Ani DiFranco\, Andrew Bird\, Anais Mitchell) and featured members of Ryan Adams\, Rufus Wainwright\, and Andrew Bird’s touring bands. \n 
URL:https://destinationbedfordva.com/event/freddy-francine-americana-soul/
LOCATION:Bedford Public Library\, 305 North Bridge Street\, Bedford\, VA\, 24523\, United States
GEO:37.3362531;-79.5228245
X-APPLE-STRUCTURED-LOCATION;VALUE=URI;X-ADDRESS=Bedford Public Library 305 North Bridge Street Bedford VA 24523 United States;X-APPLE-RADIUS=500;X-TITLE=305 North Bridge Street:geo:-79.5228245,37.3362531
END:VEVENT
BEGIN:VEVENT
DTSTART;TZID=America/New_York:20190202T110000
DTEND;TZID=America/New_York:20190202T120000
DTSTAMP:20260420T133125
CREATED:20190129T204051Z
LAST-MODIFIED:20190129T204051Z
UID:10046926-1549105200-1549108800@destinationbedfordva.com
SUMMARY:Saturday Story Time
DESCRIPTION:Saturday Story Time @ Bedford Central Library\nJoin us on the 1st Saturday of every month at 11:00 AM (unless the library is closed) for a new program filled with fun stories\, songs\, crafts and more! For children ages 0-5.
URL:https://destinationbedfordva.com/event/saturday-story-time/2019-02-02/
LOCATION:Bedford Public Library\, 305 North Bridge Street\, Bedford\, VA\, 24523\, United States
GEO:37.3362531;-79.5228245
X-APPLE-STRUCTURED-LOCATION;VALUE=URI;X-ADDRESS=Bedford Public Library 305 North Bridge Street Bedford VA 24523 United States;X-APPLE-RADIUS=500;X-TITLE=305 North Bridge Street:geo:-79.5228245,37.3362531
END:VEVENT
BEGIN:VEVENT
DTSTART;TZID=America/New_York:20181027T193000
DTEND;TZID=America/New_York:20181027T213000
DTSTAMP:20260420T133125
CREATED:20181010T143514Z
LAST-MODIFIED:20181010T143514Z
UID:10046733-1540668600-1540675800@destinationbedfordva.com
SUMMARY:The Colleen Raney Band – Traditional Irish
DESCRIPTION:Join the Friends of the Bedford Public Library on Saturday\, October 27\, 2018 at 7:30 p.m. as they host in concert\, The Colleen Raney Band The concert\, held in the Bedford Room of Bedford Central Library is open to the public\, with a ticket price of $15.00 per person; collected at the door or purchased in advance through http://www.lynchburgtickets.com/ Seating is limited. \nFor more information\, call 540-586-8911\, or visit: www.friendsofbedfordlibrary.org.
URL:https://destinationbedfordva.com/event/the-colleen-raney-band-traditional-irish/
LOCATION:Bedford Public Library\, 305 North Bridge Street\, Bedford\, VA\, 24523\, United States
GEO:37.3362531;-79.5228245
X-APPLE-STRUCTURED-LOCATION;VALUE=URI;X-ADDRESS=Bedford Public Library 305 North Bridge Street Bedford VA 24523 United States;X-APPLE-RADIUS=500;X-TITLE=305 North Bridge Street:geo:-79.5228245,37.3362531
END:VEVENT
BEGIN:VEVENT
DTSTART;TZID=America/New_York:20180921T193000
DTEND;TZID=America/New_York:20180921T213000
DTSTAMP:20260420T133125
CREATED:20180904T142303Z
LAST-MODIFIED:20180904T142303Z
UID:10046664-1537558200-1537565400@destinationbedfordva.com
SUMMARY:Lula Wiles ~ Folk Americana Band
DESCRIPTION:Join the Friends of the Bedford Public Library on Friday\, September 21 at 7:30 p.m. as they host in concert\, Lula Wiles.  The concert\, held in the Bedford Room of Bedford Central Library is open to the public\, with a ticket price of $15.00 per person; collected at the door or purchased in advance through Lynchburg Tickets. \nLula Wiles is a band deeply rooted in traditional folk music\, but equally deep is their devotion to modern songcraft. Their songs span from heartbreak-drenched acoustic ballads to honky-tonk swagger to contemporary grit and back again\, all anchored by powerful three-part vocal harmonies. Their lyrics are fiercely honest\, littered with reinvented folk tropes and evocative images – a rainy field of daisies\, a dusty bar lit by Christmas lights\, an unmade bed. They deliver love songs that are at once defiant and heartsick\, as well as new contributions to the folk ballad canon and timely explorations of what it means to live in America today. Drawing from the deep wells of traditional old-time music\, classic country\, and contemporary indie-folk-rock songwriting and arranging\, Lula Wiles melds diverse influences to create a sound all their own. The three band members deftly swap instruments and frontwoman duties\, with Ellie Buckland (vocals/guitar/fiddle)\, Isa Burke (vocals/guitar/fiddle)\, and Mali Obomsawin (vocals/bass) each contributing their own singularly expressive vocals\, instrumental lines\, and songwriting. Onstage\, the band gathers tightly around a single microphone for a spirited and emotionally resonant live show.\nFor more information\, call 540-586-8911\, or visit: www.friendsofbedfordlibrary.org. 
URL:https://destinationbedfordva.com/event/lula-wiles-folk-americana-band/
LOCATION:Bedford Public Library\, 305 North Bridge Street\, Bedford\, VA\, 24523\, United States
GEO:37.3362531;-79.5228245
X-APPLE-STRUCTURED-LOCATION;VALUE=URI;X-ADDRESS=Bedford Public Library 305 North Bridge Street Bedford VA 24523 United States;X-APPLE-RADIUS=500;X-TITLE=305 North Bridge Street:geo:-79.5228245,37.3362531
END:VEVENT
BEGIN:VEVENT
DTSTART;TZID=America/New_York:20180702T190000
DTEND;TZID=America/New_York:20180702T190000
DTSTAMP:20260420T133125
CREATED:20180604T131741Z
LAST-MODIFIED:20180604T131741Z
UID:10046622-1530558000-1530558000@destinationbedfordva.com
SUMMARY:Andrew Finn Magill with Guitarist/Vocalist Dave Curley
DESCRIPTION:Join us for Andre Finn Magill and Guitarist/Vocalist Dave Curley – Celtic and Contemporary Fiddling and Music.\nAdvance tickets available at Lynchburg Tickets. All tickets are $15. Door will open at 7 pm\, Concert starts at 7:30pm.  Come early for the best seats. \n  \n 
URL:https://destinationbedfordva.com/event/andrew-finn-magill-with-guitarist-vocalist-dave-curley/
LOCATION:Bedford Public Library\, 305 North Bridge Street\, Bedford\, VA\, 24523\, United States
GEO:37.3362531;-79.5228245
X-APPLE-STRUCTURED-LOCATION;VALUE=URI;X-ADDRESS=Bedford Public Library 305 North Bridge Street Bedford VA 24523 United States;X-APPLE-RADIUS=500;X-TITLE=305 North Bridge Street:geo:-79.5228245,37.3362531
END:VEVENT
BEGIN:VEVENT
DTSTART;TZID=America/New_York:20170714T193000
DTEND;TZID=America/New_York:20170714T213000
DTSTAMP:20260420T133125
CREATED:20170626T152336Z
LAST-MODIFIED:20170626T152336Z
UID:10046412-1500060600-1500067800@destinationbedfordva.com
SUMMARY:I Draw Slow Concert
DESCRIPTION:Join the Friends of the Bedford Public Library on Friday\, July 14\, at 7:30 p.m. as they host in concert\, I Draw Slow\, from Dublin\, Ireland. The concert\, held in the Bedford Room of Bedford Central Library is open to the public\, with a ticket price of $15.00 per person; collected at the door or purchased in advance through http://www.lynchburgtickets.com/ Seating is limited.  For more information\, call 540-586-8911\, or visit www.friendsofbedfordlibrary.org.  Join us and bring a friend or two! \nI Draw Slow hits #1 on the Irish Independent Charts with their new release Turn Your Face to the Sun! \nCheck out this video of “Valentine” featuring Aidan Gillen from the 2014 Release\, White Wave Chapel\, with over 50\,000 views. —>>>https://www.youtube.com/watch?v=16kHhHK5OKc&feature=youtu.be \nDublin\, Ireland’s I Draw Slow has already won the adoration of fans in their home country and North America by combining American folk and Irish storytelling traditions with close-harmony vocals\, intriguing instrumentation and compelling subject matter. And on their debut with Compass Records\, Turn Your Face to the Sun\, released April 21\, 2017\, the band adds even more depth to their sound and songwriting\, capturing I Draw Slow at their best — when they’re all together\, separated only by air. \nThe band first drew attention beyond Ireland’s shores with their 2011 release\, Redhills. Fueled by a prominent Spotify playlist placement and a video suggesting both 1890s bordello and 1920s speakeasy\, the song “Goldmine” became the album’s breakout track. Their follow-up album\, 2014’s White Wave Chapel\, reached No. 2 on Ireland’s iTunes chart\, driven in part by the video for “Valentine\,” which featured Game of Thrones star Aidan Gillen. \nIn the meantime\, they established themselves as festival standouts\, appearing at MerleFest\, Pickathon\, Wintergrass\, RockyGrass\, Grey Fox\, Red Wing\, Edmonton Folk Fest and High Sierra Music Festival to name a few. They’ve also appeared on many radio shows\, including the syndicated “Mountain Stage.” \n“…it seems a matter of time before I Draw Slow will dominate the global folk scene.” – Peter McGuire\, Huffington Post UK  \n“For an all-acoustic group\, I Draw Slow sure do have a fully realized sound. May we recommend ‘Valentine\,’ ‘Grand Hotel\,’ and ‘Don’t She Run.'” – The Bluegrass Situation  \n“It’s as gritty as it is beautiful.” – CMT Edge
URL:https://destinationbedfordva.com/event/i-draw-slow-concert/
LOCATION:Bedford Public Library\, 305 North Bridge Street\, Bedford\, VA\, 24523\, United States
GEO:37.3362531;-79.5228245
X-APPLE-STRUCTURED-LOCATION;VALUE=URI;X-ADDRESS=Bedford Public Library 305 North Bridge Street Bedford VA 24523 United States;X-APPLE-RADIUS=500;X-TITLE=305 North Bridge Street:geo:-79.5228245,37.3362531
END:VEVENT
BEGIN:VEVENT
DTSTART;TZID=America/New_York:20170303T193000
DTEND;TZID=America/New_York:20170303T220000
DTSTAMP:20260420T133125
CREATED:20170214T150653Z
LAST-MODIFIED:20170214T150653Z
UID:10046365-1488569400-1488578400@destinationbedfordva.com
SUMMARY:Skipper's Alley ~ Traditional Irish Music from Dublin Ireland
DESCRIPTION:Skipper’s Alley\, traditional Irish Music from Dublin Ireland will be in concert on Friday\, March 3\, 2017 at 7:30pm. \nThe concert\, held in the Bedford Room of Bedford Central Library is open to the public\,  and tickets can be purchased in advance from Lynchburg Tickets.  Note:  All tickets are $15.  You must bring a paper receipt or evidence on your phone to gain admission.  Doors open at 7pm. \nSkipper’s Alley are a 7-piece ensemble whose dynamic take on traditional Irish music has garnered wide critical praise and featured on stages across three continents. \nWith a sound described as “from unaccompanied song through to full Chieftains frenzy” (Folk World)\, the Dublin-based group arrange and interpret traditional Irish folk music on Uilleann Pipes\, Harp\, Fiddle\, Whistles\, Bodhrán\, Banjo and more\, taking influence from such early bands as Planxty\, Dé Dannan and The Bothy Band. \nSkipper’s Alley first came to prominence in the summer of 2013 after winning the Loic Raison Trophy at Le Festival Interceltique de Lorient\, an award previously won by such established acts as Danú and Clannad. Since then\, the group have made several high profile TV and Radio appearances (The Late Late Show\, Radio One’s Céilí House) and have toured in Ireland\, England\, Scotland\, France\, Germany\, Denmark\, India and Zambia. \nIn November 2014\, the band released their self-titled debut album to wide critical acclaim and a ★★★★ review in The Irish Times. \nNow\, with North American tours and a second album already in the pipeline\, Skipper’s Alley are a promising young act in the international folk circuit. \nFor more information\, call 540-586-8911\, or visit www.friendsofbedfordlibrary.org.  
URL:https://destinationbedfordva.com/event/skippers-alley-traditional-irish-music-from-dublin-ireland/
LOCATION:Bedford Public Library\, 305 North Bridge Street\, Bedford\, VA\, 24523\, United States
GEO:37.3362531;-79.5228245
X-APPLE-STRUCTURED-LOCATION;VALUE=URI;X-ADDRESS=Bedford Public Library 305 North Bridge Street Bedford VA 24523 United States;X-APPLE-RADIUS=500;X-TITLE=305 North Bridge Street:geo:-79.5228245,37.3362531
END:VEVENT
BEGIN:VEVENT
DTSTART;TZID=America/New_York:20170210T193000
DTEND;TZID=America/New_York:20170210T213000
DTSTAMP:20260420T133125
CREATED:20170125T143511Z
LAST-MODIFIED:20170125T143511Z
UID:10046352-1486755000-1486762200@destinationbedfordva.com
SUMMARY:RUNA ~ Celtic Roots Music
DESCRIPTION:Join the Friends of the Bedford Public Library on Friday\, February 10 at 7:30pm as they host the Irish group RUNA. \n\nThe concert\, held in the Bedford Room of Bedford Central Library is open to the public. \nTickets can be purchased in advance from Lynchburg Tickets. \nFor more information\, call 540.586.8911 or visit www.friendsofbedfordlibrary.org \n  \n  \n 
URL:https://destinationbedfordva.com/event/runa-celtic-roots-music/
LOCATION:Bedford Public Library\, 305 North Bridge Street\, Bedford\, VA\, 24523\, United States
CATEGORIES:Featured
GEO:37.3362531;-79.5228245
X-APPLE-STRUCTURED-LOCATION;VALUE=URI;X-ADDRESS=Bedford Public Library 305 North Bridge Street Bedford VA 24523 United States;X-APPLE-RADIUS=500;X-TITLE=305 North Bridge Street:geo:-79.5228245,37.3362531
END:VEVENT
BEGIN:VEVENT
DTSTART;TZID=America/New_York:20170121T193000
DTEND;TZID=America/New_York:20170121T213000
DTSTAMP:20260420T133125
CREATED:20170105T141529Z
LAST-MODIFIED:20170105T141529Z
UID:10046344-1485027000-1485034200@destinationbedfordva.com
SUMMARY:Dana and Susan Robinson
DESCRIPTION:Join the Friends of the Bedford Public Library on Saturday\, January 21\, at 7:30pm as they host Dana and Susan Robinson from Vermont. \n \nThe genius of a Dana and Susan Robinson performance lies in their ability to capture the imagination of their audience\, evoking a transformative experience that touches on the deepest humanity.  They can make the audience howl with laughter or hush with poignant reflection as they take them on a journey across America and convey the mystery and wonder of the places they visit. \nTickets can be purchased in advance from Lynchburg Tickets. \nFor more information\, call 540.586.8911 or visit www.friendsofbedfordlibrary.org.
URL:https://destinationbedfordva.com/event/dana-and-susan-robinson/
LOCATION:Bedford Public Library\, 305 North Bridge Street\, Bedford\, VA\, 24523\, United States
GEO:37.3362531;-79.5228245
X-APPLE-STRUCTURED-LOCATION;VALUE=URI;X-ADDRESS=Bedford Public Library 305 North Bridge Street Bedford VA 24523 United States;X-APPLE-RADIUS=500;X-TITLE=305 North Bridge Street:geo:-79.5228245,37.3362531
END:VEVENT
BEGIN:VEVENT
DTSTART;TZID=America/New_York:20170101T080000
DTEND;TZID=America/New_York:20170116T170000
DTSTAMP:20260420T133125
CREATED:20161229T161342Z
LAST-MODIFIED:20161229T161342Z
UID:10046343-1483257600-1484586000@destinationbedfordva.com
SUMMARY:Bedford Public Library Events
DESCRIPTION:All BPLS branches will be closed on Monday\, January 16th in observance of Martin Luther King Jr. Day. \nHappy New Year! \nBooks 4 Fun and Rock-A-Bye Reader story times will resume at the end of January. \nBedford Business \nCome to the library on Wednesday\, January 4th. Between 4:15 and 5:30 PM\, teens and tweens between the ages of 11-19 are invited to participate in Fashion Club. Learn about the world of fashion\, how to create your own designs\, and do cool Do It Yourself projects to make or repurpose your own clothing. Materials are provided\, but you may also bring your own. From now on\, the Fashion Club will be meeting twice a month on the first and fourth Wednesday of the month. \nCome to the Bedford Library for STEAM Wednesday on January 11th! During this month’s program\, we are learning about weather. What is it? Why does it do what it does? Let’s find out! Make a tornado\, watch a hurricane in action\, see a cloud form\, and learn all about snow\, just in time for winter! STEAM Wednesday is intended for children 7+. \nJoin us for LEGO® Club on Thursday\, January 12th between 3:30 and 5:30 PM. Put your imagination to work using our LEGOS® or DUPLOS®. From 3:30-4:30 PM\, kids will also have the opportunity to spend time reading to Ty\, our Reading Assistance Dog. This is a great time for your child to practice reading skills and boost confidence while having fun with our favorite furry friend. Ages 5+ \nComing up on Tuesday\, January 17th is Family Movie Night. We are showing The Secret Life of Pets (PG)\, an animated film from the studio that brought you Despicable Me! Enjoy crafts at 4:45 and the movie at 5PM. Snacks provided! The movie’s running time is 1 hour 30 minutes. We hope to see you there! \nOn Thursday\, January 19th\, come to the library at 4PM to learn about our 3-D printer. After this introduction\, teens ages 13 through young adult can make reservations to create their own masterpieces using this cutting edge technology. Days available for 3-D printing use will be Monday through Thursday between the hours of 4PM and 5:15PM. Due to complexity and time for print\, only one or two prints can be made in a day. \nForest Fun \nStart off the new year of 2017 with something familiar! Come to the Forest Library for our Dinosaur Club. Drop by between 4:30-5:30 PM on Thursday\, January 5th for this exclusive program. Kids ages 6+ can learn fascinating facts about these prehistoric creatures from a real dinosaur expert in this monthly club. Visit the library or call (540) 425-7002 to register. \nMoneta Merriment \nMoneta’s Books 4 Fun and Rock-A-Bye Reader programs return at the end of January. Get ready for another season of reading and fun! \nBig Island Antics \nStart the new year of 2017 with our Friday Film\, The Angry Birds Movie (PG). Join us at 3PM on January 6th for this animated movie inspired by the popular game\, and enjoy a free snack! \nMontvale Marvels \nCome by the Montvale Library for Teen Night on Friday\, January 6th! Between 5PM and 7PM we’ll be playing Xbox games\, hanging out with friends\, and enjoying tasty snacks! \nStewartsville Spectaculars \nStewartsville’s Books 4 Fun and Rock-A-Bye Reader programs return at the end of January. Get ready for another season of reading and fun! \nCONTACT INFORMATION:\nLauren Harper\nEmail:  lharper@bpls.org\nYouth Service Librarian\nBedford Public Library System
URL:https://destinationbedfordva.com/event/bedford-public-library-events-2/
LOCATION:Bedford Public Library\, 305 North Bridge Street\, Bedford\, VA\, 24523\, United States
GEO:37.3362531;-79.5228245
X-APPLE-STRUCTURED-LOCATION;VALUE=URI;X-ADDRESS=Bedford Public Library 305 North Bridge Street Bedford VA 24523 United States;X-APPLE-RADIUS=500;X-TITLE=305 North Bridge Street:geo:-79.5228245,37.3362531
END:VEVENT
BEGIN:VEVENT
DTSTART;TZID=America/New_York:20160916T193000
DTEND;TZID=America/New_York:20160916T213000
DTSTAMP:20260420T133125
CREATED:20160202T221519Z
LAST-MODIFIED:20160202T221519Z
UID:10045915-1474054200-1474061400@destinationbedfordva.com
SUMMARY:Diana Jones in Concert
DESCRIPTION:Appalachian Roots \n 
URL:https://destinationbedfordva.com/event/diana-jones-in-concert/
LOCATION:Bedford Public Library\, 305 North Bridge Street\, Bedford\, VA\, 24523\, United States
CATEGORIES:Featured
GEO:37.3362531;-79.5228245
X-APPLE-STRUCTURED-LOCATION;VALUE=URI;X-ADDRESS=Bedford Public Library 305 North Bridge Street Bedford VA 24523 United States;X-APPLE-RADIUS=500;X-TITLE=305 North Bridge Street:geo:-79.5228245,37.3362531
END:VEVENT
END:VCALENDAR