BEGIN:VCALENDAR
VERSION:2.0
PRODID:-//Destination Bedford - ECPv6.8.3//NONSGML v1.0//EN
CALSCALE:GREGORIAN
METHOD:PUBLISH
X-ORIGINAL-URL:https://destinationbedfordva.com
X-WR-CALDESC:Events for Destination Bedford
REFRESH-INTERVAL;VALUE=DURATION:PT1H
X-Robots-Tag:noindex
X-PUBLISHED-TTL:PT1H
BEGIN:VTIMEZONE
TZID:America/New_York
BEGIN:DAYLIGHT
TZOFFSETFROM:-0500
TZOFFSETTO:-0400
TZNAME:EDT
DTSTART:20190310T070000
END:DAYLIGHT
BEGIN:STANDARD
TZOFFSETFROM:-0400
TZOFFSETTO:-0500
TZNAME:EST
DTSTART:20191103T060000
END:STANDARD
BEGIN:DAYLIGHT
TZOFFSETFROM:-0500
TZOFFSETTO:-0400
TZNAME:EDT
DTSTART:20200308T070000
END:DAYLIGHT
BEGIN:STANDARD
TZOFFSETFROM:-0400
TZOFFSETTO:-0500
TZNAME:EST
DTSTART:20201101T060000
END:STANDARD
BEGIN:DAYLIGHT
TZOFFSETFROM:-0500
TZOFFSETTO:-0400
TZNAME:EDT
DTSTART:20210314T070000
END:DAYLIGHT
BEGIN:STANDARD
TZOFFSETFROM:-0400
TZOFFSETTO:-0500
TZNAME:EST
DTSTART:20211107T060000
END:STANDARD
END:VTIMEZONE
BEGIN:VEVENT
DTSTART;TZID=America/New_York:20210807T203000
DTEND;TZID=America/New_York:20210807T233000
DTSTAMP:20260421T104947
CREATED:20210805T170524Z
LAST-MODIFIED:20210805T170524Z
UID:10048916-1628368200-1628379000@destinationbedfordva.com
SUMMARY:Perseids Meteor Shower Party
DESCRIPTION:Bring your snacks\, lawn chairs\, blankets\, and stake a place out on the lawn to kick back and enjoy the Perseids meteor shower. Those who have their own telescopes are welcome to bring them for the evening and to set them up on the concrete pad.\nTake advantage of the dark skies in Bedford to spot some meteors\, and arrive a bit early to see the sunset over the Peaks in the gardens at Cloverlea!\nThey will pull out some astronomical binoculars and have some of telescopes set up for viewing as well. Tours of the Dome Room and Gilbert scope will be available every 1/2 hour.\nThis event is free and open to the public. Registration required\, via ticket link.\nTICKETS
URL:https://destinationbedfordva.com/event/perseids-meteor-shower-party/
LOCATION:Belk Observatory\, 1543 Coverlea Lane\, Bedford\, VA\, 24523\, United States
ATTACH;FMTTYPE=image/jpeg:https://destinationbedfordva.com/wp-content/uploads/2021/08/218628492_4136076296477771_3802671556503275439_n.jpg
END:VEVENT
BEGIN:VEVENT
DTSTART;TZID=America/New_York:20210618T210000
DTEND;TZID=America/New_York:20210618T223000
DTSTAMP:20260421T104947
CREATED:20210611T173418Z
LAST-MODIFIED:20210611T173418Z
UID:10048795-1624050000-1624055400@destinationbedfordva.com
SUMMARY:Belk Observatory Open House
DESCRIPTION:Tickets are required\, and limited to 20 guests. Other COVID-19 mitigation protocols will be in place; please visit their website for more information. (https://www.lynchburg.edu/…/public-programming-at-belk…/)\nProgram begins along the Planet Walk\, and continues through different stations at the Belk Observatory. You’ll get to be able to view the night sky through various astronomical equipment\, talk to knowledgeable Docents\, and learn about the sky objects and telescopes you see!\nThis event will be entirely outdoors on the Belk Observatory complex\, and involves a short walk. The program will be cancelled if there is an expectation of unfavorable viewing weather. Ticketed guests will receive more information at the time of ticket issuance.\nemail observatory@lynchburg.edu for any questions.
URL:https://destinationbedfordva.com/event/belk-observatory-open-house/
LOCATION:Belk Observatory\, 1543 Coverlea Lane\, Bedford\, VA\, 24523\, United States
ATTACH;FMTTYPE=image/jpeg:https://destinationbedfordva.com/wp-content/uploads/2021/06/belk-observatory.jpg
END:VEVENT
BEGIN:VEVENT
DTSTART;TZID=America/New_York:20191220T193000
DTEND;TZID=America/New_York:20191220T213000
DTSTAMP:20260421T104947
CREATED:20191203T204758Z
LAST-MODIFIED:20191203T204758Z
UID:10047682-1576870200-1576877400@destinationbedfordva.com
SUMMARY:December Observatory Open House
DESCRIPTION:Free\, but required\, tickets for this event are available via the ticket link. (https://www.lynchburg.edu/academics/academic-community-centers/observatory/public-open-house-schedule/)\nProgram begins along our Planet Walk\, and continues through different stations at the Belk Observatory. You’ll get to be able to view the night sky through various astronomical equipment\, talk to our knowledgeable Docents\, and learn about the sky objects and telescopes you see! \nThis event will be entirely outdoors on the Belk Observatory complex\, and involves a short walk. The program will be cancelled if there is an expectation of unfavorable viewing weather. \nemail observatory@lynchburg.edu for any questions. \n \n 
URL:https://destinationbedfordva.com/event/december-observatory-open-house/
LOCATION:Belk Observatory\, 1543 Coverlea Lane\, Bedford\, VA\, 24523\, United States
END:VEVENT
END:VCALENDAR