BEGIN:VCALENDAR
VERSION:2.0
PRODID:-//Destination Bedford - ECPv6.8.3//NONSGML v1.0//EN
CALSCALE:GREGORIAN
METHOD:PUBLISH
X-ORIGINAL-URL:https://destinationbedfordva.com
X-WR-CALDESC:Events for Destination Bedford
REFRESH-INTERVAL;VALUE=DURATION:PT1H
X-Robots-Tag:noindex
X-PUBLISHED-TTL:PT1H
BEGIN:VTIMEZONE
TZID:America/New_York
BEGIN:DAYLIGHT
TZOFFSETFROM:-0500
TZOFFSETTO:-0400
TZNAME:EDT
DTSTART:20230312T070000
END:DAYLIGHT
BEGIN:STANDARD
TZOFFSETFROM:-0400
TZOFFSETTO:-0500
TZNAME:EST
DTSTART:20231105T060000
END:STANDARD
END:VTIMEZONE
BEGIN:VEVENT
DTSTART;TZID=America/New_York:20230819T110000
DTEND;TZID=America/New_York:20230819T120000
DTSTAMP:20260420T131015
CREATED:20230811T143346Z
LAST-MODIFIED:20230811T143346Z
UID:10053198-1692442800-1692446400@destinationbedfordva.com
SUMMARY:Poetry Reading with Author Joy Barefoot
DESCRIPTION:Join lifetime poet\, Joy Barefoot\, for a sharing of poetry from the old south\, mid-century coming of age\, and today’s timeless words about life\, love\, sacrifice and growth. Joy will read from her acclaimed book\, Hoots\, Howls\, and Belly Growls\, as well as her most recent book\, Sifting Your Life and Gathering Pearls. \nAdmission is free.
URL:https://destinationbedfordva.com/event/poetry-reading-with-author-joy-barefoot-2/
LOCATION:Big Island Public Library\, 1111 Schooldays Road\, Big Island\, VA\, 24526\, United States
ATTACH;FMTTYPE=image/jpeg:https://destinationbedfordva.com/wp-content/uploads/2023/08/Joy-Barefoot-002.jpg
GEO:37.53142;-79.4161139
X-APPLE-STRUCTURED-LOCATION;VALUE=URI;X-ADDRESS=Big Island Public Library 1111 Schooldays Road Big Island VA 24526 United States;X-APPLE-RADIUS=500;X-TITLE=1111 Schooldays Road:geo:-79.4161139,37.53142
END:VEVENT
END:VCALENDAR