BEGIN:VCALENDAR
VERSION:2.0
PRODID:-//Destination Bedford - ECPv6.8.3//NONSGML v1.0//EN
CALSCALE:GREGORIAN
METHOD:PUBLISH
X-WR-CALNAME:Destination Bedford
X-ORIGINAL-URL:https://destinationbedfordva.com
X-WR-CALDESC:Events for Destination Bedford
REFRESH-INTERVAL;VALUE=DURATION:PT1H
X-Robots-Tag:noindex
X-PUBLISHED-TTL:PT1H
BEGIN:VTIMEZONE
TZID:America/New_York
BEGIN:DAYLIGHT
TZOFFSETFROM:-0500
TZOFFSETTO:-0400
TZNAME:EDT
DTSTART:20160313T070000
END:DAYLIGHT
BEGIN:STANDARD
TZOFFSETFROM:-0400
TZOFFSETTO:-0500
TZNAME:EST
DTSTART:20161106T060000
END:STANDARD
BEGIN:DAYLIGHT
TZOFFSETFROM:-0500
TZOFFSETTO:-0400
TZNAME:EDT
DTSTART:20170312T070000
END:DAYLIGHT
BEGIN:STANDARD
TZOFFSETFROM:-0400
TZOFFSETTO:-0500
TZNAME:EST
DTSTART:20171105T060000
END:STANDARD
BEGIN:DAYLIGHT
TZOFFSETFROM:-0500
TZOFFSETTO:-0400
TZNAME:EDT
DTSTART:20180311T070000
END:DAYLIGHT
BEGIN:STANDARD
TZOFFSETFROM:-0400
TZOFFSETTO:-0500
TZNAME:EST
DTSTART:20181104T060000
END:STANDARD
BEGIN:DAYLIGHT
TZOFFSETFROM:-0500
TZOFFSETTO:-0400
TZNAME:EDT
DTSTART:20190310T070000
END:DAYLIGHT
BEGIN:STANDARD
TZOFFSETFROM:-0400
TZOFFSETTO:-0500
TZNAME:EST
DTSTART:20191103T060000
END:STANDARD
BEGIN:DAYLIGHT
TZOFFSETFROM:-0500
TZOFFSETTO:-0400
TZNAME:EDT
DTSTART:20200308T070000
END:DAYLIGHT
BEGIN:STANDARD
TZOFFSETFROM:-0400
TZOFFSETTO:-0500
TZNAME:EST
DTSTART:20201101T060000
END:STANDARD
BEGIN:DAYLIGHT
TZOFFSETFROM:-0500
TZOFFSETTO:-0400
TZNAME:EDT
DTSTART:20210314T070000
END:DAYLIGHT
BEGIN:STANDARD
TZOFFSETFROM:-0400
TZOFFSETTO:-0500
TZNAME:EST
DTSTART:20211107T060000
END:STANDARD
BEGIN:DAYLIGHT
TZOFFSETFROM:-0500
TZOFFSETTO:-0400
TZNAME:EDT
DTSTART:20220313T070000
END:DAYLIGHT
BEGIN:STANDARD
TZOFFSETFROM:-0400
TZOFFSETTO:-0500
TZNAME:EST
DTSTART:20221106T060000
END:STANDARD
BEGIN:DAYLIGHT
TZOFFSETFROM:-0500
TZOFFSETTO:-0400
TZNAME:EDT
DTSTART:20230312T070000
END:DAYLIGHT
BEGIN:STANDARD
TZOFFSETFROM:-0400
TZOFFSETTO:-0500
TZNAME:EST
DTSTART:20231105T060000
END:STANDARD
BEGIN:DAYLIGHT
TZOFFSETFROM:-0500
TZOFFSETTO:-0400
TZNAME:EDT
DTSTART:20240310T070000
END:DAYLIGHT
BEGIN:STANDARD
TZOFFSETFROM:-0400
TZOFFSETTO:-0500
TZNAME:EST
DTSTART:20241103T060000
END:STANDARD
BEGIN:DAYLIGHT
TZOFFSETFROM:-0500
TZOFFSETTO:-0400
TZNAME:EDT
DTSTART:20250309T070000
END:DAYLIGHT
BEGIN:STANDARD
TZOFFSETFROM:-0400
TZOFFSETTO:-0500
TZNAME:EST
DTSTART:20251102T060000
END:STANDARD
END:VTIMEZONE
BEGIN:VEVENT
DTSTART;TZID=America/New_York:20251011T100000
DTEND;TZID=America/New_York:20251011T160000
DTSTAMP:20260421T151145
CREATED:20220825T205428Z
LAST-MODIFIED:20250910T141110Z
UID:10049940-1760176800-1760198400@destinationbedfordva.com
SUMMARY:Big Otter Mill Fall Festival
DESCRIPTION:This is the 18th Anniversary of the Parker-Wuergler Memorial Harvest Festival! The event will include Brunswick Stew by the Masons\, live music\, demonstrations\, vendors and tours of Big Otter Mill. Live music by Jimmie Wilson. This event is family friendly with free admission! \nPlease bring cash for purchases.
URL:https://destinationbedfordva.com/event/big-otter-mill-fall-festival-2/
LOCATION:Big Otter Mill\, 3533 Big Island Highway\, Bedford\, VA\, 24523\, United States
ATTACH;FMTTYPE=image/jpeg:https://destinationbedfordva.com/wp-content/uploads/2022/08/big-Otter-Mill-fall-festival.jpg
GEO:37.390662;-79.503511
X-APPLE-STRUCTURED-LOCATION;VALUE=URI;X-ADDRESS=Big Otter Mill 3533 Big Island Highway Bedford VA 24523 United States;X-APPLE-RADIUS=500;X-TITLE=3533 Big Island Highway:geo:-79.503511,37.390662
END:VEVENT
BEGIN:VEVENT
DTSTART;TZID=America/New_York:20241012T100000
DTEND;TZID=America/New_York:20241012T160000
DTSTAMP:20260421T151145
CREATED:20230905T144610Z
LAST-MODIFIED:20240906T160258Z
UID:10053243-1728727200-1728748800@destinationbedfordva.com
SUMMARY:Big Otter Mill Harvest Festival
DESCRIPTION:The 17th Annual Parker-Wuergler Memorial Harvest Festival will have Brunswick Stew by the Masons\, a silent auction\, vendors\, demonstrations\, a pumpkin decorating contest\, free tours of the Mill\, and live music by the Karlee Raye Band! Admission is free and this is a family friendly event. Bring a chair and enjoy a beautiful fall day at Big Otter Mill!
URL:https://destinationbedfordva.com/event/big-otter-mill-harvest-festival-2/
LOCATION:Big Otter Mill\, 3533 Big Island Highway\, Bedford\, VA\, 24523\, United States
ATTACH;FMTTYPE=image/jpeg:https://destinationbedfordva.com/wp-content/uploads/2023/09/harvest-festival-2023.jpg
GEO:37.390662;-79.503511
X-APPLE-STRUCTURED-LOCATION;VALUE=URI;X-ADDRESS=Big Otter Mill 3533 Big Island Highway Bedford VA 24523 United States;X-APPLE-RADIUS=500;X-TITLE=3533 Big Island Highway:geo:-79.503511,37.390662
END:VEVENT
BEGIN:VEVENT
DTSTART;TZID=America/New_York:20240504T110000
DTEND;TZID=America/New_York:20240504T150000
DTSTAMP:20260421T151145
CREATED:20240327T201504Z
LAST-MODIFIED:20240327T201504Z
UID:10054367-1714820400-1714834800@destinationbedfordva.com
SUMMARY:Big Otter Mill Spring Festival
DESCRIPTION:Enjoy a spring afternoon at Bedford’s historic Big Otter Mill!\nLive music by Karlee Raye\, BBQ by the 24th District Mason’s Association\, a variety of vendors\, and self-guided tours of the Mill!\nFree admission and family friendly!\nDogs okay\, must be on a leash.
URL:https://destinationbedfordva.com/event/big-otter-mill-spring-festival-3/
LOCATION:Big Otter Mill\, 3533 Big Island Highway\, Bedford\, VA\, 24523\, United States
ATTACH;FMTTYPE=image/jpeg:https://destinationbedfordva.com/wp-content/uploads/2024/03/Big-Otter-Mill-Spring-Festival.jpg
GEO:37.390662;-79.503511
X-APPLE-STRUCTURED-LOCATION;VALUE=URI;X-ADDRESS=Big Otter Mill 3533 Big Island Highway Bedford VA 24523 United States;X-APPLE-RADIUS=500;X-TITLE=3533 Big Island Highway:geo:-79.503511,37.390662
END:VEVENT
BEGIN:VEVENT
DTSTART;TZID=America/New_York:20230513T120000
DTEND;TZID=America/New_York:20230513T160000
DTSTAMP:20260421T151145
CREATED:20230419T175758Z
LAST-MODIFIED:20230419T175758Z
UID:10051832-1683979200-1683993600@destinationbedfordva.com
SUMMARY:Big Otter Mill Spring Festival
DESCRIPTION:Enjoy a spring afternoon at this historic mill in Bedford\, VA!\nLive music by Rick Dellinger (12-1 p.m.) and the Karlee Raye Trio (1-3 p.m.)\nBBQ by the 24th District Mason’s Association\, tastings and craft beverages from Fables & Feathers Winery\, a variety of vendors\, and self-guided tours of the Mill!\nFree admission and family friendly!
URL:https://destinationbedfordva.com/event/big-otter-mill-spring-festival-2/
LOCATION:Big Otter Mill\, 3533 Big Island Highway\, Bedford\, VA\, 24523\, United States
ATTACH;FMTTYPE=image/jpeg:https://destinationbedfordva.com/wp-content/uploads/2023/04/BOM-Spring-Festival.jpg
GEO:37.390662;-79.503511
X-APPLE-STRUCTURED-LOCATION;VALUE=URI;X-ADDRESS=Big Otter Mill 3533 Big Island Highway Bedford VA 24523 United States;X-APPLE-RADIUS=500;X-TITLE=3533 Big Island Highway:geo:-79.503511,37.390662
END:VEVENT
BEGIN:VEVENT
DTSTART;TZID=America/New_York:20220514T120000
DTEND;TZID=America/New_York:20220514T160000
DTSTAMP:20260421T151145
CREATED:20220325T205252Z
LAST-MODIFIED:20220325T205252Z
UID:10049574-1652529600-1652544000@destinationbedfordva.com
SUMMARY:Spring Festival at Big Otter Mill
DESCRIPTION:Come out and enjoy a fun spring day at Big Otter Mill in Bedford County! There will be BBQ by the Masons\, live music by Blue Roots (Bluegrass & Country)\, and tours of the Mill! Admission is free.
URL:https://destinationbedfordva.com/event/spring-festival-at-big-otter-mill/
LOCATION:Big Otter Mill\, 3533 Big Island Highway\, Bedford\, VA\, 24523\, United States
ATTACH;FMTTYPE=image/jpeg:https://destinationbedfordva.com/wp-content/uploads/2019/06/big-otter-mill-2.jpg
GEO:37.390662;-79.503511
X-APPLE-STRUCTURED-LOCATION;VALUE=URI;X-ADDRESS=Big Otter Mill 3533 Big Island Highway Bedford VA 24523 United States;X-APPLE-RADIUS=500;X-TITLE=3533 Big Island Highway:geo:-79.503511,37.390662
END:VEVENT
BEGIN:VEVENT
DTSTART;TZID=America/New_York:20191005T100000
DTEND;TZID=America/New_York:20191005T160000
DTSTAMP:20260421T151145
CREATED:20190828T181047Z
LAST-MODIFIED:20190828T181047Z
UID:10047412-1570269600-1570291200@destinationbedfordva.com
SUMMARY:Big Otter Mill Fall Festival
DESCRIPTION:Big Otter Mill is an old saw and grist mill that has remained standing long after its original use. The Big Otter Mill Foundation’s mission is to restore the mill for the purpose of historical preservation as a working mill. The Harvest Festival is a fundraiser for the mill and offers Tours of the Mill\, Demonstrations\, Silent Auction\, Craft Vendors\, Music\, and Brunswick Stew by the Masons! Join us at this FREE Event and learn more about the Big Otter Mill.
URL:https://destinationbedfordva.com/event/bigottermillfestival/
LOCATION:Big Otter Mill\, 3533 Big Island Highway\, Bedford\, VA\, 24523\, United States
GEO:37.390662;-79.503511
X-APPLE-STRUCTURED-LOCATION;VALUE=URI;X-ADDRESS=Big Otter Mill 3533 Big Island Highway Bedford VA 24523 United States;X-APPLE-RADIUS=500;X-TITLE=3533 Big Island Highway:geo:-79.503511,37.390662
END:VEVENT
BEGIN:VEVENT
DTSTART;TZID=America/New_York:20190518T120000
DTEND;TZID=America/New_York:20190518T160000
DTSTAMP:20260421T151145
CREATED:20190322T175518Z
LAST-MODIFIED:20190322T175518Z
UID:10047058-1558180800-1558195200@destinationbedfordva.com
SUMMARY:Big Otter Mill Spring Barbecue
DESCRIPTION:Music by the Brown Brothers\, Barbecue and fixings by the Masons\, mill tours\, beer\, wine\, and soft drinks. Come spend the afternoon at a Bedford County jewel.
URL:https://destinationbedfordva.com/event/big-otter-mill-spring-barbecue/
LOCATION:Big Otter Mill\, 3533 Big Island Highway\, Bedford\, VA\, 24523\, United States
GEO:37.390662;-79.503511
X-APPLE-STRUCTURED-LOCATION;VALUE=URI;X-ADDRESS=Big Otter Mill 3533 Big Island Highway Bedford VA 24523 United States;X-APPLE-RADIUS=500;X-TITLE=3533 Big Island Highway:geo:-79.503511,37.390662
END:VEVENT
BEGIN:VEVENT
DTSTART;TZID=America/New_York:20181006T100000
DTEND;TZID=America/New_York:20181006T160000
DTSTAMP:20260421T151145
CREATED:20180815T172037Z
LAST-MODIFIED:20180815T172037Z
UID:10046655-1538820000-1538841600@destinationbedfordva.com
SUMMARY:Big Otter Mill Harvest Festival
DESCRIPTION:We hope you’ll join us for the 11th Annual Parker-Wuergler Memorial Harvest Festival on Saturday\, October 6th from 10:00am to 4:00pm at Big Otter Mill.  This event is free and open to the public.\nBrunswick stew provided by the Master Masons Association will be available to purchase along with soda and water.  Guests will enjoy live music\, craft vendors and demonstrators\, an exciting silent auction\, and tours of the Big Otter Mill.\n\nHandicap parking is available.\n\nAll proceeds will benefit Big Otter Mill’s restoration efforts and the Master Masons Association.\n\nFor more information about Big Otter Mill\, please visit bigottermill.com or our facebook page. 
URL:https://destinationbedfordva.com/event/big-otter-mill-harvest-festival/
LOCATION:Big Otter Mill\, 3533 Big Island Highway\, Bedford\, VA\, 24523\, United States
GEO:37.390662;-79.503511
X-APPLE-STRUCTURED-LOCATION;VALUE=URI;X-ADDRESS=Big Otter Mill 3533 Big Island Highway Bedford VA 24523 United States;X-APPLE-RADIUS=500;X-TITLE=3533 Big Island Highway:geo:-79.503511,37.390662
END:VEVENT
BEGIN:VEVENT
DTSTART;TZID=America/New_York:20180519T120000
DTEND;TZID=America/New_York:20180519T160000
DTSTAMP:20260421T151145
CREATED:20180420T210529Z
LAST-MODIFIED:20180420T210529Z
UID:10046605-1526731200-1526745600@destinationbedfordva.com
SUMMARY:Big Otter Mill Spring Festival
DESCRIPTION:
URL:https://destinationbedfordva.com/event/big-otter-mill-spring-festival/
LOCATION:Big Otter Mill\, 3533 Big Island Highway\, Bedford\, VA\, 24523\, United States
GEO:37.390662;-79.503511
X-APPLE-STRUCTURED-LOCATION;VALUE=URI;X-ADDRESS=Big Otter Mill 3533 Big Island Highway Bedford VA 24523 United States;X-APPLE-RADIUS=500;X-TITLE=3533 Big Island Highway:geo:-79.503511,37.390662
END:VEVENT
BEGIN:VEVENT
DTSTART;TZID=America/New_York:20171007T100000
DTEND;TZID=America/New_York:20171007T160000
DTSTAMP:20260421T151145
CREATED:20170724T164049Z
LAST-MODIFIED:20170724T164049Z
UID:10046419-1507370400-1507392000@destinationbedfordva.com
SUMMARY:Harvest Festival at Big Otter Mill
DESCRIPTION:Join us on Saturday\, October 7th for the Harvest Festival at Big Otter Mill. \nBrunswick Stew by the Masons…Live Music…Silent Auction…Crafts…Demonstrations…and tours of Big Otter Mill! \n*FREE ADMISSION*
URL:https://destinationbedfordva.com/event/harvest-festival-at-big-otter-mill/
LOCATION:Big Otter Mill\, 3533 Big Island Highway\, Bedford\, VA\, 24523\, United States
CATEGORIES:Featured
GEO:37.390662;-79.503511
X-APPLE-STRUCTURED-LOCATION;VALUE=URI;X-ADDRESS=Big Otter Mill 3533 Big Island Highway Bedford VA 24523 United States;X-APPLE-RADIUS=500;X-TITLE=3533 Big Island Highway:geo:-79.503511,37.390662
END:VEVENT
BEGIN:VEVENT
DTSTART;TZID=America/New_York:20161001T100000
DTEND;TZID=America/New_York:20161001T160000
DTSTAMP:20260421T151145
CREATED:20160531T175550Z
LAST-MODIFIED:20160531T175550Z
UID:10045952-1475316000-1475337600@destinationbedfordva.com
SUMMARY:Big Otter Mill Fall Festival
DESCRIPTION:
URL:https://destinationbedfordva.com/event/big-otter-mill-fall-festival/
LOCATION:Big Otter Mill\, 3533 Big Island Highway\, Bedford\, VA\, 24523\, United States
CATEGORIES:Featured
GEO:37.390662;-79.503511
X-APPLE-STRUCTURED-LOCATION;VALUE=URI;X-ADDRESS=Big Otter Mill 3533 Big Island Highway Bedford VA 24523 United States;X-APPLE-RADIUS=500;X-TITLE=3533 Big Island Highway:geo:-79.503511,37.390662
END:VEVENT
END:VCALENDAR