BEGIN:VCALENDAR
VERSION:2.0
PRODID:-//Destination Bedford - ECPv6.8.3//NONSGML v1.0//EN
CALSCALE:GREGORIAN
METHOD:PUBLISH
X-WR-CALNAME:Destination Bedford
X-ORIGINAL-URL:https://destinationbedfordva.com
X-WR-CALDESC:Events for Destination Bedford
REFRESH-INTERVAL;VALUE=DURATION:PT1H
X-Robots-Tag:noindex
X-PUBLISHED-TTL:PT1H
BEGIN:VTIMEZONE
TZID:America/New_York
BEGIN:DAYLIGHT
TZOFFSETFROM:-0500
TZOFFSETTO:-0400
TZNAME:EDT
DTSTART:20260308T070000
END:DAYLIGHT
BEGIN:STANDARD
TZOFFSETFROM:-0400
TZOFFSETTO:-0500
TZNAME:EST
DTSTART:20261101T060000
END:STANDARD
END:VTIMEZONE
BEGIN:VEVENT
DTSTART;TZID=America/New_York:20260502T110000
DTEND;TZID=America/New_York:20260502T150000
DTSTAMP:20260421T150706
CREATED:20250314T203739Z
LAST-MODIFIED:20260315T020515Z
UID:10059367-1777719600-1777734000@destinationbedfordva.com
SUMMARY:Big Otter Mill Spring Festival
DESCRIPTION:Enjoy springtime in Bedford at the historic Big Otter Mill!\nLive music\, BBQ by the Virginia Masonic District 24 Master Masons Association\, vendors\, and self-guided tours of the Mill!\nFree admission and family friendly!\nDogs okay\, must be on a leash.
URL:https://destinationbedfordva.com/event/big-otter-mill-spring-festival-4/
LOCATION:Big Otter Mill\, 3533 Big Island Highway\, Bedford\, VA\, 24523\, United States
ATTACH;FMTTYPE=image/jpeg:https://destinationbedfordva.com/wp-content/uploads/2024/03/Big-Otter-Mill-Spring-Festival.jpg
GEO:37.390662;-79.503511
X-APPLE-STRUCTURED-LOCATION;VALUE=URI;X-ADDRESS=Big Otter Mill 3533 Big Island Highway Bedford VA 24523 United States;X-APPLE-RADIUS=500;X-TITLE=3533 Big Island Highway:geo:-79.503511,37.390662
END:VEVENT
END:VCALENDAR