BEGIN:VCALENDAR
VERSION:2.0
PRODID:-//Destination Bedford - ECPv6.8.3//NONSGML v1.0//EN
CALSCALE:GREGORIAN
METHOD:PUBLISH
X-WR-CALNAME:Destination Bedford
X-ORIGINAL-URL:https://destinationbedfordva.com
X-WR-CALDESC:Events for Destination Bedford
REFRESH-INTERVAL;VALUE=DURATION:PT1H
X-Robots-Tag:noindex
X-PUBLISHED-TTL:PT1H
BEGIN:VTIMEZONE
TZID:America/New_York
BEGIN:DAYLIGHT
TZOFFSETFROM:-0500
TZOFFSETTO:-0400
TZNAME:EDT
DTSTART:20160313T070000
END:DAYLIGHT
BEGIN:STANDARD
TZOFFSETFROM:-0400
TZOFFSETTO:-0500
TZNAME:EST
DTSTART:20161106T060000
END:STANDARD
BEGIN:DAYLIGHT
TZOFFSETFROM:-0500
TZOFFSETTO:-0400
TZNAME:EDT
DTSTART:20170312T070000
END:DAYLIGHT
BEGIN:STANDARD
TZOFFSETFROM:-0400
TZOFFSETTO:-0500
TZNAME:EST
DTSTART:20171105T060000
END:STANDARD
END:VTIMEZONE
BEGIN:VEVENT
DTSTART;TZID=America/New_York:20171007T100000
DTEND;TZID=America/New_York:20171007T160000
DTSTAMP:20260421T165856
CREATED:20170724T164049Z
LAST-MODIFIED:20170724T164049Z
UID:10046419-1507370400-1507392000@destinationbedfordva.com
SUMMARY:Harvest Festival at Big Otter Mill
DESCRIPTION:Join us on Saturday\, October 7th for the Harvest Festival at Big Otter Mill. \nBrunswick Stew by the Masons…Live Music…Silent Auction…Crafts…Demonstrations…and tours of Big Otter Mill! \n*FREE ADMISSION*
URL:https://destinationbedfordva.com/event/harvest-festival-at-big-otter-mill/
LOCATION:Big Otter Mill\, 3533 Big Island Highway\, Bedford\, VA\, 24523\, United States
CATEGORIES:Featured
GEO:37.390662;-79.503511
X-APPLE-STRUCTURED-LOCATION;VALUE=URI;X-ADDRESS=Big Otter Mill 3533 Big Island Highway Bedford VA 24523 United States;X-APPLE-RADIUS=500;X-TITLE=3533 Big Island Highway:geo:-79.503511,37.390662
END:VEVENT
BEGIN:VEVENT
DTSTART;TZID=America/New_York:20161001T100000
DTEND;TZID=America/New_York:20161001T160000
DTSTAMP:20260421T165856
CREATED:20160531T175550Z
LAST-MODIFIED:20160531T175550Z
UID:10045952-1475316000-1475337600@destinationbedfordva.com
SUMMARY:Big Otter Mill Fall Festival
DESCRIPTION:
URL:https://destinationbedfordva.com/event/big-otter-mill-fall-festival/
LOCATION:Big Otter Mill\, 3533 Big Island Highway\, Bedford\, VA\, 24523\, United States
CATEGORIES:Featured
GEO:37.390662;-79.503511
X-APPLE-STRUCTURED-LOCATION;VALUE=URI;X-ADDRESS=Big Otter Mill 3533 Big Island Highway Bedford VA 24523 United States;X-APPLE-RADIUS=500;X-TITLE=3533 Big Island Highway:geo:-79.503511,37.390662
END:VEVENT
END:VCALENDAR