BEGIN:VCALENDAR
VERSION:2.0
PRODID:-//Destination Bedford - ECPv6.8.3//NONSGML v1.0//EN
CALSCALE:GREGORIAN
METHOD:PUBLISH
X-ORIGINAL-URL:https://destinationbedfordva.com
X-WR-CALDESC:Events for Destination Bedford
REFRESH-INTERVAL;VALUE=DURATION:PT1H
X-Robots-Tag:noindex
X-PUBLISHED-TTL:PT1H
BEGIN:VTIMEZONE
TZID:America/New_York
BEGIN:DAYLIGHT
TZOFFSETFROM:-0500
TZOFFSETTO:-0400
TZNAME:EDT
DTSTART:20240310T070000
END:DAYLIGHT
BEGIN:STANDARD
TZOFFSETFROM:-0400
TZOFFSETTO:-0500
TZNAME:EST
DTSTART:20241103T060000
END:STANDARD
END:VTIMEZONE
BEGIN:VEVENT
DTSTART;TZID=America/New_York:20240406T180000
DTEND;TZID=America/New_York:20240406T213000
DTSTAMP:20260421T052505
CREATED:20240327T203535Z
LAST-MODIFIED:20240327T203802Z
UID:10054369-1712426400-1712439000@destinationbedfordva.com
SUMMARY:Casino Night at Mariners Landing
DESCRIPTION:Join us for an evening of gaming\, music\, prizes\, drinks\, and great company at the first Casino Night at Mariners Landing. \nTry your luck at the poker or blackjack tables\, roll the dice at the craps table\, take a chance with the slot machines\, or spin the wheel at the roulette table. Don’t know how to play? No problem! Trained dealers will be ready to help you play like a pro.\nLight snacks will be available as well as a cash bar. \nTicket price includes $10\,000 of play money and a raffle ticket – benefiting Saunders Volunteer Fire Department
URL:https://destinationbedfordva.com/event/casino-night-at-mariners-landing/
LOCATION:Blackwater Room at the Pointe in Mariners Landing\, 1217 Graves Harbor Trail\, Huddleston\, VA\, 24104\, United States
ATTACH;FMTTYPE=image/jpeg:https://destinationbedfordva.com/wp-content/uploads/2024/03/Casino-Night.jpg
GEO:37.084506;-79.566869
X-APPLE-STRUCTURED-LOCATION;VALUE=URI;X-ADDRESS=Blackwater Room at the Pointe in Mariners Landing 1217 Graves Harbor Trail Huddleston VA 24104 United States;X-APPLE-RADIUS=500;X-TITLE=1217 Graves Harbor Trail:geo:-79.566869,37.084506
END:VEVENT
END:VCALENDAR