BEGIN:VCALENDAR
VERSION:2.0
PRODID:-//Destination Bedford - ECPv6.8.3//NONSGML v1.0//EN
CALSCALE:GREGORIAN
METHOD:PUBLISH
X-WR-CALNAME:Destination Bedford
X-ORIGINAL-URL:https://destinationbedfordva.com
X-WR-CALDESC:Events for Destination Bedford
REFRESH-INTERVAL;VALUE=DURATION:PT1H
X-Robots-Tag:noindex
X-PUBLISHED-TTL:PT1H
BEGIN:VTIMEZONE
TZID:America/New_York
BEGIN:DAYLIGHT
TZOFFSETFROM:-0500
TZOFFSETTO:-0400
TZNAME:EDT
DTSTART:20200308T070000
END:DAYLIGHT
BEGIN:STANDARD
TZOFFSETFROM:-0400
TZOFFSETTO:-0500
TZNAME:EST
DTSTART:20201101T060000
END:STANDARD
END:VTIMEZONE
BEGIN:VEVENT
DTSTART;TZID=America/New_York:20201219T100000
DTEND;TZID=America/New_York:20201219T150000
DTSTAMP:20260422T213729
CREATED:20201022T172729Z
LAST-MODIFIED:20201022T172729Z
UID:10048352-1608372000-1608390000@destinationbedfordva.com
SUMMARY:Bridge Street Artists Market
DESCRIPTION:Come shop for one of a kind art and crafts items by local professional artists. Held outside on the porch of the café\, 210 N. Bridge St. in historic downtown Bedford.
URL:https://destinationbedfordva.com/event/bridge-street-artists-market/2020-12-19/
LOCATION:Bridge Street Cafe\, 210 N Bridge Street\, Bedford\, VA\, 24523\, United States
ATTACH;FMTTYPE=image/jpeg:https://destinationbedfordva.com/wp-content/uploads/2020/10/bridge-street-artist.jpg
END:VEVENT
BEGIN:VEVENT
DTSTART;TZID=America/New_York:20201212T100000
DTEND;TZID=America/New_York:20201212T150000
DTSTAMP:20260422T213729
CREATED:20201022T172729Z
LAST-MODIFIED:20201022T172729Z
UID:10048351-1607767200-1607785200@destinationbedfordva.com
SUMMARY:Bridge Street Artists Market
DESCRIPTION:Come shop for one of a kind art and crafts items by local professional artists. Held outside on the porch of the café\, 210 N. Bridge St. in historic downtown Bedford.
URL:https://destinationbedfordva.com/event/bridge-street-artists-market/2020-12-12/
LOCATION:Bridge Street Cafe\, 210 N Bridge Street\, Bedford\, VA\, 24523\, United States
ATTACH;FMTTYPE=image/jpeg:https://destinationbedfordva.com/wp-content/uploads/2020/10/bridge-street-artist.jpg
END:VEVENT
BEGIN:VEVENT
DTSTART;TZID=America/New_York:20201205T100000
DTEND;TZID=America/New_York:20201205T150000
DTSTAMP:20260422T213729
CREATED:20201022T172729Z
LAST-MODIFIED:20201022T172729Z
UID:10048350-1607162400-1607180400@destinationbedfordva.com
SUMMARY:Bridge Street Artists Market
DESCRIPTION:Come shop for one of a kind art and crafts items by local professional artists. Held outside on the porch of the café\, 210 N. Bridge St. in historic downtown Bedford.
URL:https://destinationbedfordva.com/event/bridge-street-artists-market/2020-12-05/
LOCATION:Bridge Street Cafe\, 210 N Bridge Street\, Bedford\, VA\, 24523\, United States
ATTACH;FMTTYPE=image/jpeg:https://destinationbedfordva.com/wp-content/uploads/2020/10/bridge-street-artist.jpg
END:VEVENT
BEGIN:VEVENT
DTSTART;TZID=America/New_York:20201128T100000
DTEND;TZID=America/New_York:20201128T150000
DTSTAMP:20260422T213729
CREATED:20201022T172729Z
LAST-MODIFIED:20201022T172729Z
UID:10048349-1606557600-1606575600@destinationbedfordva.com
SUMMARY:Bridge Street Artists Market
DESCRIPTION:Come shop for one of a kind art and crafts items by local professional artists. Held outside on the porch of the café\, 210 N. Bridge St. in historic downtown Bedford.
URL:https://destinationbedfordva.com/event/bridge-street-artists-market/2020-11-28/
LOCATION:Bridge Street Cafe\, 210 N Bridge Street\, Bedford\, VA\, 24523\, United States
ATTACH;FMTTYPE=image/jpeg:https://destinationbedfordva.com/wp-content/uploads/2020/10/bridge-street-artist.jpg
END:VEVENT
BEGIN:VEVENT
DTSTART;TZID=America/New_York:20201121T100000
DTEND;TZID=America/New_York:20201121T150000
DTSTAMP:20260422T213729
CREATED:20201022T172729Z
LAST-MODIFIED:20201022T172729Z
UID:10048348-1605952800-1605970800@destinationbedfordva.com
SUMMARY:Bridge Street Artists Market
DESCRIPTION:Come shop for one of a kind art and crafts items by local professional artists. Held outside on the porch of the café\, 210 N. Bridge St. in historic downtown Bedford.
URL:https://destinationbedfordva.com/event/bridge-street-artists-market/2020-11-21/
LOCATION:Bridge Street Cafe\, 210 N Bridge Street\, Bedford\, VA\, 24523\, United States
ATTACH;FMTTYPE=image/jpeg:https://destinationbedfordva.com/wp-content/uploads/2020/10/bridge-street-artist.jpg
END:VEVENT
BEGIN:VEVENT
DTSTART;TZID=America/New_York:20201114T100000
DTEND;TZID=America/New_York:20201114T150000
DTSTAMP:20260422T213729
CREATED:20201022T172729Z
LAST-MODIFIED:20201022T172729Z
UID:10048347-1605348000-1605366000@destinationbedfordva.com
SUMMARY:Bridge Street Artists Market
DESCRIPTION:Come shop for one of a kind art and crafts items by local professional artists. Held outside on the porch of the café\, 210 N. Bridge St. in historic downtown Bedford.
URL:https://destinationbedfordva.com/event/bridge-street-artists-market/2020-11-14/
LOCATION:Bridge Street Cafe\, 210 N Bridge Street\, Bedford\, VA\, 24523\, United States
ATTACH;FMTTYPE=image/jpeg:https://destinationbedfordva.com/wp-content/uploads/2020/10/bridge-street-artist.jpg
END:VEVENT
BEGIN:VEVENT
DTSTART;TZID=America/New_York:20201107T100000
DTEND;TZID=America/New_York:20201107T150000
DTSTAMP:20260422T213729
CREATED:20201022T172729Z
LAST-MODIFIED:20201022T172729Z
UID:10048346-1604743200-1604761200@destinationbedfordva.com
SUMMARY:Bridge Street Artists Market
DESCRIPTION:Come shop for one of a kind art and crafts items by local professional artists. Held outside on the porch of the café\, 210 N. Bridge St. in historic downtown Bedford.
URL:https://destinationbedfordva.com/event/bridge-street-artists-market/2020-11-07/
LOCATION:Bridge Street Cafe\, 210 N Bridge Street\, Bedford\, VA\, 24523\, United States
ATTACH;FMTTYPE=image/jpeg:https://destinationbedfordva.com/wp-content/uploads/2020/10/bridge-street-artist.jpg
END:VEVENT
BEGIN:VEVENT
DTSTART;TZID=America/New_York:20201031T100000
DTEND;TZID=America/New_York:20201031T150000
DTSTAMP:20260422T213729
CREATED:20201022T172729Z
LAST-MODIFIED:20201022T172729Z
UID:10048345-1604138400-1604156400@destinationbedfordva.com
SUMMARY:Bridge Street Artists Market
DESCRIPTION:Come shop for one of a kind art and crafts items by local professional artists. Held outside on the porch of the café\, 210 N. Bridge St. in historic downtown Bedford.
URL:https://destinationbedfordva.com/event/bridge-street-artists-market/2020-10-31/
LOCATION:Bridge Street Cafe\, 210 N Bridge Street\, Bedford\, VA\, 24523\, United States
ATTACH;FMTTYPE=image/jpeg:https://destinationbedfordva.com/wp-content/uploads/2020/10/bridge-street-artist.jpg
END:VEVENT
BEGIN:VEVENT
DTSTART;TZID=America/New_York:20201024T100000
DTEND;TZID=America/New_York:20201024T150000
DTSTAMP:20260422T213729
CREATED:20201022T172729Z
LAST-MODIFIED:20201022T172729Z
UID:10048344-1603533600-1603551600@destinationbedfordva.com
SUMMARY:Bridge Street Artists Market
DESCRIPTION:Come shop for one of a kind art and crafts items by local professional artists. Held outside on the porch of the café\, 210 N. Bridge St. in historic downtown Bedford.
URL:https://destinationbedfordva.com/event/bridge-street-artists-market/2020-10-24/
LOCATION:Bridge Street Cafe\, 210 N Bridge Street\, Bedford\, VA\, 24523\, United States
ATTACH;FMTTYPE=image/jpeg:https://destinationbedfordva.com/wp-content/uploads/2020/10/bridge-street-artist.jpg
END:VEVENT
BEGIN:VEVENT
DTSTART;TZID=America/New_York:20200926T100000
DTEND;TZID=America/New_York:20200926T150000
DTSTAMP:20260422T213729
CREATED:20200924T183055Z
LAST-MODIFIED:20200924T183055Z
UID:10048226-1601114400-1601132400@destinationbedfordva.com
SUMMARY:Pop Up Art Show
DESCRIPTION:Come see the unique artwork of local artist Wynn Creasy.  She will be showing thread paintings focusing on the Blue Ridge Mountains of Virginia and the Bedford\, Virginia landscape. These one-of-a-kind pieces would be ideal to give as a gift or have as a keepsake.
URL:https://destinationbedfordva.com/event/pop-up-art-show/
LOCATION:Bridge Street Cafe\, 210 N Bridge Street\, Bedford\, VA\, 24523\, United States
ATTACH;FMTTYPE=image/jpeg:https://destinationbedfordva.com/wp-content/uploads/2020/09/Wynn-Creasy-fiber-art-2020.jpg
END:VEVENT
END:VCALENDAR