BEGIN:VCALENDAR
VERSION:2.0
PRODID:-//Destination Bedford - ECPv6.8.3//NONSGML v1.0//EN
CALSCALE:GREGORIAN
METHOD:PUBLISH
X-ORIGINAL-URL:https://destinationbedfordva.com
X-WR-CALDESC:Events for Destination Bedford
REFRESH-INTERVAL;VALUE=DURATION:PT1H
X-Robots-Tag:noindex
X-PUBLISHED-TTL:PT1H
BEGIN:VTIMEZONE
TZID:America/New_York
BEGIN:DAYLIGHT
TZOFFSETFROM:-0500
TZOFFSETTO:-0400
TZNAME:EDT
DTSTART:20170312T070000
END:DAYLIGHT
BEGIN:STANDARD
TZOFFSETFROM:-0400
TZOFFSETTO:-0500
TZNAME:EST
DTSTART:20171105T060000
END:STANDARD
BEGIN:DAYLIGHT
TZOFFSETFROM:-0500
TZOFFSETTO:-0400
TZNAME:EDT
DTSTART:20180311T070000
END:DAYLIGHT
BEGIN:STANDARD
TZOFFSETFROM:-0400
TZOFFSETTO:-0500
TZNAME:EST
DTSTART:20181104T060000
END:STANDARD
BEGIN:DAYLIGHT
TZOFFSETFROM:-0500
TZOFFSETTO:-0400
TZNAME:EDT
DTSTART:20190310T070000
END:DAYLIGHT
BEGIN:STANDARD
TZOFFSETFROM:-0400
TZOFFSETTO:-0500
TZNAME:EST
DTSTART:20191103T060000
END:STANDARD
BEGIN:DAYLIGHT
TZOFFSETFROM:-0500
TZOFFSETTO:-0400
TZNAME:EDT
DTSTART:20200308T070000
END:DAYLIGHT
BEGIN:STANDARD
TZOFFSETFROM:-0400
TZOFFSETTO:-0500
TZNAME:EST
DTSTART:20201101T060000
END:STANDARD
BEGIN:DAYLIGHT
TZOFFSETFROM:-0500
TZOFFSETTO:-0400
TZNAME:EDT
DTSTART:20210314T070000
END:DAYLIGHT
BEGIN:STANDARD
TZOFFSETFROM:-0400
TZOFFSETTO:-0500
TZNAME:EST
DTSTART:20211107T060000
END:STANDARD
BEGIN:DAYLIGHT
TZOFFSETFROM:-0500
TZOFFSETTO:-0400
TZNAME:EDT
DTSTART:20220313T070000
END:DAYLIGHT
BEGIN:STANDARD
TZOFFSETFROM:-0400
TZOFFSETTO:-0500
TZNAME:EST
DTSTART:20221106T060000
END:STANDARD
END:VTIMEZONE
BEGIN:VEVENT
DTSTART;TZID=America/New_York:20221029T173000
DTEND;TZID=America/New_York:20221029T193000
DTSTAMP:20260423T172522
CREATED:20221012T175508Z
LAST-MODIFIED:20221012T203925Z
UID:10050111-1667064600-1667071800@destinationbedfordva.com
SUMMARY:Historic Centertown Ghost Walk
DESCRIPTION:The Bedford Museum & Genealogical Library is partnering with Little Town Players to put on a Historic Centertown Ghost Walk! There will be two tours\, one at 5:30 and one at 6:30 PM. The walk will last approximately 1-1.5 hours and include several stops around town.\nPurchase tickets at the Bedford Museum. Prices are $20 for adults\, $10 for kids ages 6 to 17\, and all children under the age of 5 are free. Seniors\, military and museum members Research level and above $5 discount. Appearances will include Dr. Pogue\, General Andrew Lewis\, and Carl Overstreet (just to name a few).
URL:https://destinationbedfordva.com/event/historic-centertown-ghost-walk/
LOCATION:Centertown Bedford\, Main Street\, Bedford\, 24523
ATTACH;FMTTYPE=image/jpeg:https://destinationbedfordva.com/wp-content/uploads/2022/10/ghost-walk.jpg
GEO:37.335337;-79.526744
X-APPLE-STRUCTURED-LOCATION;VALUE=URI;X-ADDRESS=Centertown Bedford Main Street Bedford 24523;X-APPLE-RADIUS=500;X-TITLE=Main Street:geo:-79.526744,37.335337
END:VEVENT
BEGIN:VEVENT
DTSTART;TZID=America/New_York:20201205T170000
DTEND;TZID=America/New_York:20201205T180000
DTSTAMP:20260423T172522
CREATED:20201019T165525Z
LAST-MODIFIED:20201019T165546Z
UID:10048341-1607187600-1607191200@destinationbedfordva.com
SUMMARY:Christmas In Centertown/Tree Lighting
DESCRIPTION:Come on out to the annual Lighting Of The Tree for the Town Of Bedford. Due to Covid-19 things will be short and sweet. This family oriented event will kickoff at 4:30pm. Consisting of Santa\, Hot Chocolate & Cider\, Ice Sculpting\, Vendors\, & Music to put you in the holiday spirit!\nLighting Of The Tree 6:00 PM. \nFollowing the lighting please head over to Liberty Lake Park (939 Burks Hill Rd)\nfor The Liberty Lake Parade from 6:00pm-8:00pm\nThis Parade will be in REVERSE! Instead of the parade moving through the community\, the community will drive through the stationary parade! \nYou and your family can Drive Thru the Parade in the comfort of your car! Dress your vehicle and family up and create memories that will last forever!
URL:https://destinationbedfordva.com/event/christmas-in-centertown-tree-lighting/
LOCATION:Centertown Bedford\, Main Street\, Bedford\, 24523
ATTACH;FMTTYPE=image/jpeg:https://destinationbedfordva.com/wp-content/uploads/2020/10/tree-lighting-2.jpg
GEO:37.335337;-79.526744
X-APPLE-STRUCTURED-LOCATION;VALUE=URI;X-ADDRESS=Centertown Bedford Main Street Bedford 24523;X-APPLE-RADIUS=500;X-TITLE=Main Street:geo:-79.526744,37.335337
END:VEVENT
BEGIN:VEVENT
DTSTART;TZID=America/New_York:20191207T150000
DTEND;TZID=America/New_York:20191207T180000
DTSTAMP:20260423T172522
CREATED:20191107T201405Z
LAST-MODIFIED:20191107T201405Z
UID:10047540-1575730800-1575741600@destinationbedfordva.com
SUMMARY:Christmas In Centertown & Lighting Of The Tree
DESCRIPTION:Hosted by the Central Va Business Coalition & DJ Showtime \n\nCarriage rides\nTrackless train rides\nCider and cocoa\nVendors\nVisit with Santa\nLetter to Santa Station\nCeltic Christmas Elves\nHoliday music and dance performances\nFace painting\nOrnament Making\n\nFor more information: (540)425-5653
URL:https://destinationbedfordva.com/event/christmas-in-centertown-lighting-of-the-tree/
LOCATION:Centertown Bedford\, Main Street\, Bedford\, 24523
GEO:37.335337;-79.526744
X-APPLE-STRUCTURED-LOCATION;VALUE=URI;X-ADDRESS=Centertown Bedford Main Street Bedford 24523;X-APPLE-RADIUS=500;X-TITLE=Main Street:geo:-79.526744,37.335337
END:VEVENT
BEGIN:VEVENT
DTSTART;TZID=America/New_York:20191011T170000
DTEND;TZID=America/New_York:20191011T200000
DTSTAMP:20260423T172522
CREATED:20190215T204144Z
LAST-MODIFIED:20190215T204144Z
UID:10047011-1570813200-1570824000@destinationbedfordva.com
SUMMARY:2nd Friday in Bedford
DESCRIPTION:Come and experience the unique shops\, restaurants and art venues in Bedford’s Centertown on the second Friday evening of every month. This event is free and open to everyone.\n\nOctober 11th HAPPENINGS!! \nTHIS MONTH!! Bedford Museum & Genealogical Library – “Night at the Museum” where five exhibits come to life. Guided flashlight tours from 6-8PM. Learn about the lives these individuals led. This event is geared for all ages. Tours will be given on a first come first serve basis. \nLIVE MUSIC\nDJ Showtime – Wendy Witt Group \n\n\n\nPARADE- Liberty Homecoming parade around downtown starts at 5 \nAROUND TOWN\nFOOD TRUCK – Rookie’s will be serving their Handcrafted Ice Cream Sandwiches\nMONSTER MASH MAKE-UP and FACE PAINTING by Jen Gilley ($10 and up)\nPOP-UP Adoptions by Bedford Humane Society at Studios 207 (Quilt Raffle and Bake Sale too)\nPOP-UP Sedalia Center – Chili Cook Off Sign-Up\nLITTLE TOWN PLAYERS – Will be performing songs around town from their upcoming musical “A Grand Night for Singing”. Make sure you catch them. \nART\nAll of the venues below will have featured art! Make sure to stop in!\nWendy Witt Group\nThe Electric Company: Art & More\nGoose Creek Studio\nBower Center For The Arts\nBedford County Library\nStudios 207\nSelect Bank
URL:https://destinationbedfordva.com/event/2nd-friday-in-bedford-3-2019-10-11/
LOCATION:Centertown Bedford\, Main Street\, Bedford\, 24523
GEO:37.335337;-79.526744
X-APPLE-STRUCTURED-LOCATION;VALUE=URI;X-ADDRESS=Centertown Bedford Main Street Bedford 24523;X-APPLE-RADIUS=500;X-TITLE=Main Street:geo:-79.526744,37.335337
END:VEVENT
BEGIN:VEVENT
DTSTART;TZID=America/New_York:20190806T180000
DTEND;TZID=America/New_York:20190806T210000
DTSTAMP:20260423T172522
CREATED:20190731T144841Z
LAST-MODIFIED:20190731T144841Z
UID:10047371-1565114400-1565125200@destinationbedfordva.com
SUMMARY:National Night Out
DESCRIPTION:The Bedford Police Dept. is hosting this event in downtown Bedford\, Centertown Plaza! Free bounce houses\, free hotdogs\, free shaved ice\, and more!\n 
URL:https://destinationbedfordva.com/event/national-night-out/
LOCATION:Centertown Bedford\, Main Street\, Bedford\, 24523
GEO:37.335337;-79.526744
X-APPLE-STRUCTURED-LOCATION;VALUE=URI;X-ADDRESS=Centertown Bedford Main Street Bedford 24523;X-APPLE-RADIUS=500;X-TITLE=Main Street:geo:-79.526744,37.335337
END:VEVENT
BEGIN:VEVENT
DTSTART;TZID=America/New_York:20190510T170000
DTEND;TZID=America/New_York:20190510T200000
DTSTAMP:20260423T172522
CREATED:20190215T204144Z
LAST-MODIFIED:20190215T204144Z
UID:10047010-1557507600-1557518400@destinationbedfordva.com
SUMMARY:2nd Friday in Bedford
DESCRIPTION:Come and experience the unique shops\, restaurants and art venues in Bedford’s Centertown on the second Friday evening of every month. This event is free and open to everyone.
URL:https://destinationbedfordva.com/event/2nd-friday-in-bedford-3-2019-05-10/
LOCATION:Centertown Bedford\, Main Street\, Bedford\, 24523
GEO:37.335337;-79.526744
X-APPLE-STRUCTURED-LOCATION;VALUE=URI;X-ADDRESS=Centertown Bedford Main Street Bedford 24523;X-APPLE-RADIUS=500;X-TITLE=Main Street:geo:-79.526744,37.335337
END:VEVENT
BEGIN:VEVENT
DTSTART;TZID=America/New_York:20181201T080000
DTEND;TZID=America/New_York:20181201T093000
DTSTAMP:20260423T172522
CREATED:20181108T211846Z
LAST-MODIFIED:20181108T211846Z
UID:10046817-1543651200-1543656600@destinationbedfordva.com
SUMMARY:Christmas Tree Lighting Ceremony
DESCRIPTION:The annual Bedford Christmas Tree Lighting will take place on December 1 from 5pm-8pm at Centertown Plaza. This year’s ceremony will be hosted by DJ Showtime\, Status Barber SHOP and the Lynchburg Retail Merchants Association.
URL:https://destinationbedfordva.com/event/christmas-tree-lighting-ceremony/
LOCATION:Centertown Bedford\, Main Street\, Bedford\, 24523
GEO:37.335337;-79.526744
X-APPLE-STRUCTURED-LOCATION;VALUE=URI;X-ADDRESS=Centertown Bedford Main Street Bedford 24523;X-APPLE-RADIUS=500;X-TITLE=Main Street:geo:-79.526744,37.335337
END:VEVENT
BEGIN:VEVENT
DTSTART;TZID=America/New_York:20181114T173000
DTEND;TZID=America/New_York:20181114T193000
DTSTAMP:20260423T172522
CREATED:20181108T184115Z
LAST-MODIFIED:20181108T184115Z
UID:10046806-1542216600-1542223800@destinationbedfordva.com
SUMMARY:Ladies Night!
DESCRIPTION:Get your Christmas shopping done early and support local businesses! Lots of new merchandise to see\, so bring a friend or two!
URL:https://destinationbedfordva.com/event/ladies-night/
LOCATION:Centertown Bedford\, Main Street\, Bedford\, 24523
GEO:37.335337;-79.526744
X-APPLE-STRUCTURED-LOCATION;VALUE=URI;X-ADDRESS=Centertown Bedford Main Street Bedford 24523;X-APPLE-RADIUS=500;X-TITLE=Main Street:geo:-79.526744,37.335337
END:VEVENT
BEGIN:VEVENT
DTSTART;TZID=America/New_York:20171202T110000
DTEND;TZID=America/New_York:20171202T130000
DTSTAMP:20260423T172522
CREATED:20171017T195412Z
LAST-MODIFIED:20171017T195412Z
UID:10046456-1512212400-1512219600@destinationbedfordva.com
SUMMARY:Bedford Christmas Parade
DESCRIPTION:Bedford’s Annual Christmas Parade will be held on Saturday\, December 2\, 2017 at 11 am.\n(The rain date will be December 3rd.)
URL:https://destinationbedfordva.com/event/bedford-christmas-parade/
LOCATION:Centertown Bedford\, Main Street\, Bedford\, 24523
CATEGORIES:Featured
GEO:37.335337;-79.526744
X-APPLE-STRUCTURED-LOCATION;VALUE=URI;X-ADDRESS=Centertown Bedford Main Street Bedford 24523;X-APPLE-RADIUS=500;X-TITLE=Main Street:geo:-79.526744,37.335337
END:VEVENT
END:VCALENDAR