BEGIN:VCALENDAR
VERSION:2.0
PRODID:-//Destination Bedford - ECPv6.8.3//NONSGML v1.0//EN
CALSCALE:GREGORIAN
METHOD:PUBLISH
X-WR-CALNAME:Destination Bedford
X-ORIGINAL-URL:https://destinationbedfordva.com
X-WR-CALDESC:Events for Destination Bedford
REFRESH-INTERVAL;VALUE=DURATION:PT1H
X-Robots-Tag:noindex
X-PUBLISHED-TTL:PT1H
BEGIN:VTIMEZONE
TZID:America/New_York
BEGIN:DAYLIGHT
TZOFFSETFROM:-0500
TZOFFSETTO:-0400
TZNAME:EDT
DTSTART:20200308T070000
END:DAYLIGHT
BEGIN:STANDARD
TZOFFSETFROM:-0400
TZOFFSETTO:-0500
TZNAME:EST
DTSTART:20201101T060000
END:STANDARD
END:VTIMEZONE
BEGIN:VEVENT
DTSTART;TZID=America/New_York:20201031T110000
DTEND;TZID=America/New_York:20201031T160000
DTSTAMP:20260422T022309
CREATED:20201014T144434Z
LAST-MODIFIED:20201014T195952Z
UID:10048325-1604142000-1604160000@destinationbedfordva.com
SUMMARY:Halloween Spooktacular
DESCRIPTION:Deerhead Nature Preserve’s First Annual Halloween Spooktacular! Games\, contests\, music\, bonfire\, bake sale\, and much\, much more! Solve the riddles to find the candy in a very unique scavenger hunt through the forest! Wand whittling around a campfire! Quill and ink writing! A fortune teller! Pumpkin carving & painting! Face painting! Donut eating contest! Costume contest!
URL:https://destinationbedfordva.com/event/halloween-spooktacular/
LOCATION:Deerhead Nature Preserve\, 4808 Smith Mountain Lake Pkway\, Huddleston\, VA\, 24104\, United States
ATTACH;FMTTYPE=image/jpeg:https://destinationbedfordva.com/wp-content/uploads/2020/10/halloween-spooktacular-2.jpg
END:VEVENT
END:VCALENDAR