BEGIN:VCALENDAR
VERSION:2.0
PRODID:-//Destination Bedford - ECPv6.8.3//NONSGML v1.0//EN
CALSCALE:GREGORIAN
METHOD:PUBLISH
X-WR-CALNAME:Destination Bedford
X-ORIGINAL-URL:https://destinationbedfordva.com
X-WR-CALDESC:Events for Destination Bedford
REFRESH-INTERVAL;VALUE=DURATION:PT1H
X-Robots-Tag:noindex
X-PUBLISHED-TTL:PT1H
BEGIN:VTIMEZONE
TZID:America/New_York
BEGIN:DAYLIGHT
TZOFFSETFROM:-0500
TZOFFSETTO:-0400
TZNAME:EDT
DTSTART:20230312T070000
END:DAYLIGHT
BEGIN:STANDARD
TZOFFSETFROM:-0400
TZOFFSETTO:-0500
TZNAME:EST
DTSTART:20231105T060000
END:STANDARD
BEGIN:DAYLIGHT
TZOFFSETFROM:-0500
TZOFFSETTO:-0400
TZNAME:EDT
DTSTART:20240310T070000
END:DAYLIGHT
BEGIN:STANDARD
TZOFFSETFROM:-0400
TZOFFSETTO:-0500
TZNAME:EST
DTSTART:20241103T060000
END:STANDARD
END:VTIMEZONE
BEGIN:VEVENT
DTSTART;TZID=America/New_York:20241214T090000
DTEND;TZID=America/New_York:20241214T110000
DTSTAMP:20260420T181937
CREATED:20241213T195133Z
LAST-MODIFIED:20241213T195145Z
UID:10056070-1734166800-1734174000@destinationbedfordva.com
SUMMARY:Breakfast with Santa
DESCRIPTION:Join Bedford County Parks and Recreation for breakfast\nand a visit with Santa! Parents are invited to bring a\ncamera for a free picture with Santa and their little one.
URL:https://destinationbedfordva.com/event/breakfast-with-santa-3/
LOCATION:Elks National Home\, 931 Ashland Avenue\, Bedford\, VA\, 24523\, United States
GEO:37.3434782;-79.5351962
X-APPLE-STRUCTURED-LOCATION;VALUE=URI;X-ADDRESS=Elks National Home 931 Ashland Avenue Bedford VA 24523 United States;X-APPLE-RADIUS=500;X-TITLE=931 Ashland Avenue:geo:-79.5351962,37.3434782
END:VEVENT
BEGIN:VEVENT
DTSTART;TZID=America/New_York:20231209T090000
DTEND;TZID=America/New_York:20231209T110000
DTSTAMP:20260420T181937
CREATED:20221129T205256Z
LAST-MODIFIED:20231130T191100Z
UID:10050415-1702112400-1702119600@destinationbedfordva.com
SUMMARY:Breakfast with Santa
DESCRIPTION:Join Bedford County Parks and Recreation for Breakfast with Santa at the Elks National Home.\nChildren will enjoy breakfast and a visit with Santa and parents are invited to bring along a camera for a free picture with Santa and their little one. If you have any questions please call (540) 586-7682. Free event\, please bring a can food item that will be donated to a local food pantry. 
URL:https://destinationbedfordva.com/event/breakfast-with-santa-2/
LOCATION:Elks National Home\, 931 Ashland Avenue\, Bedford\, VA\, 24523\, United States
ATTACH;FMTTYPE=image/jpeg:https://destinationbedfordva.com/wp-content/uploads/2022/11/breakfast-with-santa.jpg
GEO:37.3434782;-79.5351962
X-APPLE-STRUCTURED-LOCATION;VALUE=URI;X-ADDRESS=Elks National Home 931 Ashland Avenue Bedford VA 24523 United States;X-APPLE-RADIUS=500;X-TITLE=931 Ashland Avenue:geo:-79.5351962,37.3434782
END:VEVENT
BEGIN:VEVENT
DTSTART;TZID=America/New_York:20231104T100000
DTEND;TZID=America/New_York:20231104T150000
DTSTAMP:20260420T181937
CREATED:20230905T145505Z
LAST-MODIFIED:20230905T145505Z
UID:10053244-1699092000-1699110000@destinationbedfordva.com
SUMMARY:Bedford Chamber of Commerce Holiday Market
DESCRIPTION:Come to the beautiful Spring Oak Bedford\, located at the Historic Elks Home for the Bedford Chamber Holiday Market!  Find amazing local gifts for your loved ones\, drink hot chocolate courtesy of the Centra Bedford Adult Day Center\, & enjoy the renowned Elks Home Christmas lights! \n\n\nLearn more & register: https://business.bedfordareachamber.com/…/2023…
URL:https://destinationbedfordva.com/event/bedford-chamber-of-commerce-holiday-market/
LOCATION:Elks National Home\, 931 Ashland Avenue\, Bedford\, VA\, 24523\, United States
ATTACH;FMTTYPE=image/jpeg:https://destinationbedfordva.com/wp-content/uploads/2023/09/Bedford-holiday-market.jpg
GEO:37.3434782;-79.5351962
X-APPLE-STRUCTURED-LOCATION;VALUE=URI;X-ADDRESS=Elks National Home 931 Ashland Avenue Bedford VA 24523 United States;X-APPLE-RADIUS=500;X-TITLE=931 Ashland Avenue:geo:-79.5351962,37.3434782
END:VEVENT
BEGIN:VEVENT
DTSTART;TZID=America/New_York:20230401T110000
DTEND;TZID=America/New_York:20230401T120000
DTSTAMP:20260420T181937
CREATED:20230215T213530Z
LAST-MODIFIED:20230215T213530Z
UID:10051174-1680346800-1680350400@destinationbedfordva.com
SUMMARY:Easter Egg Hunt
DESCRIPTION:Kids Ages 3-12 will be able to enjoy a toy & sticker filled egg hunt and a visit with the Easter Bunny!  \n 
URL:https://destinationbedfordva.com/event/easter-egg-hunt/
LOCATION:Elks National Home\, 931 Ashland Avenue\, Bedford\, VA\, 24523\, United States
ATTACH;FMTTYPE=image/jpeg:https://destinationbedfordva.com/wp-content/uploads/2023/02/easter-egg-hunt-2023.jpg
GEO:37.3434782;-79.5351962
X-APPLE-STRUCTURED-LOCATION;VALUE=URI;X-ADDRESS=Elks National Home 931 Ashland Avenue Bedford VA 24523 United States;X-APPLE-RADIUS=500;X-TITLE=931 Ashland Avenue:geo:-79.5351962,37.3434782
END:VEVENT
END:VCALENDAR