BEGIN:VCALENDAR
VERSION:2.0
PRODID:-//Destination Bedford - ECPv6.8.3//NONSGML v1.0//EN
CALSCALE:GREGORIAN
METHOD:PUBLISH
X-WR-CALNAME:Destination Bedford
X-ORIGINAL-URL:https://destinationbedfordva.com
X-WR-CALDESC:Events for Destination Bedford
REFRESH-INTERVAL;VALUE=DURATION:PT1H
X-Robots-Tag:noindex
X-PUBLISHED-TTL:PT1H
BEGIN:VTIMEZONE
TZID:America/New_York
BEGIN:DAYLIGHT
TZOFFSETFROM:-0500
TZOFFSETTO:-0400
TZNAME:EDT
DTSTART:20210314T070000
END:DAYLIGHT
BEGIN:STANDARD
TZOFFSETFROM:-0400
TZOFFSETTO:-0500
TZNAME:EST
DTSTART:20211107T060000
END:STANDARD
BEGIN:DAYLIGHT
TZOFFSETFROM:-0500
TZOFFSETTO:-0400
TZNAME:EDT
DTSTART:20220313T070000
END:DAYLIGHT
BEGIN:STANDARD
TZOFFSETFROM:-0400
TZOFFSETTO:-0500
TZNAME:EST
DTSTART:20221106T060000
END:STANDARD
BEGIN:DAYLIGHT
TZOFFSETFROM:-0500
TZOFFSETTO:-0400
TZNAME:EDT
DTSTART:20230312T070000
END:DAYLIGHT
BEGIN:STANDARD
TZOFFSETFROM:-0400
TZOFFSETTO:-0500
TZNAME:EST
DTSTART:20231105T060000
END:STANDARD
BEGIN:DAYLIGHT
TZOFFSETFROM:-0500
TZOFFSETTO:-0400
TZNAME:EDT
DTSTART:20240310T070000
END:DAYLIGHT
BEGIN:STANDARD
TZOFFSETFROM:-0400
TZOFFSETTO:-0500
TZNAME:EST
DTSTART:20241103T060000
END:STANDARD
BEGIN:DAYLIGHT
TZOFFSETFROM:-0500
TZOFFSETTO:-0400
TZNAME:EDT
DTSTART:20250309T070000
END:DAYLIGHT
BEGIN:STANDARD
TZOFFSETFROM:-0400
TZOFFSETTO:-0500
TZNAME:EST
DTSTART:20251102T060000
END:STANDARD
END:VTIMEZONE
BEGIN:VEVENT
DTSTART;TZID=America/New_York:20251108T100000
DTEND;TZID=America/New_York:20251108T140000
DTSTAMP:20260421T014535
CREATED:20251015T182436Z
LAST-MODIFIED:20251015T182522Z
UID:10061279-1762596000-1762610400@destinationbedfordva.com
SUMMARY:Emerson Creek Pottery Holiday Market
DESCRIPTION:Join Emerson Creek Pottery for the 2025 Fall Market & Pottery Outlet Sale! \nCelebrate the season with a cozy day of shopping\, local eats\, and festive fun at Emerson Creek Pottery! Here’s what’s in store:\n Passport to Pottery Savings – Collect signatures from our amazing vendors and unlock exclusive discounts in our pottery outlet store!\n Special Guest: Bedford Humane Society – Fundraising for their new facility and bringing sweet adoptable pets looking for loving homes.\n Craft Vendors – Discover handmade goods\, fall décor\, and unique gifts from talented local artisans.\n Food Vendors – Savor treats from Hado’s Authentic Lebanese Kitchen Food Truck\n Get a Head Start on Holiday Shopping – Find thoughtful gifts for friends\, family\, or yourself—before the holiday rush!\nBring your family\, friends\, and furry companions for a festive fall day full of shopping\, savings\, and community spirit. 
URL:https://destinationbedfordva.com/event/emerson-creek-pottery-holiday-market/
LOCATION:Emerson Creek Pottery\, 1068 Pottery Ln.
ATTACH;FMTTYPE=image/jpeg:https://destinationbedfordva.com/wp-content/uploads/2025/10/emerson-creek-holiday-market.jpg
END:VEVENT
BEGIN:VEVENT
DTSTART;TZID=America/New_York:20241109T100000
DTEND;TZID=America/New_York:20241109T140000
DTSTAMP:20260421T014535
CREATED:20241023T150213Z
LAST-MODIFIED:20241023T150213Z
UID:10056034-1731146400-1731160800@destinationbedfordva.com
SUMMARY:Emerson Creek Pottery Holiday Market & Sale
DESCRIPTION:Passport to Pottery Savings: When you arrive\, you’ll receive a “Passport” with vendor names. Collect signatures from our friendly vendors as you explore their unique offerings. The more vendors you visit\, the higher your savings in our pottery outlet store! (No purchase necessary for signatures.)\nSpecial Guest: Santa!  The Bedford Humane Society Virginia will be on site and they’re bringing Santa himself! Get your photos with Santa from 10 AM to 1 PM. The Humane Society will also be raising funds and sharing information about their important work\, plus showcasing adoptable pets.\nCraft Vendors: Browse a variety of talented artisans from 10 AM to 2 PM.\nPottery Outlet Store: Open until 4 PM with fantastic discounts on nationally recognized pottery.\nBring your family\, friends\, and pets for a delightful day of shopping\, savings\, and holiday cheer! 
URL:https://destinationbedfordva.com/event/emerson-creek-pottery-holiday-market-sale/
LOCATION:Emerson Creek Pottery\, 1068 Pottery Ln.
ATTACH;FMTTYPE=image/jpeg:https://destinationbedfordva.com/wp-content/uploads/2024/10/Emerson-creek-holiday-sale.jpg
END:VEVENT
BEGIN:VEVENT
DTSTART;TZID=America/New_York:20240511T100000
DTEND;TZID=America/New_York:20240511T140000
DTSTAMP:20260421T014535
CREATED:20240318T204315Z
LAST-MODIFIED:20240318T204315Z
UID:10054363-1715421600-1715436000@destinationbedfordva.com
SUMMARY:Emerson Creek Pottery Spring Market & Pottery Outlet Sale
DESCRIPTION:This Emerson Creek event will be a great way to support local vendors and shop for unique items and gifts for friends\, family\, and yourself.\nMake plans to spend the day with us in the beautiful countryside of Bedford!
URL:https://destinationbedfordva.com/event/emerson-creek-pottery-spring-market-pottery-outlet-sale/
LOCATION:Emerson Creek Pottery\, 1068 Pottery Ln.
ATTACH;FMTTYPE=image/jpeg:https://destinationbedfordva.com/wp-content/uploads/2024/03/Emerson-Creek-Pottery.jpg
END:VEVENT
BEGIN:VEVENT
DTSTART;TZID=America/New_York:20231104T100000
DTEND;TZID=America/New_York:20231104T140000
DTSTAMP:20260421T014535
CREATED:20230905T150207Z
LAST-MODIFIED:20230905T150207Z
UID:10053245-1699092000-1699106400@destinationbedfordva.com
SUMMARY:Holiday Market at Emerson Creek Pottery
DESCRIPTION: This year\, Emerson Creek Pottery is offering a “Passport to Pottery Savings” to all market guests. That means\, you’ll receive a “Passport” when you arrive with vendor names listed on it.  Vendors will sign your passport as you view their wares. The more vendors your visit\, (the more signatures you receive) = higher savings for you in our already low-priced pottery outlet store! It’s a win-win situation. 
URL:https://destinationbedfordva.com/event/holiday-market-at-emerson-creek-pottery/
LOCATION:Emerson Creek Pottery\, 1068 Pottery Ln.
ATTACH;FMTTYPE=image/jpeg:https://destinationbedfordva.com/wp-content/uploads/2023/09/emerson-Creek-Market-2023.jpg
END:VEVENT
BEGIN:VEVENT
DTSTART;TZID=America/New_York:20230603T100000
DTEND;TZID=America/New_York:20230603T160000
DTSTAMP:20260421T014535
CREATED:20230523T151100Z
LAST-MODIFIED:20230523T151100Z
UID:10052073-1685786400-1685808000@destinationbedfordva.com
SUMMARY:Emerson Creek Spring Market
DESCRIPTION:This Emerson Creek Event will be a great way to support local craftspeople\, and shop for unique items and gifts for friends\, family\, and yourself.\nVendors and food trucks from across Central Virginia will be on site. There will also be additional discounts on regular outlet store pricing of pottery!\nPottery Discount:\nFrom 10 a.m. to noon\, pottery will be 10% off. Starting at noon\, they will knock an additional 5% off every hour!*\n*All pottery will be on sale except for Summer Peaks\, Smith Mountain Lake\, and Blue Crab
URL:https://destinationbedfordva.com/event/emerson-creek-spring-market/
LOCATION:Emerson Creek Pottery\, 1068 Pottery Ln.
ATTACH;FMTTYPE=image/jpeg:https://destinationbedfordva.com/wp-content/uploads/2023/05/Emerson-Creek-Event-2023.jpg
END:VEVENT
BEGIN:VEVENT
DTSTART;TZID=America/New_York:20221022T100000
DTEND;TZID=America/New_York:20221022T140000
DTSTAMP:20260421T014535
CREATED:20220726T030506Z
LAST-MODIFIED:20220726T030506Z
UID:10049870-1666432800-1666447200@destinationbedfordva.com
SUMMARY:Fall Market at Emerson Creek
DESCRIPTION:Come to this wonderful fall market at Emerson Creek Pottery! Enjoy several vendors and a great family day full of fun!
URL:https://destinationbedfordva.com/event/fall-market-at-emerson-creek/
LOCATION:Emerson Creek Pottery\, 1068 Pottery Ln.
ATTACH;FMTTYPE=image/jpeg:https://destinationbedfordva.com/wp-content/uploads/2022/07/EC-2022.jpg
END:VEVENT
BEGIN:VEVENT
DTSTART;TZID=America/New_York:20220402T100000
DTEND;TZID=America/New_York:20220402T140000
DTSTAMP:20260421T014535
CREATED:20220218T172201Z
LAST-MODIFIED:20220218T172201Z
UID:10049515-1648893600-1648908000@destinationbedfordva.com
SUMMARY:Spring Market at Emerson Creek Pottery
DESCRIPTION:Come enjoy a fun-filled shopping experience at Emerson Creek Pottery! Vendors from across Central Virginia will be on site and Emerson Creek’s the Retail Outlet Store will be having a sale.\nThe Bedford Humane Society will also be at this event. They will be taking donations of dog and cat food\, pet blankets\, toys\, treats\, etc. and holding a raffle with a grand prize of a non-toxic pet dish set from Emerson Creek Pottery!
URL:https://destinationbedfordva.com/event/spring-market-at-emerson-creek-pottery/
LOCATION:Emerson Creek Pottery\, 1068 Pottery Ln.
ATTACH;FMTTYPE=image/jpeg:https://destinationbedfordva.com/wp-content/uploads/2022/02/273827564_4893178037386863_3385106185943060310_n.jpg
END:VEVENT
BEGIN:VEVENT
DTSTART;TZID=America/New_York:20211113T100000
DTEND;TZID=America/New_York:20211113T160000
DTSTAMP:20260421T014535
CREATED:20211025T153656Z
LAST-MODIFIED:20211025T153706Z
UID:10049226-1636797600-1636819200@destinationbedfordva.com
SUMMARY:Emerson Creek Pottery Holiday Sale
DESCRIPTION:Deck your table with handmade pottery this holiday season! Dawn + Brooke Co. will also be hosting a candle pop-up to celebrate the launch of a new fall scent\, Devil’s Bathtub: Pumpkin Caramel Crunch.\nThere will be marked down sale items by an additional 10% every hour starting at noon. Early birds get a better selection\, but shoppers who come later in the day receive higher discounts (up to 40% off outlet store items).\nItems on sale include dinner plates\, salad plates\, bowls.
URL:https://destinationbedfordva.com/event/emerson-creek-pottery-holiday-season-sale/
LOCATION:Emerson Creek Pottery\, 1068 Pottery Ln.
ATTACH;FMTTYPE=image/jpeg:https://destinationbedfordva.com/wp-content/uploads/2021/10/Emerson-Creek-sale-2021.jpg
END:VEVENT
BEGIN:VEVENT
DTSTART;TZID=America/New_York:20210717T100000
DTEND;TZID=America/New_York:20210717T160000
DTSTAMP:20260421T014535
CREATED:20210625T150421Z
LAST-MODIFIED:20210625T150421Z
UID:10048804-1626516000-1626537600@destinationbedfordva.com
SUMMARY:Christmas in July
DESCRIPTION:This will be a fun-filled Christmas shopping experience. In addition to pottery from their Retail Outlet Store\, they have invited Central Virginia artisans and vendors to sell their work\, ranging from candles and crochet to jewelry and jams. You don’t want to miss this!
URL:https://destinationbedfordva.com/event/christmas-in-july/
LOCATION:Emerson Creek Pottery\, 1068 Pottery Ln.
ATTACH;FMTTYPE=image/jpeg:https://destinationbedfordva.com/wp-content/uploads/2021/06/christmas-in-july.jpg
END:VEVENT
END:VCALENDAR