BEGIN:VCALENDAR
VERSION:2.0
PRODID:-//Destination Bedford - ECPv6.8.3//NONSGML v1.0//EN
CALSCALE:GREGORIAN
METHOD:PUBLISH
X-ORIGINAL-URL:https://destinationbedfordva.com
X-WR-CALDESC:Events for Destination Bedford
REFRESH-INTERVAL;VALUE=DURATION:PT1H
X-Robots-Tag:noindex
X-PUBLISHED-TTL:PT1H
BEGIN:VTIMEZONE
TZID:America/New_York
BEGIN:DAYLIGHT
TZOFFSETFROM:-0500
TZOFFSETTO:-0400
TZNAME:EDT
DTSTART:20250309T070000
END:DAYLIGHT
BEGIN:STANDARD
TZOFFSETFROM:-0400
TZOFFSETTO:-0500
TZNAME:EST
DTSTART:20251102T060000
END:STANDARD
BEGIN:DAYLIGHT
TZOFFSETFROM:-0500
TZOFFSETTO:-0400
TZNAME:EDT
DTSTART:20260308T070000
END:DAYLIGHT
BEGIN:STANDARD
TZOFFSETFROM:-0400
TZOFFSETTO:-0500
TZNAME:EST
DTSTART:20261101T060000
END:STANDARD
END:VTIMEZONE
BEGIN:VEVENT
DTSTART;TZID=America/New_York:20260418T140000
DTEND;TZID=America/New_York:20260418T170000
DTSTAMP:20260419T101614
CREATED:20251028T195704Z
LAST-MODIFIED:20260325T205844Z
UID:10062624-1776520800-1776531600@destinationbedfordva.com
SUMMARY:Live Music & Food Truck at Fables & Feathers
DESCRIPTION:Come to Fables and Feathers Winery for live music\, great wine and beautiful views! Some days there will also be food trucks on site.  Click here to see who is playing and which food truck will be on site! 
URL:https://destinationbedfordva.com/event/live-music-food-truck-at-fables-feathers-4/2026-04-18/
LOCATION:Fables & Feathers Winery\, 2117 Bruno Dr.\, Goodview\, VA\, 24095
ATTACH;FMTTYPE=image/jpeg:https://destinationbedfordva.com/wp-content/uploads/2021/05/Fables-and-Feathers-Vineyard-July-2022-NJ-002.jpg
END:VEVENT
BEGIN:VEVENT
DTSTART;TZID=America/New_York:20260417T163000
DTEND;TZID=America/New_York:20260417T193000
DTSTAMP:20260419T101614
CREATED:20251028T195704Z
LAST-MODIFIED:20260325T205844Z
UID:10062623-1776443400-1776454200@destinationbedfordva.com
SUMMARY:Live Music & Food Truck at Fables & Feathers
DESCRIPTION:Come to Fables and Feathers Winery for live music\, great wine and beautiful views! Some days there will also be food trucks on site.  Click here to see who is playing and which food truck will be on site! 
URL:https://destinationbedfordva.com/event/live-music-food-truck-at-fables-feathers-4/2026-04-17/
LOCATION:Fables & Feathers Winery\, 2117 Bruno Dr.\, Goodview\, VA\, 24095
ATTACH;FMTTYPE=image/jpeg:https://destinationbedfordva.com/wp-content/uploads/2021/05/Fables-and-Feathers-Vineyard-July-2022-NJ-002.jpg
END:VEVENT
BEGIN:VEVENT
DTSTART;TZID=America/New_York:20260411T120000
DTEND;TZID=America/New_York:20260411T173000
DTSTAMP:20260419T101614
CREATED:20251028T195704Z
LAST-MODIFIED:20260325T205844Z
UID:10062622-1775908800-1775928600@destinationbedfordva.com
SUMMARY:Live Music & Food Truck at Fables & Feathers
DESCRIPTION:Come to Fables and Feathers Winery for live music\, great wine and beautiful views! Some days there will also be food trucks on site.  Click here to see who is playing and which food truck will be on site! 
URL:https://destinationbedfordva.com/event/live-music-food-truck-at-fables-feathers-4/2026-04-11/
LOCATION:Fables & Feathers Winery\, 2117 Bruno Dr.\, Goodview\, VA\, 24095
ATTACH;FMTTYPE=image/jpeg:https://destinationbedfordva.com/wp-content/uploads/2021/05/Fables-and-Feathers-Vineyard-July-2022-NJ-002.jpg
END:VEVENT
BEGIN:VEVENT
DTSTART;TZID=America/New_York:20260410T163000
DTEND;TZID=America/New_York:20260410T193000
DTSTAMP:20260419T101614
CREATED:20251028T195704Z
LAST-MODIFIED:20260325T205844Z
UID:10062621-1775838600-1775849400@destinationbedfordva.com
SUMMARY:Live Music & Food Truck at Fables & Feathers
DESCRIPTION:Come to Fables and Feathers Winery for live music\, great wine and beautiful views! Some days there will also be food trucks on site.  Click here to see who is playing and which food truck will be on site! 
URL:https://destinationbedfordva.com/event/live-music-food-truck-at-fables-feathers-4/2026-04-10/
LOCATION:Fables & Feathers Winery\, 2117 Bruno Dr.\, Goodview\, VA\, 24095
ATTACH;FMTTYPE=image/jpeg:https://destinationbedfordva.com/wp-content/uploads/2021/05/Fables-and-Feathers-Vineyard-July-2022-NJ-002.jpg
END:VEVENT
BEGIN:VEVENT
DTSTART;TZID=America/New_York:20260404T140000
DTEND;TZID=America/New_York:20260404T170000
DTSTAMP:20260419T101614
CREATED:20251028T195704Z
LAST-MODIFIED:20260325T205844Z
UID:10062620-1775311200-1775322000@destinationbedfordva.com
SUMMARY:Live Music & Food Truck at Fables & Feathers
DESCRIPTION:Come to Fables and Feathers Winery for live music\, great wine and beautiful views! Some days there will also be food trucks on site.  Click here to see who is playing and which food truck will be on site! 
URL:https://destinationbedfordva.com/event/live-music-food-truck-at-fables-feathers-4/2026-04-04/
LOCATION:Fables & Feathers Winery\, 2117 Bruno Dr.\, Goodview\, VA\, 24095
ATTACH;FMTTYPE=image/jpeg:https://destinationbedfordva.com/wp-content/uploads/2021/05/Fables-and-Feathers-Vineyard-July-2022-NJ-002.jpg
END:VEVENT
BEGIN:VEVENT
DTSTART;TZID=America/New_York:20260403T163000
DTEND;TZID=America/New_York:20260403T193000
DTSTAMP:20260419T101614
CREATED:20251028T195704Z
LAST-MODIFIED:20260325T205844Z
UID:10062619-1775233800-1775244600@destinationbedfordva.com
SUMMARY:Live Music & Food Truck at Fables & Feathers
DESCRIPTION:Come to Fables and Feathers Winery for live music\, great wine and beautiful views! Some days there will also be food trucks on site.  Click here to see who is playing and which food truck will be on site! 
URL:https://destinationbedfordva.com/event/live-music-food-truck-at-fables-feathers-4/2026-04-03/
LOCATION:Fables & Feathers Winery\, 2117 Bruno Dr.\, Goodview\, VA\, 24095
ATTACH;FMTTYPE=image/jpeg:https://destinationbedfordva.com/wp-content/uploads/2021/05/Fables-and-Feathers-Vineyard-July-2022-NJ-002.jpg
END:VEVENT
BEGIN:VEVENT
DTSTART;TZID=America/New_York:20260328T140000
DTEND;TZID=America/New_York:20260328T170000
DTSTAMP:20260419T101614
CREATED:20260325T151030Z
LAST-MODIFIED:20260325T151030Z
UID:10062606-1774706400-1774717200@destinationbedfordva.com
SUMMARY:Easter Egg Hunt at Fables & Feathers
DESCRIPTION:Hippity Hoppity\, it’s time for the annual Easter Egg Hunt in the vineyard!\nBring the whole family out! The hunt will start at 2:00- bring a basket and your rain boots\, it might be muddy. The egg hunting is for children (and it’s free)\, but they have plenty of fun for the adults too.\nTrev Hicks will be playing saxophone from 2-5.\nThe Hot Dog Girl will be grilling up tasty dogs starting at 1:00.\nMr. & Mrs. Easter Bunny will be hopping by for photos too!
URL:https://destinationbedfordva.com/event/easter-egg-hunt-at-fables-feathers-2/
LOCATION:Fables & Feathers Winery\, 2117 Bruno Dr.\, Goodview\, VA\, 24095
ATTACH;FMTTYPE=image/jpeg:https://destinationbedfordva.com/wp-content/uploads/2026/03/FF-easter-egg-hunt-2026.jpg
END:VEVENT
BEGIN:VEVENT
DTSTART;TZID=America/New_York:20251214T130000
DTEND;TZID=America/New_York:20251214T160000
DTSTAMP:20260419T101614
CREATED:20251203T153614Z
LAST-MODIFIED:20251203T213317Z
UID:10061506-1765717200-1765728000@destinationbedfordva.com
SUMMARY:Santa at the Vineyard
DESCRIPTION:SANTA IS COMING!!!!\nBring out the whole family for a low-key festive time! Santa and Mrs. Claus will be at Fable & Feather Winery for photos\, games\, and anything else your kiddos need.\nCarol along with Daniel Kepel\, the singing violinist- he knows all the best Christmas songs!\nKEFI- Greek food with Passion will be grilling up delicious food from 12-5\nDo a little local shopping- Wire Wrapping & Beading by Renee is bringing her bling & more\, Max Meadows Lavender Farm has your soaps\, shampoos\, and other delicious smelling things\, and Fletcher Fields Ceramics has your handmade pottery.\nThe Winery is also working with the local sheriff’s department to collect new & unwrapped toys for children in need this holiday season. If you can donate\, it’s much appreciated\, but it is not required! There is no cost to visit with Santa. 
URL:https://destinationbedfordva.com/event/santa-at-the-vineyard/2025-12-14/
LOCATION:Fables & Feathers Winery\, 2117 Bruno Dr.\, Goodview\, VA\, 24095
ATTACH;FMTTYPE=image/jpeg:https://destinationbedfordva.com/wp-content/uploads/2025/12/Santa-at-the-Vineyard.jpg
END:VEVENT
BEGIN:VEVENT
DTSTART;TZID=America/New_York:20251213T130000
DTEND;TZID=America/New_York:20251213T160000
DTSTAMP:20260419T101614
CREATED:20251203T153614Z
LAST-MODIFIED:20251203T213317Z
UID:10061501-1765630800-1765641600@destinationbedfordva.com
SUMMARY:Santa at the Vineyard
DESCRIPTION:SANTA IS COMING!!!!\nBring out the whole family for a low-key festive time! Santa and Mrs. Claus will be at Fable & Feather Winery for photos\, games\, and anything else your kiddos need.\nCarol along with Daniel Kepel\, the singing violinist- he knows all the best Christmas songs!\nKEFI- Greek food with Passion will be grilling up delicious food from 12-5\nDo a little local shopping- Wire Wrapping & Beading by Renee is bringing her bling & more\, Max Meadows Lavender Farm has your soaps\, shampoos\, and other delicious smelling things\, and Fletcher Fields Ceramics has your handmade pottery.\nThe Winery is also working with the local sheriff’s department to collect new & unwrapped toys for children in need this holiday season. If you can donate\, it’s much appreciated\, but it is not required! There is no cost to visit with Santa. 
URL:https://destinationbedfordva.com/event/santa-at-the-vineyard/2025-12-13/
LOCATION:Fables & Feathers Winery\, 2117 Bruno Dr.\, Goodview\, VA\, 24095
ATTACH;FMTTYPE=image/jpeg:https://destinationbedfordva.com/wp-content/uploads/2025/12/Santa-at-the-Vineyard.jpg
END:VEVENT
BEGIN:VEVENT
DTSTART;TZID=America/New_York:20251114T190000
DTEND;TZID=America/New_York:20251114T223000
DTSTAMP:20260419T101614
CREATED:20250924T135857Z
LAST-MODIFIED:20250924T140049Z
UID:10061182-1763146800-1763159400@destinationbedfordva.com
SUMMARY:Gobble & Groove Dance Social
DESCRIPTION:Ready to gobble up some delicious wine and food\, then groove to lively beats? We’ve got the perfect event for you! For just a $10 cover at the door (cash or Venmo accepted)\, you can enjoy an evening filled with dancing\, great vibes\, and tasty treats. SML Salsa students currently enrolled in November or December courses or memberships get in for only $5. Come dressed in your favorite fall colors and indulge in pizza\, flatbreads\, meat and cheese trays\, and other snacks available for purchase. The night kicks off at 7:00 PM with a beginner-friendly dance lesson—no partner needed—followed by social dancing starting at 7:30 PM and wrapping up around 10:00 or 10:30 PM. Expect a lively mix of Latin beats including salsa\, bachata\, cha cha\, merengue\, and a generous dose of Kizomba and Zouk later in the evening. English covers will be in the mix too\, so whether you’re new to dancing or a seasoned pro\, there’s something for everyone!
URL:https://destinationbedfordva.com/event/gobble-groove-dance-social/
LOCATION:Fables & Feathers Winery\, 2117 Bruno Dr.\, Goodview\, VA\, 24095
ATTACH;FMTTYPE=image/jpeg:https://destinationbedfordva.com/wp-content/uploads/2025/09/gobble-and-groove.jpg
END:VEVENT
BEGIN:VEVENT
DTSTART;TZID=America/New_York:20251031T163000
DTEND;TZID=America/New_York:20251031T193000
DTSTAMP:20260419T101614
CREATED:20250924T134828Z
LAST-MODIFIED:20250924T134847Z
UID:10061180-1761928200-1761939000@destinationbedfordva.com
SUMMARY:Live Music & Food Truck at Fables & Feathers
DESCRIPTION:Come to Fables and Feathers Winery for live music\, great wine and beautiful views! Some days there will also be food trucks on site.  Click here to see who is playing and which food truck will be on site! 
URL:https://destinationbedfordva.com/event/live-music-food-truck-at-fables-feathers-3/2025-10-31/
LOCATION:Fables & Feathers Winery\, 2117 Bruno Dr.\, Goodview\, VA\, 24095
ATTACH;FMTTYPE=image/jpeg:https://destinationbedfordva.com/wp-content/uploads/2021/05/Fables-and-Feathers-Vineyard-July-2022-NJ-002.jpg
END:VEVENT
BEGIN:VEVENT
DTSTART;TZID=America/New_York:20251025T110000
DTEND;TZID=America/New_York:20251025T200000
DTSTAMP:20260419T101614
CREATED:20250924T135210Z
LAST-MODIFIED:20250924T140216Z
UID:10061181-1761390000-1761422400@destinationbedfordva.com
SUMMARY:Fables & Feathers Oktoberfest
DESCRIPTION:Come celebrate the 5th harvest at the 5th annual Oktoberfest Party at Fables & Feathers Winery! Enjoy a full day of live music featuring The Oddfellows from 11 AM to 2 PM\, Music by Sunshine from 2 PM to 5 PM\, and the Chris Hammock Duo from 5 PM to 8 PM. Savor delicious eats from local food trucks including Kerstin’s Kitchen and Top Dawgs. Best of all\, there’s no charge to attend—just bring your friends\, your appetite\, and your love for great music and wine!
URL:https://destinationbedfordva.com/event/fables-feathers-oktoberfest/
LOCATION:Fables & Feathers Winery\, 2117 Bruno Dr.\, Goodview\, VA\, 24095
ATTACH;FMTTYPE=image/jpeg:https://destinationbedfordva.com/wp-content/uploads/2025/09/oktoberfest-2025.jpg
END:VEVENT
BEGIN:VEVENT
DTSTART;TZID=America/New_York:20251018T140000
DTEND;TZID=America/New_York:20251018T170000
DTSTAMP:20260419T101614
CREATED:20250924T134828Z
LAST-MODIFIED:20250924T134847Z
UID:10061179-1760796000-1760806800@destinationbedfordva.com
SUMMARY:Live Music & Food Truck at Fables & Feathers
DESCRIPTION:Come to Fables and Feathers Winery for live music\, great wine and beautiful views! Some days there will also be food trucks on site.  Click here to see who is playing and which food truck will be on site! 
URL:https://destinationbedfordva.com/event/live-music-food-truck-at-fables-feathers-3/2025-10-18/
LOCATION:Fables & Feathers Winery\, 2117 Bruno Dr.\, Goodview\, VA\, 24095
ATTACH;FMTTYPE=image/jpeg:https://destinationbedfordva.com/wp-content/uploads/2021/05/Fables-and-Feathers-Vineyard-July-2022-NJ-002.jpg
END:VEVENT
BEGIN:VEVENT
DTSTART;TZID=America/New_York:20251017T163000
DTEND;TZID=America/New_York:20251017T193000
DTSTAMP:20260419T101614
CREATED:20250924T134828Z
LAST-MODIFIED:20250924T134847Z
UID:10061178-1760718600-1760729400@destinationbedfordva.com
SUMMARY:Live Music & Food Truck at Fables & Feathers
DESCRIPTION:Come to Fables and Feathers Winery for live music\, great wine and beautiful views! Some days there will also be food trucks on site.  Click here to see who is playing and which food truck will be on site! 
URL:https://destinationbedfordva.com/event/live-music-food-truck-at-fables-feathers-3/2025-10-17/
LOCATION:Fables & Feathers Winery\, 2117 Bruno Dr.\, Goodview\, VA\, 24095
ATTACH;FMTTYPE=image/jpeg:https://destinationbedfordva.com/wp-content/uploads/2021/05/Fables-and-Feathers-Vineyard-July-2022-NJ-002.jpg
END:VEVENT
BEGIN:VEVENT
DTSTART;TZID=America/New_York:20251011T130000
DTEND;TZID=America/New_York:20251011T170000
DTSTAMP:20260419T101614
CREATED:20250924T134828Z
LAST-MODIFIED:20250924T134847Z
UID:10061177-1760187600-1760202000@destinationbedfordva.com
SUMMARY:Live Music & Food Truck at Fables & Feathers
DESCRIPTION:Come to Fables and Feathers Winery for live music\, great wine and beautiful views! Some days there will also be food trucks on site.  Click here to see who is playing and which food truck will be on site! 
URL:https://destinationbedfordva.com/event/live-music-food-truck-at-fables-feathers-3/2025-10-11/
LOCATION:Fables & Feathers Winery\, 2117 Bruno Dr.\, Goodview\, VA\, 24095
ATTACH;FMTTYPE=image/jpeg:https://destinationbedfordva.com/wp-content/uploads/2021/05/Fables-and-Feathers-Vineyard-July-2022-NJ-002.jpg
END:VEVENT
BEGIN:VEVENT
DTSTART;TZID=America/New_York:20251010T170000
DTEND;TZID=America/New_York:20251010T200000
DTSTAMP:20260419T101614
CREATED:20250924T134828Z
LAST-MODIFIED:20250924T134847Z
UID:10061176-1760115600-1760126400@destinationbedfordva.com
SUMMARY:Live Music & Food Truck at Fables & Feathers
DESCRIPTION:Come to Fables and Feathers Winery for live music\, great wine and beautiful views! Some days there will also be food trucks on site.  Click here to see who is playing and which food truck will be on site! 
URL:https://destinationbedfordva.com/event/live-music-food-truck-at-fables-feathers-3/2025-10-10/
LOCATION:Fables & Feathers Winery\, 2117 Bruno Dr.\, Goodview\, VA\, 24095
ATTACH;FMTTYPE=image/jpeg:https://destinationbedfordva.com/wp-content/uploads/2021/05/Fables-and-Feathers-Vineyard-July-2022-NJ-002.jpg
END:VEVENT
BEGIN:VEVENT
DTSTART;TZID=America/New_York:20251005T150000
DTEND;TZID=America/New_York:20251005T170000
DTSTAMP:20260419T101614
CREATED:20250826T142843Z
LAST-MODIFIED:20250826T142843Z
UID:10061018-1759676400-1759683600@destinationbedfordva.com
SUMMARY:Halloween Ceramics Class
DESCRIPTION:Olivia\, of Fletcher Fields Ceramics\, is coming back to help you glaze an adorable lighted pumpkin and a spooky witch’s cauldron mug.\n$60 for all the supplies and your first glass of wine\, beer\, or cider.\nTickets:\nhttps://checkout.square.site/buy/QWCVYE4RRN72HN2SPLM7LQ5L\nTickets are refundable up to 48 hours prior to event. You don’t need to print a ticket\, once you sign up\, you’re on the list. This event is limited to the first 20 people\, so sign up soon!
URL:https://destinationbedfordva.com/event/halloween-ceramics-class/
LOCATION:Fables & Feathers Winery\, 2117 Bruno Dr.\, Goodview\, VA\, 24095
ATTACH;FMTTYPE=image/jpeg:https://destinationbedfordva.com/wp-content/uploads/2025/08/halloween-ceramics-class.jpg
END:VEVENT
BEGIN:VEVENT
DTSTART;TZID=America/New_York:20251004T140000
DTEND;TZID=America/New_York:20251004T170000
DTSTAMP:20260419T101614
CREATED:20250924T134828Z
LAST-MODIFIED:20250924T134847Z
UID:10061175-1759586400-1759597200@destinationbedfordva.com
SUMMARY:Live Music & Food Truck at Fables & Feathers
DESCRIPTION:Come to Fables and Feathers Winery for live music\, great wine and beautiful views! Some days there will also be food trucks on site.  Click here to see who is playing and which food truck will be on site! 
URL:https://destinationbedfordva.com/event/live-music-food-truck-at-fables-feathers-3/2025-10-04/
LOCATION:Fables & Feathers Winery\, 2117 Bruno Dr.\, Goodview\, VA\, 24095
ATTACH;FMTTYPE=image/jpeg:https://destinationbedfordva.com/wp-content/uploads/2021/05/Fables-and-Feathers-Vineyard-July-2022-NJ-002.jpg
END:VEVENT
BEGIN:VEVENT
DTSTART;TZID=America/New_York:20251003T163000
DTEND;TZID=America/New_York:20251003T193000
DTSTAMP:20260419T101614
CREATED:20250924T134828Z
LAST-MODIFIED:20250924T134847Z
UID:10061174-1759509000-1759519800@destinationbedfordva.com
SUMMARY:Live Music & Food Truck at Fables & Feathers
DESCRIPTION:Come to Fables and Feathers Winery for live music\, great wine and beautiful views! Some days there will also be food trucks on site.  Click here to see who is playing and which food truck will be on site! 
URL:https://destinationbedfordva.com/event/live-music-food-truck-at-fables-feathers-3/2025-10-03/
LOCATION:Fables & Feathers Winery\, 2117 Bruno Dr.\, Goodview\, VA\, 24095
ATTACH;FMTTYPE=image/jpeg:https://destinationbedfordva.com/wp-content/uploads/2021/05/Fables-and-Feathers-Vineyard-July-2022-NJ-002.jpg
END:VEVENT
BEGIN:VEVENT
DTSTART;TZID=America/New_York:20250927T140000
DTEND;TZID=America/New_York:20250927T170000
DTSTAMP:20260419T101614
CREATED:20250421T135541Z
LAST-MODIFIED:20250826T153516Z
UID:10061028-1758981600-1758992400@destinationbedfordva.com
SUMMARY:Live Music & Food Truck at Fables & Feathers
DESCRIPTION:Come to Fables and Feathers Winery for live music\, great wine and beautiful views! Some days there will also be food trucks on site.  Click here to see who is playing and which food truck will be on site! 
URL:https://destinationbedfordva.com/event/live-music-food-truck-at-fables-feathers-2/2025-09-27/
LOCATION:Fables & Feathers Winery\, 2117 Bruno Dr.\, Goodview\, VA\, 24095
ATTACH;FMTTYPE=image/jpeg:https://destinationbedfordva.com/wp-content/uploads/2021/05/Fables-and-Feathers-Vineyard-July-2022-NJ-002.jpg
END:VEVENT
BEGIN:VEVENT
DTSTART;TZID=America/New_York:20250926T163000
DTEND;TZID=America/New_York:20250926T193000
DTSTAMP:20260419T101614
CREATED:20250421T135541Z
LAST-MODIFIED:20250826T153516Z
UID:10061027-1758904200-1758915000@destinationbedfordva.com
SUMMARY:Live Music & Food Truck at Fables & Feathers
DESCRIPTION:Come to Fables and Feathers Winery for live music\, great wine and beautiful views! Some days there will also be food trucks on site.  Click here to see who is playing and which food truck will be on site! 
URL:https://destinationbedfordva.com/event/live-music-food-truck-at-fables-feathers-2/2025-09-26/
LOCATION:Fables & Feathers Winery\, 2117 Bruno Dr.\, Goodview\, VA\, 24095
ATTACH;FMTTYPE=image/jpeg:https://destinationbedfordva.com/wp-content/uploads/2021/05/Fables-and-Feathers-Vineyard-July-2022-NJ-002.jpg
END:VEVENT
BEGIN:VEVENT
DTSTART;TZID=America/New_York:20250920T140000
DTEND;TZID=America/New_York:20250920T170000
DTSTAMP:20260419T101614
CREATED:20250421T135541Z
LAST-MODIFIED:20250826T153516Z
UID:10061026-1758376800-1758387600@destinationbedfordva.com
SUMMARY:Live Music & Food Truck at Fables & Feathers
DESCRIPTION:Come to Fables and Feathers Winery for live music\, great wine and beautiful views! Some days there will also be food trucks on site.  Click here to see who is playing and which food truck will be on site! 
URL:https://destinationbedfordva.com/event/live-music-food-truck-at-fables-feathers-2/2025-09-20/
LOCATION:Fables & Feathers Winery\, 2117 Bruno Dr.\, Goodview\, VA\, 24095
ATTACH;FMTTYPE=image/jpeg:https://destinationbedfordva.com/wp-content/uploads/2021/05/Fables-and-Feathers-Vineyard-July-2022-NJ-002.jpg
END:VEVENT
BEGIN:VEVENT
DTSTART;TZID=America/New_York:20250919T163000
DTEND;TZID=America/New_York:20250919T200000
DTSTAMP:20260419T101614
CREATED:20250421T135541Z
LAST-MODIFIED:20250826T153516Z
UID:10061025-1758299400-1758312000@destinationbedfordva.com
SUMMARY:Live Music & Food Truck at Fables & Feathers
DESCRIPTION:Come to Fables and Feathers Winery for live music\, great wine and beautiful views! Some days there will also be food trucks on site.  Click here to see who is playing and which food truck will be on site! 
URL:https://destinationbedfordva.com/event/live-music-food-truck-at-fables-feathers-2/2025-09-19/
LOCATION:Fables & Feathers Winery\, 2117 Bruno Dr.\, Goodview\, VA\, 24095
ATTACH;FMTTYPE=image/jpeg:https://destinationbedfordva.com/wp-content/uploads/2021/05/Fables-and-Feathers-Vineyard-July-2022-NJ-002.jpg
END:VEVENT
BEGIN:VEVENT
DTSTART;TZID=America/New_York:20250913T140000
DTEND;TZID=America/New_York:20250913T170000
DTSTAMP:20260419T101614
CREATED:20250421T135541Z
LAST-MODIFIED:20250826T153516Z
UID:10061024-1757772000-1757782800@destinationbedfordva.com
SUMMARY:Live Music & Food Truck at Fables & Feathers
DESCRIPTION:Come to Fables and Feathers Winery for live music\, great wine and beautiful views! Some days there will also be food trucks on site.  Click here to see who is playing and which food truck will be on site! 
URL:https://destinationbedfordva.com/event/live-music-food-truck-at-fables-feathers-2/2025-09-13/
LOCATION:Fables & Feathers Winery\, 2117 Bruno Dr.\, Goodview\, VA\, 24095
ATTACH;FMTTYPE=image/jpeg:https://destinationbedfordva.com/wp-content/uploads/2021/05/Fables-and-Feathers-Vineyard-July-2022-NJ-002.jpg
END:VEVENT
BEGIN:VEVENT
DTSTART;TZID=America/New_York:20250912T163000
DTEND;TZID=America/New_York:20250912T200000
DTSTAMP:20260419T101614
CREATED:20250421T135541Z
LAST-MODIFIED:20250826T153516Z
UID:10061023-1757694600-1757707200@destinationbedfordva.com
SUMMARY:Live Music & Food Truck at Fables & Feathers
DESCRIPTION:Come to Fables and Feathers Winery for live music\, great wine and beautiful views! Some days there will also be food trucks on site.  Click here to see who is playing and which food truck will be on site! 
URL:https://destinationbedfordva.com/event/live-music-food-truck-at-fables-feathers-2/2025-09-12/
LOCATION:Fables & Feathers Winery\, 2117 Bruno Dr.\, Goodview\, VA\, 24095
ATTACH;FMTTYPE=image/jpeg:https://destinationbedfordva.com/wp-content/uploads/2021/05/Fables-and-Feathers-Vineyard-July-2022-NJ-002.jpg
END:VEVENT
BEGIN:VEVENT
DTSTART;TZID=America/New_York:20250906T140000
DTEND;TZID=America/New_York:20250906T170000
DTSTAMP:20260419T101614
CREATED:20250421T135541Z
LAST-MODIFIED:20250826T153516Z
UID:10061022-1757167200-1757178000@destinationbedfordva.com
SUMMARY:Live Music & Food Truck at Fables & Feathers
DESCRIPTION:Come to Fables and Feathers Winery for live music\, great wine and beautiful views! Some days there will also be food trucks on site.  Click here to see who is playing and which food truck will be on site! 
URL:https://destinationbedfordva.com/event/live-music-food-truck-at-fables-feathers-2/2025-09-06/
LOCATION:Fables & Feathers Winery\, 2117 Bruno Dr.\, Goodview\, VA\, 24095
ATTACH;FMTTYPE=image/jpeg:https://destinationbedfordva.com/wp-content/uploads/2021/05/Fables-and-Feathers-Vineyard-July-2022-NJ-002.jpg
END:VEVENT
BEGIN:VEVENT
DTSTART;TZID=America/New_York:20250905T163000
DTEND;TZID=America/New_York:20250905T193000
DTSTAMP:20260419T101614
CREATED:20250421T135541Z
LAST-MODIFIED:20250826T153516Z
UID:10061021-1757089800-1757100600@destinationbedfordva.com
SUMMARY:Live Music & Food Truck at Fables & Feathers
DESCRIPTION:Come to Fables and Feathers Winery for live music\, great wine and beautiful views! Some days there will also be food trucks on site.  Click here to see who is playing and which food truck will be on site! 
URL:https://destinationbedfordva.com/event/live-music-food-truck-at-fables-feathers-2/2025-09-05/
LOCATION:Fables & Feathers Winery\, 2117 Bruno Dr.\, Goodview\, VA\, 24095
ATTACH;FMTTYPE=image/jpeg:https://destinationbedfordva.com/wp-content/uploads/2021/05/Fables-and-Feathers-Vineyard-July-2022-NJ-002.jpg
END:VEVENT
BEGIN:VEVENT
DTSTART;TZID=America/New_York:20250831T140000
DTEND;TZID=America/New_York:20250831T170000
DTSTAMP:20260419T101614
CREATED:20250421T135541Z
LAST-MODIFIED:20250826T153516Z
UID:10060817-1756648800-1756659600@destinationbedfordva.com
SUMMARY:Live Music & Food Truck at Fables & Feathers
DESCRIPTION:Come to Fables and Feathers Winery for live music\, great wine and beautiful views! Some days there will also be food trucks on site.  Click here to see who is playing and which food truck will be on site! 
URL:https://destinationbedfordva.com/event/live-music-food-truck-at-fables-feathers-2/2025-08-31/
LOCATION:Fables & Feathers Winery\, 2117 Bruno Dr.\, Goodview\, VA\, 24095
ATTACH;FMTTYPE=image/jpeg:https://destinationbedfordva.com/wp-content/uploads/2021/05/Fables-and-Feathers-Vineyard-July-2022-NJ-002.jpg
END:VEVENT
BEGIN:VEVENT
DTSTART;TZID=America/New_York:20250830T120000
DTEND;TZID=America/New_York:20250830T170000
DTSTAMP:20260419T101614
CREATED:20250421T135541Z
LAST-MODIFIED:20250826T153516Z
UID:10060816-1756555200-1756573200@destinationbedfordva.com
SUMMARY:Live Music & Food Truck at Fables & Feathers
DESCRIPTION:Come to Fables and Feathers Winery for live music\, great wine and beautiful views! Some days there will also be food trucks on site.  Click here to see who is playing and which food truck will be on site! 
URL:https://destinationbedfordva.com/event/live-music-food-truck-at-fables-feathers-2/2025-08-30/
LOCATION:Fables & Feathers Winery\, 2117 Bruno Dr.\, Goodview\, VA\, 24095
ATTACH;FMTTYPE=image/jpeg:https://destinationbedfordva.com/wp-content/uploads/2021/05/Fables-and-Feathers-Vineyard-July-2022-NJ-002.jpg
END:VEVENT
BEGIN:VEVENT
DTSTART;TZID=America/New_York:20250829T163000
DTEND;TZID=America/New_York:20250829T193000
DTSTAMP:20260419T101614
CREATED:20250421T135541Z
LAST-MODIFIED:20250826T153516Z
UID:10060815-1756485000-1756495800@destinationbedfordva.com
SUMMARY:Live Music & Food Truck at Fables & Feathers
DESCRIPTION:Come to Fables and Feathers Winery for live music\, great wine and beautiful views! Some days there will also be food trucks on site.  Click here to see who is playing and which food truck will be on site! 
URL:https://destinationbedfordva.com/event/live-music-food-truck-at-fables-feathers-2/2025-08-29/
LOCATION:Fables & Feathers Winery\, 2117 Bruno Dr.\, Goodview\, VA\, 24095
ATTACH;FMTTYPE=image/jpeg:https://destinationbedfordva.com/wp-content/uploads/2021/05/Fables-and-Feathers-Vineyard-July-2022-NJ-002.jpg
END:VEVENT
END:VCALENDAR