BEGIN:VCALENDAR
VERSION:2.0
PRODID:-//Destination Bedford - ECPv6.8.3//NONSGML v1.0//EN
CALSCALE:GREGORIAN
METHOD:PUBLISH
X-WR-CALNAME:Destination Bedford
X-ORIGINAL-URL:https://destinationbedfordva.com
X-WR-CALDESC:Events for Destination Bedford
REFRESH-INTERVAL;VALUE=DURATION:PT1H
X-Robots-Tag:noindex
X-PUBLISHED-TTL:PT1H
BEGIN:VTIMEZONE
TZID:America/New_York
BEGIN:DAYLIGHT
TZOFFSETFROM:-0500
TZOFFSETTO:-0400
TZNAME:EDT
DTSTART:20260308T070000
END:DAYLIGHT
BEGIN:STANDARD
TZOFFSETFROM:-0400
TZOFFSETTO:-0500
TZNAME:EST
DTSTART:20261101T060000
END:STANDARD
END:VTIMEZONE
BEGIN:VEVENT
DTSTART;TZID=America/New_York:20260424T163000
DTEND;TZID=America/New_York:20260424T193000
DTSTAMP:20260419T125808
CREATED:20251028T195704Z
LAST-MODIFIED:20260325T205844Z
UID:10062625-1777048200-1777059000@destinationbedfordva.com
SUMMARY:Live Music & Food Truck at Fables & Feathers
DESCRIPTION:Come to Fables and Feathers Winery for live music\, great wine and beautiful views! Some days there will also be food trucks on site.  Click here to see who is playing and which food truck will be on site! 
URL:https://destinationbedfordva.com/event/live-music-food-truck-at-fables-feathers-4/2026-04-24/
LOCATION:Fables & Feathers Winery\, 2117 Bruno Dr.\, Goodview\, VA\, 24095
ATTACH;FMTTYPE=image/jpeg:https://destinationbedfordva.com/wp-content/uploads/2021/05/Fables-and-Feathers-Vineyard-July-2022-NJ-002.jpg
END:VEVENT
BEGIN:VEVENT
DTSTART;TZID=America/New_York:20260425T140000
DTEND;TZID=America/New_York:20260425T170000
DTSTAMP:20260419T125808
CREATED:20251028T195704Z
LAST-MODIFIED:20260325T205844Z
UID:10062626-1777125600-1777136400@destinationbedfordva.com
SUMMARY:Live Music & Food Truck at Fables & Feathers
DESCRIPTION:Come to Fables and Feathers Winery for live music\, great wine and beautiful views! Some days there will also be food trucks on site.  Click here to see who is playing and which food truck will be on site! 
URL:https://destinationbedfordva.com/event/live-music-food-truck-at-fables-feathers-4/2026-04-25/
LOCATION:Fables & Feathers Winery\, 2117 Bruno Dr.\, Goodview\, VA\, 24095
ATTACH;FMTTYPE=image/jpeg:https://destinationbedfordva.com/wp-content/uploads/2021/05/Fables-and-Feathers-Vineyard-July-2022-NJ-002.jpg
END:VEVENT
BEGIN:VEVENT
DTSTART;TZID=America/New_York:20260501T163000
DTEND;TZID=America/New_York:20260501T193000
DTSTAMP:20260419T125808
CREATED:20260206T204209Z
LAST-MODIFIED:20260416T210737Z
UID:10063563-1777653000-1777663800@destinationbedfordva.com
SUMMARY:Live Music & Food Truck at Fables & Feathers
DESCRIPTION:Come to Fables and Feathers Winery for live music\, great wine and beautiful views! Some days there will also be food trucks on site.  Click here to see who is playing and which food truck will be on site! 
URL:https://destinationbedfordva.com/event/live-music-food-truck-at-fables-feathers-4-2/2026-05-01/
LOCATION:Fables & Feathers Winery\, 2117 Bruno Dr.\, Goodview\, VA\, 24095
ATTACH;FMTTYPE=image/jpeg:https://destinationbedfordva.com/wp-content/uploads/2021/05/Fables-and-Feathers-Vineyard-July-2022-NJ-002.jpg
END:VEVENT
BEGIN:VEVENT
DTSTART;TZID=America/New_York:20260502T140000
DTEND;TZID=America/New_York:20260502T170000
DTSTAMP:20260419T125808
CREATED:20260206T204209Z
LAST-MODIFIED:20260416T210737Z
UID:10063564-1777730400-1777741200@destinationbedfordva.com
SUMMARY:Live Music & Food Truck at Fables & Feathers
DESCRIPTION:Come to Fables and Feathers Winery for live music\, great wine and beautiful views! Some days there will also be food trucks on site.  Click here to see who is playing and which food truck will be on site! 
URL:https://destinationbedfordva.com/event/live-music-food-truck-at-fables-feathers-4-2/2026-05-02/
LOCATION:Fables & Feathers Winery\, 2117 Bruno Dr.\, Goodview\, VA\, 24095
ATTACH;FMTTYPE=image/jpeg:https://destinationbedfordva.com/wp-content/uploads/2021/05/Fables-and-Feathers-Vineyard-July-2022-NJ-002.jpg
END:VEVENT
BEGIN:VEVENT
DTSTART;TZID=America/New_York:20260508T163000
DTEND;TZID=America/New_York:20260508T193000
DTSTAMP:20260419T125808
CREATED:20260206T204209Z
LAST-MODIFIED:20260416T210737Z
UID:10063565-1778257800-1778268600@destinationbedfordva.com
SUMMARY:Live Music & Food Truck at Fables & Feathers
DESCRIPTION:Come to Fables and Feathers Winery for live music\, great wine and beautiful views! Some days there will also be food trucks on site.  Click here to see who is playing and which food truck will be on site! 
URL:https://destinationbedfordva.com/event/live-music-food-truck-at-fables-feathers-4-2/2026-05-08/
LOCATION:Fables & Feathers Winery\, 2117 Bruno Dr.\, Goodview\, VA\, 24095
ATTACH;FMTTYPE=image/jpeg:https://destinationbedfordva.com/wp-content/uploads/2021/05/Fables-and-Feathers-Vineyard-July-2022-NJ-002.jpg
END:VEVENT
BEGIN:VEVENT
DTSTART;TZID=America/New_York:20260509T140000
DTEND;TZID=America/New_York:20260509T170000
DTSTAMP:20260419T125808
CREATED:20260206T204209Z
LAST-MODIFIED:20260416T210737Z
UID:10063566-1778335200-1778346000@destinationbedfordva.com
SUMMARY:Live Music & Food Truck at Fables & Feathers
DESCRIPTION:Come to Fables and Feathers Winery for live music\, great wine and beautiful views! Some days there will also be food trucks on site.  Click here to see who is playing and which food truck will be on site! 
URL:https://destinationbedfordva.com/event/live-music-food-truck-at-fables-feathers-4-2/2026-05-09/
LOCATION:Fables & Feathers Winery\, 2117 Bruno Dr.\, Goodview\, VA\, 24095
ATTACH;FMTTYPE=image/jpeg:https://destinationbedfordva.com/wp-content/uploads/2021/05/Fables-and-Feathers-Vineyard-July-2022-NJ-002.jpg
END:VEVENT
BEGIN:VEVENT
DTSTART;TZID=America/New_York:20260510T120000
DTEND;TZID=America/New_York:20260510T170000
DTSTAMP:20260419T125808
CREATED:20260206T204209Z
LAST-MODIFIED:20260416T210737Z
UID:10063567-1778414400-1778432400@destinationbedfordva.com
SUMMARY:Live Music & Food Truck at Fables & Feathers
DESCRIPTION:Come to Fables and Feathers Winery for live music\, great wine and beautiful views! Some days there will also be food trucks on site.  Click here to see who is playing and which food truck will be on site! 
URL:https://destinationbedfordva.com/event/live-music-food-truck-at-fables-feathers-4-2/2026-05-10/
LOCATION:Fables & Feathers Winery\, 2117 Bruno Dr.\, Goodview\, VA\, 24095
ATTACH;FMTTYPE=image/jpeg:https://destinationbedfordva.com/wp-content/uploads/2021/05/Fables-and-Feathers-Vineyard-July-2022-NJ-002.jpg
END:VEVENT
BEGIN:VEVENT
DTSTART;TZID=America/New_York:20260515T163000
DTEND;TZID=America/New_York:20260515T193000
DTSTAMP:20260419T125808
CREATED:20260206T204209Z
LAST-MODIFIED:20260416T210737Z
UID:10063568-1778862600-1778873400@destinationbedfordva.com
SUMMARY:Live Music & Food Truck at Fables & Feathers
DESCRIPTION:Come to Fables and Feathers Winery for live music\, great wine and beautiful views! Some days there will also be food trucks on site.  Click here to see who is playing and which food truck will be on site! 
URL:https://destinationbedfordva.com/event/live-music-food-truck-at-fables-feathers-4-2/2026-05-15/
LOCATION:Fables & Feathers Winery\, 2117 Bruno Dr.\, Goodview\, VA\, 24095
ATTACH;FMTTYPE=image/jpeg:https://destinationbedfordva.com/wp-content/uploads/2021/05/Fables-and-Feathers-Vineyard-July-2022-NJ-002.jpg
END:VEVENT
BEGIN:VEVENT
DTSTART;TZID=America/New_York:20260516T140000
DTEND;TZID=America/New_York:20260516T170000
DTSTAMP:20260419T125808
CREATED:20260206T204209Z
LAST-MODIFIED:20260416T210737Z
UID:10063569-1778940000-1778950800@destinationbedfordva.com
SUMMARY:Live Music & Food Truck at Fables & Feathers
DESCRIPTION:Come to Fables and Feathers Winery for live music\, great wine and beautiful views! Some days there will also be food trucks on site.  Click here to see who is playing and which food truck will be on site! 
URL:https://destinationbedfordva.com/event/live-music-food-truck-at-fables-feathers-4-2/2026-05-16/
LOCATION:Fables & Feathers Winery\, 2117 Bruno Dr.\, Goodview\, VA\, 24095
ATTACH;FMTTYPE=image/jpeg:https://destinationbedfordva.com/wp-content/uploads/2021/05/Fables-and-Feathers-Vineyard-July-2022-NJ-002.jpg
END:VEVENT
BEGIN:VEVENT
DTSTART;TZID=America/New_York:20260522T163000
DTEND;TZID=America/New_York:20260522T193000
DTSTAMP:20260419T125808
CREATED:20260206T204209Z
LAST-MODIFIED:20260416T210737Z
UID:10063570-1779467400-1779478200@destinationbedfordva.com
SUMMARY:Live Music & Food Truck at Fables & Feathers
DESCRIPTION:Come to Fables and Feathers Winery for live music\, great wine and beautiful views! Some days there will also be food trucks on site.  Click here to see who is playing and which food truck will be on site! 
URL:https://destinationbedfordva.com/event/live-music-food-truck-at-fables-feathers-4-2/2026-05-22/
LOCATION:Fables & Feathers Winery\, 2117 Bruno Dr.\, Goodview\, VA\, 24095
ATTACH;FMTTYPE=image/jpeg:https://destinationbedfordva.com/wp-content/uploads/2021/05/Fables-and-Feathers-Vineyard-July-2022-NJ-002.jpg
END:VEVENT
BEGIN:VEVENT
DTSTART;TZID=America/New_York:20260523T140000
DTEND;TZID=America/New_York:20260523T170000
DTSTAMP:20260419T125808
CREATED:20260206T204209Z
LAST-MODIFIED:20260416T210737Z
UID:10063571-1779544800-1779555600@destinationbedfordva.com
SUMMARY:Live Music & Food Truck at Fables & Feathers
DESCRIPTION:Come to Fables and Feathers Winery for live music\, great wine and beautiful views! Some days there will also be food trucks on site.  Click here to see who is playing and which food truck will be on site! 
URL:https://destinationbedfordva.com/event/live-music-food-truck-at-fables-feathers-4-2/2026-05-23/
LOCATION:Fables & Feathers Winery\, 2117 Bruno Dr.\, Goodview\, VA\, 24095
ATTACH;FMTTYPE=image/jpeg:https://destinationbedfordva.com/wp-content/uploads/2021/05/Fables-and-Feathers-Vineyard-July-2022-NJ-002.jpg
END:VEVENT
BEGIN:VEVENT
DTSTART;TZID=America/New_York:20260524T140000
DTEND;TZID=America/New_York:20260524T170000
DTSTAMP:20260419T125808
CREATED:20260206T204209Z
LAST-MODIFIED:20260416T210737Z
UID:10063572-1779631200-1779642000@destinationbedfordva.com
SUMMARY:Live Music & Food Truck at Fables & Feathers
DESCRIPTION:Come to Fables and Feathers Winery for live music\, great wine and beautiful views! Some days there will also be food trucks on site.  Click here to see who is playing and which food truck will be on site! 
URL:https://destinationbedfordva.com/event/live-music-food-truck-at-fables-feathers-4-2/2026-05-24/
LOCATION:Fables & Feathers Winery\, 2117 Bruno Dr.\, Goodview\, VA\, 24095
ATTACH;FMTTYPE=image/jpeg:https://destinationbedfordva.com/wp-content/uploads/2021/05/Fables-and-Feathers-Vineyard-July-2022-NJ-002.jpg
END:VEVENT
BEGIN:VEVENT
DTSTART;TZID=America/New_York:20260529T163000
DTEND;TZID=America/New_York:20260529T193000
DTSTAMP:20260419T125808
CREATED:20260206T204209Z
LAST-MODIFIED:20260416T210737Z
UID:10063573-1780072200-1780083000@destinationbedfordva.com
SUMMARY:Live Music & Food Truck at Fables & Feathers
DESCRIPTION:Come to Fables and Feathers Winery for live music\, great wine and beautiful views! Some days there will also be food trucks on site.  Click here to see who is playing and which food truck will be on site! 
URL:https://destinationbedfordva.com/event/live-music-food-truck-at-fables-feathers-4-2/2026-05-29/
LOCATION:Fables & Feathers Winery\, 2117 Bruno Dr.\, Goodview\, VA\, 24095
ATTACH;FMTTYPE=image/jpeg:https://destinationbedfordva.com/wp-content/uploads/2021/05/Fables-and-Feathers-Vineyard-July-2022-NJ-002.jpg
END:VEVENT
BEGIN:VEVENT
DTSTART;TZID=America/New_York:20260530T140000
DTEND;TZID=America/New_York:20260530T170000
DTSTAMP:20260419T125808
CREATED:20260206T204209Z
LAST-MODIFIED:20260416T210737Z
UID:10063574-1780149600-1780160400@destinationbedfordva.com
SUMMARY:Live Music & Food Truck at Fables & Feathers
DESCRIPTION:Come to Fables and Feathers Winery for live music\, great wine and beautiful views! Some days there will also be food trucks on site.  Click here to see who is playing and which food truck will be on site! 
URL:https://destinationbedfordva.com/event/live-music-food-truck-at-fables-feathers-4-2/2026-05-30/
LOCATION:Fables & Feathers Winery\, 2117 Bruno Dr.\, Goodview\, VA\, 24095
ATTACH;FMTTYPE=image/jpeg:https://destinationbedfordva.com/wp-content/uploads/2021/05/Fables-and-Feathers-Vineyard-July-2022-NJ-002.jpg
END:VEVENT
END:VCALENDAR