BEGIN:VCALENDAR
VERSION:2.0
PRODID:-//Destination Bedford - ECPv6.8.3//NONSGML v1.0//EN
CALSCALE:GREGORIAN
METHOD:PUBLISH
X-ORIGINAL-URL:https://destinationbedfordva.com
X-WR-CALDESC:Events for Destination Bedford
REFRESH-INTERVAL;VALUE=DURATION:PT1H
X-Robots-Tag:noindex
X-PUBLISHED-TTL:PT1H
BEGIN:VTIMEZONE
TZID:America/New_York
BEGIN:DAYLIGHT
TZOFFSETFROM:-0500
TZOFFSETTO:-0400
TZNAME:EDT
DTSTART:20210314T070000
END:DAYLIGHT
BEGIN:STANDARD
TZOFFSETFROM:-0400
TZOFFSETTO:-0500
TZNAME:EST
DTSTART:20211107T060000
END:STANDARD
BEGIN:DAYLIGHT
TZOFFSETFROM:-0500
TZOFFSETTO:-0400
TZNAME:EDT
DTSTART:20220313T070000
END:DAYLIGHT
BEGIN:STANDARD
TZOFFSETFROM:-0400
TZOFFSETTO:-0500
TZNAME:EST
DTSTART:20221106T060000
END:STANDARD
END:VTIMEZONE
BEGIN:VEVENT
DTSTART;TZID=America/New_York:20220812T163000
DTEND;TZID=America/New_York:20220812T200000
DTSTAMP:20260421T134743
CREATED:20220602T143745Z
LAST-MODIFIED:20220822T170429Z
UID:10049721-1660321800-1660334400@destinationbedfordva.com
SUMMARY:Live Music & Food Truck at Fables & Feathers Winery
DESCRIPTION:Come to Fables and Feathers Winery and enjoy delicious food and great music! Click here to see which food truck and musician will be at the winery!
URL:https://destinationbedfordva.com/event/live-music-food-truck-at-fables-feathers-winery-3/2022-08-12/
LOCATION:Fables & Feathers Winery\, 2117 Bruno Dr.\, Goodview\, VA\, 24095
ATTACH;FMTTYPE=image/jpeg:https://destinationbedfordva.com/wp-content/uploads/2022/03/f-and-f.jpg
END:VEVENT
BEGIN:VEVENT
DTSTART;TZID=America/New_York:20220806T140000
DTEND;TZID=America/New_York:20220806T180000
DTSTAMP:20260421T134743
CREATED:20220928T201855Z
LAST-MODIFIED:20220928T201855Z
UID:10049725-1659794400-1659808800@destinationbedfordva.com
SUMMARY:Live Music & Food Truck at Fables & Feathers Winery
DESCRIPTION:Come to Fables and Feathers Winery and enjoy delicious food and great music! Click here to see which food truck and musician will be at the winery!
URL:https://destinationbedfordva.com/event/live-music-food-truck-at-fables-feathers-winery-3/2022-08-06/
LOCATION:Fables & Feathers Winery\, 2117 Bruno Dr.\, Goodview\, VA\, 24095
ATTACH;FMTTYPE=image/jpeg:https://destinationbedfordva.com/wp-content/uploads/2022/03/f-and-f.jpg
END:VEVENT
BEGIN:VEVENT
DTSTART;TZID=America/New_York:20220805T163000
DTEND;TZID=America/New_York:20220805T200000
DTSTAMP:20260421T134743
CREATED:20220602T143745Z
LAST-MODIFIED:20220822T170429Z
UID:10049720-1659717000-1659729600@destinationbedfordva.com
SUMMARY:Live Music & Food Truck at Fables & Feathers Winery
DESCRIPTION:Come to Fables and Feathers Winery and enjoy delicious food and great music! Click here to see which food truck and musician will be at the winery!
URL:https://destinationbedfordva.com/event/live-music-food-truck-at-fables-feathers-winery-3/2022-08-05/
LOCATION:Fables & Feathers Winery\, 2117 Bruno Dr.\, Goodview\, VA\, 24095
ATTACH;FMTTYPE=image/jpeg:https://destinationbedfordva.com/wp-content/uploads/2022/03/f-and-f.jpg
END:VEVENT
BEGIN:VEVENT
DTSTART;TZID=America/New_York:20220731T140000
DTEND;TZID=America/New_York:20220731T170000
DTSTAMP:20260421T134743
CREATED:20220602T152311Z
LAST-MODIFIED:20220727T164523Z
UID:10049730-1659276000-1659286800@destinationbedfordva.com
SUMMARY:Live Music & Italian Ice at Fables & Feathers
DESCRIPTION:Come with your picnics & snacks and enjoy wine\, beer\, and ciders along with Music by Sunshine from 2-5 and Charlee Tropical Italian Ice and Drinks!
URL:https://destinationbedfordva.com/event/live-music-at-fables-feathers-winery-2/
LOCATION:Fables & Feathers Winery\, 2117 Bruno Dr.\, Goodview\, VA\, 24095
ATTACH;FMTTYPE=image/jpeg:https://destinationbedfordva.com/wp-content/uploads/2022/06/tropical-ice.jpg
END:VEVENT
BEGIN:VEVENT
DTSTART;TZID=America/New_York:20220626T140000
DTEND;TZID=America/New_York:20220626T170000
DTSTAMP:20260421T134743
CREATED:20220322T204342Z
LAST-MODIFIED:20220602T142500Z
UID:10049566-1656252000-1656262800@destinationbedfordva.com
SUMMARY:Live Music & Food Truck at Fables & Feathers Winery
DESCRIPTION:Come to Fables and Feathers Winery to hear the band Sunshine performing from 2-5 and enjoy food by Queen’s Vegan Café and treats by Charlee’s Tropical Café! It’s gonna be a good time with good food and great wine!
URL:https://destinationbedfordva.com/event/live-music-food-truck-at-fables-feathers-winery/
LOCATION:Fables & Feathers Winery\, 2117 Bruno Dr.\, Goodview\, VA\, 24095
ATTACH;FMTTYPE=image/jpeg:https://destinationbedfordva.com/wp-content/uploads/2022/03/f-and-f.jpg
END:VEVENT
BEGIN:VEVENT
DTSTART;TZID=America/New_York:20220624T170000
DTEND;TZID=America/New_York:20220624T200000
DTSTAMP:20260421T134743
CREATED:20220602T144121Z
LAST-MODIFIED:20220621T023216Z
UID:10049729-1656090000-1656100800@destinationbedfordva.com
SUMMARY:Food Truck at Fables & Feathers Winery
DESCRIPTION:Come to Fables and Feathers Winery and enjoy food by Munsey’s Smoke Shack! It’s gonna be a good time with good food and great wine!
URL:https://destinationbedfordva.com/event/food-truck-at-fables-feathers-winery-2/
LOCATION:Fables & Feathers Winery\, 2117 Bruno Dr.\, Goodview\, VA\, 24095
ATTACH;FMTTYPE=image/jpeg:https://destinationbedfordva.com/wp-content/uploads/2022/03/f-and-f.jpg
END:VEVENT
BEGIN:VEVENT
DTSTART;TZID=America/New_York:20220603T163000
DTEND;TZID=America/New_York:20220603T193000
DTSTAMP:20260421T134743
CREATED:20220602T143214Z
LAST-MODIFIED:20220602T143214Z
UID:10049719-1654273800-1654284600@destinationbedfordva.com
SUMMARY:Live Music & Food Truck at Fables & Feathers Winery
DESCRIPTION:Come to Fables and Feathers Winery to hear Keith Campbell performing from 4:30 – 7:30 and enjoy food by Salty’s Lobster & Co! It’s gonna be a good time with good food and great wine!
URL:https://destinationbedfordva.com/event/live-music-food-truck-at-fables-feathers-winery-2/
LOCATION:Fables & Feathers Winery\, 2117 Bruno Dr.\, Goodview\, VA\, 24095
ATTACH;FMTTYPE=image/jpeg:https://destinationbedfordva.com/wp-content/uploads/2022/03/f-and-f.jpg
END:VEVENT
BEGIN:VEVENT
DTSTART;TZID=America/New_York:20220521T110000
DTEND;TZID=America/New_York:20220521T180000
DTSTAMP:20260421T134743
CREATED:20220518T202507Z
LAST-MODIFIED:20220518T202507Z
UID:10049689-1653130800-1653156000@destinationbedfordva.com
SUMMARY:Fables & Feathers 1 Year Celebration
DESCRIPTION: Fables & Feathers has been open ONE year! Come help them celebrate with music\, food\, drinks\, & fancy cars!\n3DT will be performing from 2-5\nPaper Dragon Food Truck will be serving up amazing dishes.\nThey will also be pouring new wines & old favorites.\nIf the weather cooperates\, a group of British sportscar enthusiasts will be bringing out their rides for your viewing pleasure! 
URL:https://destinationbedfordva.com/event/fables-feathers-1-year-celebration/
LOCATION:Fables & Feathers Winery\, 2117 Bruno Dr.\, Goodview\, VA\, 24095
ATTACH;FMTTYPE=image/jpeg:https://destinationbedfordva.com/wp-content/uploads/2022/05/279173747_10159862353662505_7195676940262285021_n.jpg
END:VEVENT
BEGIN:VEVENT
DTSTART;TZID=America/New_York:20220409T140000
DTEND;TZID=America/New_York:20220409T170000
DTSTAMP:20260421T134743
CREATED:20220404T180002Z
LAST-MODIFIED:20220404T180002Z
UID:10049579-1649512800-1649523600@destinationbedfordva.com
SUMMARY:Easter Egg Hunt & Goat Cuddles
DESCRIPTION:Bring out the family for a day of springtime fun! There will be over 500 eggs in the vines for your little ones to find\, and a local family farm will be bringing over ADORABLE young goats for snuggling! Enjoy wines\, beers\, & ciders as well as food from Schult’s Dogs and Music by Sunshine starting at 3:00.   \n 
URL:https://destinationbedfordva.com/event/easter-egg-hunt-goat-cuddles/
LOCATION:Fables & Feathers Winery\, 2117 Bruno Dr.\, Goodview\, VA\, 24095
ATTACH;FMTTYPE=image/jpeg:https://destinationbedfordva.com/wp-content/uploads/2022/04/275303532_10159778266767505_1641167626239846267_n.jpg
END:VEVENT
BEGIN:VEVENT
DTSTART;TZID=America/New_York:20220328T183000
DTEND;TZID=America/New_York:20220328T200000
DTSTAMP:20260421T134743
CREATED:20220204T165422Z
LAST-MODIFIED:20220204T165440Z
UID:10049483-1648492200-1648497600@destinationbedfordva.com
SUMMARY:Paint & Sip
DESCRIPTION:Come enjoy a filled evening of painting & sipping! Wine label artist and co-owner Genny will guide the class in creating a fun work of art to take home all while sipping on your drink of choice.\nDesign: Sisters\nDate: Monday\, March 28th\nTime: 6:30-8\nCost: $30\nIncludes- supplies to create an 8 x 10 canvas & a glass of wine or beer\nAdditional drinks available at regular price\nLimited to first 20 customers\, reserve your space by calling or stopping by the winery during business hours (RSVP to Facebook event does not guarantee spot)\nRefundable until 1 day prior to event
URL:https://destinationbedfordva.com/event/paint-sip-3/
LOCATION:Fables & Feathers Winery\, 2117 Bruno Dr.\, Goodview\, VA\, 24095
ATTACH;FMTTYPE=image/jpeg:https://destinationbedfordva.com/wp-content/uploads/2022/02/273002170_10159713768392505_3800888337528987969_n.jpg
END:VEVENT
BEGIN:VEVENT
DTSTART;TZID=America/New_York:20220313T140000
DTEND;TZID=America/New_York:20220313T160000
DTSTAMP:20260421T134743
CREATED:20220310T173343Z
LAST-MODIFIED:20220310T173343Z
UID:10049529-1647180000-1647187200@destinationbedfordva.com
SUMMARY:Yoga and Wine
DESCRIPTION: Relaxation flow yoga & a glass of wine sounds like the perfect day! Please buy your tickets in advance buy clicking the link below! \n\n\nhttps://fb.me/e/2PhuOr1Ua
URL:https://destinationbedfordva.com/event/yoga-and-wine/
LOCATION:Fables & Feathers Winery\, 2117 Bruno Dr.\, Goodview\, VA\, 24095
ATTACH;FMTTYPE=image/jpeg:https://destinationbedfordva.com/wp-content/uploads/2022/03/yoga-and-wine.jpg
END:VEVENT
BEGIN:VEVENT
DTSTART;TZID=America/New_York:20220306T110000
DTEND;TZID=America/New_York:20220306T180000
DTSTAMP:20260421T134743
CREATED:20220211T155022Z
LAST-MODIFIED:20220303T173433Z
UID:10049496-1646564400-1646589600@destinationbedfordva.com
SUMMARY:Food Truck at Fables & Feathers Winery
DESCRIPTION:Come to this gorgeous winery and enjoy delicious wine\, beer and food from Island Wheels! 
URL:https://destinationbedfordva.com/event/food-truck-at-fables-feathers-winery/2022-03-06/
LOCATION:Fables & Feathers Winery\, 2117 Bruno Dr.\, Goodview\, VA\, 24095
ATTACH;FMTTYPE=image/jpeg:https://destinationbedfordva.com/wp-content/uploads/2022/02/Island-Wheels.jpg
END:VEVENT
BEGIN:VEVENT
DTSTART;TZID=America/New_York:20220305T110000
DTEND;TZID=America/New_York:20220305T180000
DTSTAMP:20260421T134743
CREATED:20220211T155022Z
LAST-MODIFIED:20220303T173433Z
UID:10049495-1646478000-1646503200@destinationbedfordva.com
SUMMARY:Food Truck at Fables & Feathers Winery
DESCRIPTION:Come to this gorgeous winery and enjoy delicious wine\, beer and food from Island Wheels! 
URL:https://destinationbedfordva.com/event/food-truck-at-fables-feathers-winery/2022-03-05/
LOCATION:Fables & Feathers Winery\, 2117 Bruno Dr.\, Goodview\, VA\, 24095
ATTACH;FMTTYPE=image/jpeg:https://destinationbedfordva.com/wp-content/uploads/2022/02/Island-Wheels.jpg
END:VEVENT
BEGIN:VEVENT
DTSTART;TZID=America/New_York:20220304T163000
DTEND;TZID=America/New_York:20220304T193000
DTSTAMP:20260421T134743
CREATED:20220211T155022Z
LAST-MODIFIED:20220303T173433Z
UID:10049494-1646411400-1646422200@destinationbedfordva.com
SUMMARY:Food Truck at Fables & Feathers Winery
DESCRIPTION:Come to this gorgeous winery and enjoy delicious wine\, beer and food from Island Wheels! 
URL:https://destinationbedfordva.com/event/food-truck-at-fables-feathers-winery/2022-03-04/
LOCATION:Fables & Feathers Winery\, 2117 Bruno Dr.\, Goodview\, VA\, 24095
ATTACH;FMTTYPE=image/jpeg:https://destinationbedfordva.com/wp-content/uploads/2022/02/Island-Wheels.jpg
END:VEVENT
BEGIN:VEVENT
DTSTART;TZID=America/New_York:20220228T183000
DTEND;TZID=America/New_York:20220228T200000
DTSTAMP:20260421T134743
CREATED:20220204T165016Z
LAST-MODIFIED:20220204T165604Z
UID:10049482-1646073000-1646078400@destinationbedfordva.com
SUMMARY:Paint & Sip
DESCRIPTION:Come enjoy a fun filled evening of painting & sipping! Wine label artist and co-owner Genny will guide the class in creating a fun work of art to take home all while sipping on your drink of choice.\nDesign: Coffee Break\nDate: Monday\, February 28th\nTime: 6:30-8\nCost: $30\nIncludes- supplies to create an 8 x 10 canvas & a glass of wine or beer\nAdditional drinks available at regular price\nLimited to first 20 customers\, reserve your space by calling or stopping by the winery during business hours (RSVP to Facebook event does not guarantee spot)\nRefundable until 1 day prior to event 
URL:https://destinationbedfordva.com/event/paint-sip-2/
LOCATION:Fables & Feathers Winery\, 2117 Bruno Dr.\, Goodview\, VA\, 24095
ATTACH;FMTTYPE=image/jpeg:https://destinationbedfordva.com/wp-content/uploads/2022/02/272989116_10159713739367505_5774880037189681968_n.jpg
END:VEVENT
BEGIN:VEVENT
DTSTART;TZID=America/New_York:20220226T110000
DTEND;TZID=America/New_York:20220226T180000
DTSTAMP:20260421T134743
CREATED:20220211T155330Z
LAST-MODIFIED:20220211T155350Z
UID:10049497-1645873200-1645898400@destinationbedfordva.com
SUMMARY:Food Truck at Fables & Feathers Winery
DESCRIPTION:Come to this gorgeous winery and enjoy delicious wine\, beer and food from Ferguson Family Provisions! 
URL:https://destinationbedfordva.com/event/food-truck-at-fables-feathers-winer/
LOCATION:Fables & Feathers Winery\, 2117 Bruno Dr.\, Goodview\, VA\, 24095
ATTACH;FMTTYPE=image/jpeg:https://destinationbedfordva.com/wp-content/uploads/2021/11/ferguson.jpg
END:VEVENT
BEGIN:VEVENT
DTSTART;TZID=America/New_York:20220220T110000
DTEND;TZID=America/New_York:20220220T180000
DTSTAMP:20260421T134743
CREATED:20220211T155022Z
LAST-MODIFIED:20220303T173433Z
UID:10049493-1645354800-1645380000@destinationbedfordva.com
SUMMARY:Food Truck at Fables & Feathers Winery
DESCRIPTION:Come to this gorgeous winery and enjoy delicious wine\, beer and food from Island Wheels! 
URL:https://destinationbedfordva.com/event/food-truck-at-fables-feathers-winery/2022-02-20/
LOCATION:Fables & Feathers Winery\, 2117 Bruno Dr.\, Goodview\, VA\, 24095
ATTACH;FMTTYPE=image/jpeg:https://destinationbedfordva.com/wp-content/uploads/2022/02/Island-Wheels.jpg
END:VEVENT
BEGIN:VEVENT
DTSTART;TZID=America/New_York:20220219T110000
DTEND;TZID=America/New_York:20220219T180000
DTSTAMP:20260421T134743
CREATED:20220211T155022Z
LAST-MODIFIED:20220303T173433Z
UID:10049492-1645268400-1645293600@destinationbedfordva.com
SUMMARY:Food Truck at Fables & Feathers Winery
DESCRIPTION:Come to this gorgeous winery and enjoy delicious wine\, beer and food from Island Wheels! 
URL:https://destinationbedfordva.com/event/food-truck-at-fables-feathers-winery/2022-02-19/
LOCATION:Fables & Feathers Winery\, 2117 Bruno Dr.\, Goodview\, VA\, 24095
ATTACH;FMTTYPE=image/jpeg:https://destinationbedfordva.com/wp-content/uploads/2022/02/Island-Wheels.jpg
END:VEVENT
BEGIN:VEVENT
DTSTART;TZID=America/New_York:20220204T183000
DTEND;TZID=America/New_York:20220204T200000
DTSTAMP:20260421T134743
CREATED:20211230T034849Z
LAST-MODIFIED:20220203T170622Z
UID:10049341-1643999400-1644004800@destinationbedfordva.com
SUMMARY:Paint & Sip/Food Truck
DESCRIPTION:Come enjoy a fun filled evening of painting & sipping! The Fables and Feathers wine label artist and co-owner Genny will guide the class in creating a fun work of art to take home all while sipping on your drink of choice.\nBe ready to get messy- this design is a little more hands on!\n\nDesign: Birds of a Feather\nCost: $30\nIncludes- supplies to create an 8 x 10 canvas & a glass of wine or beer\nAdditional drinks available at regular price\nLimited to first 20 customers\, reserve your space by calling or stopping by the winery during business hours. \nFerguson Family Provisions Food Truck will be on site 5-8 p.m.
URL:https://destinationbedfordva.com/event/paint-sip-night/
LOCATION:Fables & Feathers Winery\, 2117 Bruno Dr.\, Goodview\, VA\, 24095
ATTACH;FMTTYPE=image/jpeg:https://destinationbedfordva.com/wp-content/uploads/2021/12/267494035_10159635320057505_3449324336812135273_n.jpg
END:VEVENT
BEGIN:VEVENT
DTSTART;TZID=America/New_York:20211213T183000
DTEND;TZID=America/New_York:20211213T203000
DTSTAMP:20260421T134743
CREATED:20211117T211820Z
LAST-MODIFIED:20211117T211820Z
UID:10049309-1639420200-1639427400@destinationbedfordva.com
SUMMARY:Paint & Sip
DESCRIPTION:This will be a fun filled evening of painting & sipping! Fables & Feathers wine label artist and co-owner Genny will guide the class in creating a fun work of art to take home all while sipping on your drink of choice.\nDesign: Gnome with Tree\nCost: $30\nIncludes- supplies to create an 8 x 10 canvas & a glass of wine or beer\nAdditional drinks available at regular price\nLimited to first 20 customers\, reserve your space by calling or stopping by the winery during business hours.
URL:https://destinationbedfordva.com/event/paint-sip/
LOCATION:Fables & Feathers Winery\, 2117 Bruno Dr.\, Goodview\, VA\, 24095
ATTACH;FMTTYPE=image/jpeg:https://destinationbedfordva.com/wp-content/uploads/2021/11/257917993_10159581994642505_3850402682392021500_n.jpg
END:VEVENT
BEGIN:VEVENT
DTSTART;TZID=America/New_York:20211113T140000
DTEND;TZID=America/New_York:20211113T170000
DTSTAMP:20260421T134743
CREATED:20211110T210848Z
LAST-MODIFIED:20211110T210848Z
UID:10049254-1636812000-1636822800@destinationbedfordva.com
SUMMARY:Live Music at Fables & Feathers Winery
DESCRIPTION:Blended Soul food truck will be at Fables and Feathers Winery from 11 am -6 pm  and live music by Michael Tice will be from 2-5 pm. It’s going to be a great day at this beautiful winery! \n 
URL:https://destinationbedfordva.com/event/live-music-at-fables-feathers-winery/
LOCATION:Fables & Feathers Winery\, 2117 Bruno Dr.\, Goodview\, VA\, 24095
ATTACH;FMTTYPE=image/jpeg:https://destinationbedfordva.com/wp-content/uploads/2021/11/FF.jpg
END:VEVENT
BEGIN:VEVENT
DTSTART;TZID=America/New_York:20211029T180000
DTEND;TZID=America/New_York:20211029T203000
DTSTAMP:20260421T134743
CREATED:20211008T131505Z
LAST-MODIFIED:20211008T131505Z
UID:10049171-1635530400-1635539400@destinationbedfordva.com
SUMMARY:Spooky Sunset & S'more
DESCRIPTION:Enjoy these extended evening hours and take in the view of the vines at sunset. Bring a blanket and bask in the relaxing atmosphere\, roast a marshmallow or two\, and sip some wine or beer. Bottles of wine to enjoy with the views will be 20% off.\nS’mores supplies will be available for purchase\, along with our usual selection of small snacks.\nWe do have a stand heater for the patio area\, but with the cooler weather\, don’t forget your sweaters! Wear a costume for an extra treat!
URL:https://destinationbedfordva.com/event/spooky-sunset-smore/
LOCATION:Fables & Feathers Winery\, 2117 Bruno Dr.\, Goodview\, VA\, 24095
ATTACH;FMTTYPE=image/jpeg:https://destinationbedfordva.com/wp-content/uploads/2021/10/244976032_10159508963282505_2706784088584831129_n.jpg
END:VEVENT
BEGIN:VEVENT
DTSTART;TZID=America/New_York:20210903T180000
DTEND;TZID=America/New_York:20210903T203000
DTSTAMP:20260421T134743
CREATED:20210903T141412Z
LAST-MODIFIED:20210903T141427Z
UID:10049029-1630692000-1630701000@destinationbedfordva.com
SUMMARY:Sunset & S'more
DESCRIPTION:Come to Fables & Feathers for extended evening hours to take in the view of the vines at sunset. Bring a blanket and bask in the relaxing atmosphere\, roast a marshmallow or two\, and sip some wine or beer. Bottles of wine to enjoy with the views will be 20% off!\nS’mores supplies will be available for purchase\, along with their usual selection of small snacks.
URL:https://destinationbedfordva.com/event/sunset-smore/
LOCATION:Fables & Feathers Winery\, 2117 Bruno Dr.\, Goodview\, VA\, 24095
ATTACH;FMTTYPE=image/jpeg:https://destinationbedfordva.com/wp-content/uploads/2021/09/241055302_10159447674532505_3909344899054072504_n.jpg
END:VEVENT
BEGIN:VEVENT
DTSTART;TZID=America/New_York:20210827T183000
DTEND;TZID=America/New_York:20210827T200000
DTSTAMP:20260421T134743
CREATED:20210729T210403Z
LAST-MODIFIED:20210729T210440Z
UID:10048912-1630089000-1630094400@destinationbedfordva.com
SUMMARY:Sip & Paint at Fables & Feathers Winery
DESCRIPTION:Fables & Feathers Winery will have their wine label artist and co-owner Genny to guide the class in creating a fun work of art to take home all while sipping on your drink of choice.\nDesign: Purple Mountain View\nCost: $30\nIncludes- supplies to create an 8×10 canvas & a glass of wine or beer\nAdditional drinks available at regular price\nLimited to first 20 customers\, reserve your space by calling or stopping by the winery during business hours.\nRefundable until 1 day prior to event.
URL:https://destinationbedfordva.com/event/sip-paint-at-fables-feathers-winery/
LOCATION:Fables & Feathers Winery\, 2117 Bruno Dr.\, Goodview\, VA\, 24095
ATTACH;FMTTYPE=image/jpeg:https://destinationbedfordva.com/wp-content/uploads/2021/07/paint-and-sip-night.jpg
END:VEVENT
END:VCALENDAR