BEGIN:VCALENDAR
VERSION:2.0
PRODID:-//Destination Bedford - ECPv6.8.3//NONSGML v1.0//EN
CALSCALE:GREGORIAN
METHOD:PUBLISH
X-ORIGINAL-URL:https://destinationbedfordva.com
X-WR-CALDESC:Events for Destination Bedford
REFRESH-INTERVAL;VALUE=DURATION:PT1H
X-Robots-Tag:noindex
X-PUBLISHED-TTL:PT1H
BEGIN:VTIMEZONE
TZID:America/New_York
BEGIN:DAYLIGHT
TZOFFSETFROM:-0500
TZOFFSETTO:-0400
TZNAME:EDT
DTSTART:20210314T070000
END:DAYLIGHT
BEGIN:STANDARD
TZOFFSETFROM:-0400
TZOFFSETTO:-0500
TZNAME:EST
DTSTART:20211107T060000
END:STANDARD
BEGIN:DAYLIGHT
TZOFFSETFROM:-0500
TZOFFSETTO:-0400
TZNAME:EDT
DTSTART:20220313T070000
END:DAYLIGHT
BEGIN:STANDARD
TZOFFSETFROM:-0400
TZOFFSETTO:-0500
TZNAME:EST
DTSTART:20221106T060000
END:STANDARD
END:VTIMEZONE
BEGIN:VEVENT
DTSTART;TZID=America/New_York:20220204T183000
DTEND;TZID=America/New_York:20220204T200000
DTSTAMP:20260421T195742
CREATED:20211230T034849Z
LAST-MODIFIED:20220203T170622Z
UID:10049341-1643999400-1644004800@destinationbedfordva.com
SUMMARY:Paint & Sip/Food Truck
DESCRIPTION:Come enjoy a fun filled evening of painting & sipping! The Fables and Feathers wine label artist and co-owner Genny will guide the class in creating a fun work of art to take home all while sipping on your drink of choice.\nBe ready to get messy- this design is a little more hands on!\n\nDesign: Birds of a Feather\nCost: $30\nIncludes- supplies to create an 8 x 10 canvas & a glass of wine or beer\nAdditional drinks available at regular price\nLimited to first 20 customers\, reserve your space by calling or stopping by the winery during business hours. \nFerguson Family Provisions Food Truck will be on site 5-8 p.m.
URL:https://destinationbedfordva.com/event/paint-sip-night/
LOCATION:Fables & Feathers Winery\, 2117 Bruno Dr.\, Goodview\, VA\, 24095
ATTACH;FMTTYPE=image/jpeg:https://destinationbedfordva.com/wp-content/uploads/2021/12/267494035_10159635320057505_3449324336812135273_n.jpg
END:VEVENT
BEGIN:VEVENT
DTSTART;TZID=America/New_York:20211213T183000
DTEND;TZID=America/New_York:20211213T203000
DTSTAMP:20260421T195742
CREATED:20211117T211820Z
LAST-MODIFIED:20211117T211820Z
UID:10049309-1639420200-1639427400@destinationbedfordva.com
SUMMARY:Paint & Sip
DESCRIPTION:This will be a fun filled evening of painting & sipping! Fables & Feathers wine label artist and co-owner Genny will guide the class in creating a fun work of art to take home all while sipping on your drink of choice.\nDesign: Gnome with Tree\nCost: $30\nIncludes- supplies to create an 8 x 10 canvas & a glass of wine or beer\nAdditional drinks available at regular price\nLimited to first 20 customers\, reserve your space by calling or stopping by the winery during business hours.
URL:https://destinationbedfordva.com/event/paint-sip/
LOCATION:Fables & Feathers Winery\, 2117 Bruno Dr.\, Goodview\, VA\, 24095
ATTACH;FMTTYPE=image/jpeg:https://destinationbedfordva.com/wp-content/uploads/2021/11/257917993_10159581994642505_3850402682392021500_n.jpg
END:VEVENT
BEGIN:VEVENT
DTSTART;TZID=America/New_York:20211113T140000
DTEND;TZID=America/New_York:20211113T170000
DTSTAMP:20260421T195742
CREATED:20211110T210848Z
LAST-MODIFIED:20211110T210848Z
UID:10049254-1636812000-1636822800@destinationbedfordva.com
SUMMARY:Live Music at Fables & Feathers Winery
DESCRIPTION:Blended Soul food truck will be at Fables and Feathers Winery from 11 am -6 pm  and live music by Michael Tice will be from 2-5 pm. It’s going to be a great day at this beautiful winery! \n 
URL:https://destinationbedfordva.com/event/live-music-at-fables-feathers-winery/
LOCATION:Fables & Feathers Winery\, 2117 Bruno Dr.\, Goodview\, VA\, 24095
ATTACH;FMTTYPE=image/jpeg:https://destinationbedfordva.com/wp-content/uploads/2021/11/FF.jpg
END:VEVENT
BEGIN:VEVENT
DTSTART;TZID=America/New_York:20211029T180000
DTEND;TZID=America/New_York:20211029T203000
DTSTAMP:20260421T195742
CREATED:20211008T131505Z
LAST-MODIFIED:20211008T131505Z
UID:10049171-1635530400-1635539400@destinationbedfordva.com
SUMMARY:Spooky Sunset & S'more
DESCRIPTION:Enjoy these extended evening hours and take in the view of the vines at sunset. Bring a blanket and bask in the relaxing atmosphere\, roast a marshmallow or two\, and sip some wine or beer. Bottles of wine to enjoy with the views will be 20% off.\nS’mores supplies will be available for purchase\, along with our usual selection of small snacks.\nWe do have a stand heater for the patio area\, but with the cooler weather\, don’t forget your sweaters! Wear a costume for an extra treat!
URL:https://destinationbedfordva.com/event/spooky-sunset-smore/
LOCATION:Fables & Feathers Winery\, 2117 Bruno Dr.\, Goodview\, VA\, 24095
ATTACH;FMTTYPE=image/jpeg:https://destinationbedfordva.com/wp-content/uploads/2021/10/244976032_10159508963282505_2706784088584831129_n.jpg
END:VEVENT
BEGIN:VEVENT
DTSTART;TZID=America/New_York:20210903T180000
DTEND;TZID=America/New_York:20210903T203000
DTSTAMP:20260421T195742
CREATED:20210903T141412Z
LAST-MODIFIED:20210903T141427Z
UID:10049029-1630692000-1630701000@destinationbedfordva.com
SUMMARY:Sunset & S'more
DESCRIPTION:Come to Fables & Feathers for extended evening hours to take in the view of the vines at sunset. Bring a blanket and bask in the relaxing atmosphere\, roast a marshmallow or two\, and sip some wine or beer. Bottles of wine to enjoy with the views will be 20% off!\nS’mores supplies will be available for purchase\, along with their usual selection of small snacks.
URL:https://destinationbedfordva.com/event/sunset-smore/
LOCATION:Fables & Feathers Winery\, 2117 Bruno Dr.\, Goodview\, VA\, 24095
ATTACH;FMTTYPE=image/jpeg:https://destinationbedfordva.com/wp-content/uploads/2021/09/241055302_10159447674532505_3909344899054072504_n.jpg
END:VEVENT
BEGIN:VEVENT
DTSTART;TZID=America/New_York:20210827T183000
DTEND;TZID=America/New_York:20210827T200000
DTSTAMP:20260421T195742
CREATED:20210729T210403Z
LAST-MODIFIED:20210729T210440Z
UID:10048912-1630089000-1630094400@destinationbedfordva.com
SUMMARY:Sip & Paint at Fables & Feathers Winery
DESCRIPTION:Fables & Feathers Winery will have their wine label artist and co-owner Genny to guide the class in creating a fun work of art to take home all while sipping on your drink of choice.\nDesign: Purple Mountain View\nCost: $30\nIncludes- supplies to create an 8×10 canvas & a glass of wine or beer\nAdditional drinks available at regular price\nLimited to first 20 customers\, reserve your space by calling or stopping by the winery during business hours.\nRefundable until 1 day prior to event.
URL:https://destinationbedfordva.com/event/sip-paint-at-fables-feathers-winery/
LOCATION:Fables & Feathers Winery\, 2117 Bruno Dr.\, Goodview\, VA\, 24095
ATTACH;FMTTYPE=image/jpeg:https://destinationbedfordva.com/wp-content/uploads/2021/07/paint-and-sip-night.jpg
END:VEVENT
END:VCALENDAR