BEGIN:VCALENDAR
VERSION:2.0
PRODID:-//Destination Bedford - ECPv6.8.3//NONSGML v1.0//EN
CALSCALE:GREGORIAN
METHOD:PUBLISH
X-ORIGINAL-URL:https://destinationbedfordva.com
X-WR-CALDESC:Events for Destination Bedford
REFRESH-INTERVAL;VALUE=DURATION:PT1H
X-Robots-Tag:noindex
X-PUBLISHED-TTL:PT1H
BEGIN:VTIMEZONE
TZID:America/New_York
BEGIN:DAYLIGHT
TZOFFSETFROM:-0500
TZOFFSETTO:-0400
TZNAME:EDT
DTSTART:20240310T070000
END:DAYLIGHT
BEGIN:STANDARD
TZOFFSETFROM:-0400
TZOFFSETTO:-0500
TZNAME:EST
DTSTART:20241103T060000
END:STANDARD
BEGIN:DAYLIGHT
TZOFFSETFROM:-0500
TZOFFSETTO:-0400
TZNAME:EDT
DTSTART:20250309T070000
END:DAYLIGHT
BEGIN:STANDARD
TZOFFSETFROM:-0400
TZOFFSETTO:-0500
TZNAME:EST
DTSTART:20251102T060000
END:STANDARD
END:VTIMEZONE
BEGIN:VEVENT
DTSTART;TZID=America/New_York:20250831T140000
DTEND;TZID=America/New_York:20250831T170000
DTSTAMP:20260420T143750
CREATED:20250421T135541Z
LAST-MODIFIED:20250826T153516Z
UID:10060817-1756648800-1756659600@destinationbedfordva.com
SUMMARY:Live Music & Food Truck at Fables & Feathers
DESCRIPTION:Come to Fables and Feathers Winery for live music\, great wine and beautiful views! Some days there will also be food trucks on site.  Click here to see who is playing and which food truck will be on site! 
URL:https://destinationbedfordva.com/event/live-music-food-truck-at-fables-feathers-2/2025-08-31/
LOCATION:Fables & Feathers Winery\, 2117 Bruno Dr.\, Goodview\, VA\, 24095
ATTACH;FMTTYPE=image/jpeg:https://destinationbedfordva.com/wp-content/uploads/2021/05/Fables-and-Feathers-Vineyard-July-2022-NJ-002.jpg
END:VEVENT
BEGIN:VEVENT
DTSTART;TZID=America/New_York:20250830T120000
DTEND;TZID=America/New_York:20250830T170000
DTSTAMP:20260420T143750
CREATED:20250421T135541Z
LAST-MODIFIED:20250826T153516Z
UID:10060816-1756555200-1756573200@destinationbedfordva.com
SUMMARY:Live Music & Food Truck at Fables & Feathers
DESCRIPTION:Come to Fables and Feathers Winery for live music\, great wine and beautiful views! Some days there will also be food trucks on site.  Click here to see who is playing and which food truck will be on site! 
URL:https://destinationbedfordva.com/event/live-music-food-truck-at-fables-feathers-2/2025-08-30/
LOCATION:Fables & Feathers Winery\, 2117 Bruno Dr.\, Goodview\, VA\, 24095
ATTACH;FMTTYPE=image/jpeg:https://destinationbedfordva.com/wp-content/uploads/2021/05/Fables-and-Feathers-Vineyard-July-2022-NJ-002.jpg
END:VEVENT
BEGIN:VEVENT
DTSTART;TZID=America/New_York:20250829T163000
DTEND;TZID=America/New_York:20250829T193000
DTSTAMP:20260420T143750
CREATED:20250421T135541Z
LAST-MODIFIED:20250826T153516Z
UID:10060815-1756485000-1756495800@destinationbedfordva.com
SUMMARY:Live Music & Food Truck at Fables & Feathers
DESCRIPTION:Come to Fables and Feathers Winery for live music\, great wine and beautiful views! Some days there will also be food trucks on site.  Click here to see who is playing and which food truck will be on site! 
URL:https://destinationbedfordva.com/event/live-music-food-truck-at-fables-feathers-2/2025-08-29/
LOCATION:Fables & Feathers Winery\, 2117 Bruno Dr.\, Goodview\, VA\, 24095
ATTACH;FMTTYPE=image/jpeg:https://destinationbedfordva.com/wp-content/uploads/2021/05/Fables-and-Feathers-Vineyard-July-2022-NJ-002.jpg
END:VEVENT
BEGIN:VEVENT
DTSTART;TZID=America/New_York:20250823T110000
DTEND;TZID=America/New_York:20250823T180000
DTSTAMP:20260420T143750
CREATED:20250813T162830Z
LAST-MODIFIED:20250813T162830Z
UID:10060966-1755946800-1755972000@destinationbedfordva.com
SUMMARY:Do Good Day at Fables & Feathers
DESCRIPTION:It’s a good day to do good! Come on out to the winery and donate blood\, donate dog food\, and maybe meet the new (furry) love of your life!\nThe Bedford Humane Society will be at Fables & Feathers Winery with adoptable pets from 12-3. Bring food\, treats\, litter\, or any other donations for extra do-gooding points.\nBlood Connection will set up their mobile donation station from 1:30-5:30. Sign up soon so you can reserve your time to donate blood- donors earn money towards a local charity\, rewards with blood connection\, and $5 towards your next visit to the winery. Be a designated driver & donor- so good!
URL:https://destinationbedfordva.com/event/do-good-day-at-fables-feathers/
LOCATION:Fables & Feathers Winery\, 2117 Bruno Dr.\, Goodview\, VA\, 24095
ATTACH;FMTTYPE=image/jpeg:https://destinationbedfordva.com/wp-content/uploads/2025/08/do-good-day.jpg
END:VEVENT
BEGIN:VEVENT
DTSTART;TZID=America/New_York:20250712T130000
DTEND;TZID=America/New_York:20250712T180000
DTSTAMP:20260420T143750
CREATED:20250528T205006Z
LAST-MODIFIED:20250528T205006Z
UID:10060177-1752325200-1752343200@destinationbedfordva.com
SUMMARY:Christmas in July
DESCRIPTION:Fables & Feathers Winery is celebrating early again this year!\nSanta will be on site\, along with delicious BBQ from Munsey’s Smoke Shack and music by the Henry Downing Band.\nShopping\, slushies\, games\, music\, and more!\n 
URL:https://destinationbedfordva.com/event/christmas-in-july-3/
LOCATION:Fables & Feathers Winery\, 2117 Bruno Dr.\, Goodview\, VA\, 24095
ATTACH;FMTTYPE=image/jpeg:https://destinationbedfordva.com/wp-content/uploads/2025/05/christmas-in-july-2025.jpg
END:VEVENT
BEGIN:VEVENT
DTSTART;TZID=America/New_York:20250511T110000
DTEND;TZID=America/New_York:20250511T180000
DTSTAMP:20260420T143750
CREATED:20250409T143834Z
LAST-MODIFIED:20250409T143834Z
UID:10059514-1746961200-1746986400@destinationbedfordva.com
SUMMARY:Mother's Day at Fables & Feathers
DESCRIPTION:Come celebrate how awesome the moms in your life are with at Fables & Feather Winery this Mother’s Day! Fill up on fantastically delicious tacos\, nachos\, & more from El Gordo’s Kitchen 12-5. Enjoy music by the lovely mother/daughter duo Carolan & Beahlen from 2-5 and spoil Mom with some bling-permanent jewelry by The Honey Spark is here from 1-5.\nPlus our most popular gift is back. Give Mom some extra snuggles this year- from a baby goat! They’ll be here from 1-4\, sign up in advance for a 20 minute goat snuggle session for $15/person\, $50 for four spots\, or grab all six spots for $80 by following the link: https://www.signupgenius.com/…/10C094AAEAF2BA6FBC61…\n 
URL:https://destinationbedfordva.com/event/mothers-day-at-fables-feathers/
LOCATION:Fables & Feathers Winery\, 2117 Bruno Dr.\, Goodview\, VA\, 24095
ATTACH;FMTTYPE=image/jpeg:https://destinationbedfordva.com/wp-content/uploads/2025/04/Mothers-day-at-FF.jpg
END:VEVENT
BEGIN:VEVENT
DTSTART;TZID=America/New_York:20250503T180000
DTEND;TZID=America/New_York:20250503T210000
DTSTAMP:20260420T143750
CREATED:20250312T175645Z
LAST-MODIFIED:20250312T175645Z
UID:10059345-1746295200-1746306000@destinationbedfordva.com
SUMMARY:Mint Juleps\, Murder & Mayhem at Fables & Feathers
DESCRIPTION:Join Jump into Mystery on Saturday 5/3/25 at 6pm for a Kentucky Derby themed murder mystery. This will be an interactive murder mystery event where you will play a character\, solve clues\, and interrogate all of the suspects. You will laugh\, talk\, eat\, and drink. In the end you will decide who committed the crime using your detective skills. Early bird tickets will be $30 per person through 3/9/25 and will then be $35 per person. Wine\, beer\, pizza\, and flatbreads will be available for purchase throughout the event\, but are not included in the ticket. Everyone will get their character role at the event. Everyone in your group will need a separate ticket to attend and tickets are non-refundable. This is an adults only event and will last from 6pm until 9pm. This event will be held upstairs in the private event space and is accessed by stairs only. All participants are asked to please arrive and check in between 5:30 and 5:45pm to purchase drinks and food. Wear your best Kentucky Derby attire and join us!
URL:https://destinationbedfordva.com/event/mint-juleps-murder-mayhem-at-fables-feathers/
LOCATION:Fables & Feathers Winery\, 2117 Bruno Dr.\, Goodview\, VA\, 24095
ATTACH;FMTTYPE=image/jpeg:https://destinationbedfordva.com/wp-content/uploads/2025/03/murder-mystery-2025.jpg
END:VEVENT
BEGIN:VEVENT
DTSTART;TZID=America/New_York:20250426T140000
DTEND;TZID=America/New_York:20250426T170000
DTSTAMP:20260420T143750
CREATED:20240802T190702Z
LAST-MODIFIED:20250328T204708Z
UID:10059397-1745676000-1745686800@destinationbedfordva.com
SUMMARY:Live Music & Food Truck at Fables & Feathers
DESCRIPTION:Come to Fables and Feathers Winery for live music\, great wine and beautiful views! Some days there will also be food trucks on site.  Click here to see who is playing and which food truck will be on site! 
URL:https://destinationbedfordva.com/event/live-music-food-truck-at-fables-feathers/2025-04-26/
LOCATION:Fables & Feathers Winery\, 2117 Bruno Dr.\, Goodview\, VA\, 24095
ATTACH;FMTTYPE=image/jpeg:https://destinationbedfordva.com/wp-content/uploads/2021/05/Fables-and-Feathers-Vineyard-July-2022-NJ-002.jpg
END:VEVENT
BEGIN:VEVENT
DTSTART;TZID=America/New_York:20250425T163000
DTEND;TZID=America/New_York:20250425T193000
DTSTAMP:20260420T143750
CREATED:20240802T190702Z
LAST-MODIFIED:20250328T204708Z
UID:10059396-1745598600-1745609400@destinationbedfordva.com
SUMMARY:Live Music & Food Truck at Fables & Feathers
DESCRIPTION:Come to Fables and Feathers Winery for live music\, great wine and beautiful views! Some days there will also be food trucks on site.  Click here to see who is playing and which food truck will be on site! 
URL:https://destinationbedfordva.com/event/live-music-food-truck-at-fables-feathers/2025-04-25/
LOCATION:Fables & Feathers Winery\, 2117 Bruno Dr.\, Goodview\, VA\, 24095
ATTACH;FMTTYPE=image/jpeg:https://destinationbedfordva.com/wp-content/uploads/2021/05/Fables-and-Feathers-Vineyard-July-2022-NJ-002.jpg
END:VEVENT
BEGIN:VEVENT
DTSTART;TZID=America/New_York:20250419T140000
DTEND;TZID=America/New_York:20250419T170000
DTSTAMP:20260420T143750
CREATED:20240802T190702Z
LAST-MODIFIED:20250328T204708Z
UID:10059395-1745071200-1745082000@destinationbedfordva.com
SUMMARY:Live Music & Food Truck at Fables & Feathers
DESCRIPTION:Come to Fables and Feathers Winery for live music\, great wine and beautiful views! Some days there will also be food trucks on site.  Click here to see who is playing and which food truck will be on site! 
URL:https://destinationbedfordva.com/event/live-music-food-truck-at-fables-feathers/2025-04-19/
LOCATION:Fables & Feathers Winery\, 2117 Bruno Dr.\, Goodview\, VA\, 24095
ATTACH;FMTTYPE=image/jpeg:https://destinationbedfordva.com/wp-content/uploads/2021/05/Fables-and-Feathers-Vineyard-July-2022-NJ-002.jpg
END:VEVENT
BEGIN:VEVENT
DTSTART;TZID=America/New_York:20250418T163000
DTEND;TZID=America/New_York:20250418T193000
DTSTAMP:20260420T143750
CREATED:20240802T190702Z
LAST-MODIFIED:20250328T204708Z
UID:10059394-1744993800-1745004600@destinationbedfordva.com
SUMMARY:Live Music & Food Truck at Fables & Feathers
DESCRIPTION:Come to Fables and Feathers Winery for live music\, great wine and beautiful views! Some days there will also be food trucks on site.  Click here to see who is playing and which food truck will be on site! 
URL:https://destinationbedfordva.com/event/live-music-food-truck-at-fables-feathers/2025-04-18/
LOCATION:Fables & Feathers Winery\, 2117 Bruno Dr.\, Goodview\, VA\, 24095
ATTACH;FMTTYPE=image/jpeg:https://destinationbedfordva.com/wp-content/uploads/2021/05/Fables-and-Feathers-Vineyard-July-2022-NJ-002.jpg
END:VEVENT
BEGIN:VEVENT
DTSTART;TZID=America/New_York:20250412T130000
DTEND;TZID=America/New_York:20250412T170000
DTSTAMP:20260420T143750
CREATED:20250408T160855Z
LAST-MODIFIED:20250408T160855Z
UID:10059511-1744462800-1744477200@destinationbedfordva.com
SUMMARY:Fables & Feathers Easter Egg hunt
DESCRIPTION:Bring the whole family out for a good time- Dan & Adonna music from 2-5\, KEFI Greek food\, & Jeffry’s Funny Farm petting zoo from 1-4.\nHunting eggs is free for all kiddos and starts at 2:00! 
URL:https://destinationbedfordva.com/event/fables-feathers-easter-egg-hunt/
LOCATION:Fables & Feathers Winery\, 2117 Bruno Dr.\, Goodview\, VA\, 24095
ATTACH;FMTTYPE=image/jpeg:https://destinationbedfordva.com/wp-content/uploads/2025/04/FF-easter-egg-hunt.jpg
END:VEVENT
BEGIN:VEVENT
DTSTART;TZID=America/New_York:20250411T163000
DTEND;TZID=America/New_York:20250411T193000
DTSTAMP:20260420T143750
CREATED:20240802T190702Z
LAST-MODIFIED:20250328T204708Z
UID:10059393-1744389000-1744399800@destinationbedfordva.com
SUMMARY:Live Music & Food Truck at Fables & Feathers
DESCRIPTION:Come to Fables and Feathers Winery for live music\, great wine and beautiful views! Some days there will also be food trucks on site.  Click here to see who is playing and which food truck will be on site! 
URL:https://destinationbedfordva.com/event/live-music-food-truck-at-fables-feathers/2025-04-11/
LOCATION:Fables & Feathers Winery\, 2117 Bruno Dr.\, Goodview\, VA\, 24095
ATTACH;FMTTYPE=image/jpeg:https://destinationbedfordva.com/wp-content/uploads/2021/05/Fables-and-Feathers-Vineyard-July-2022-NJ-002.jpg
END:VEVENT
BEGIN:VEVENT
DTSTART;TZID=America/New_York:20250405T140000
DTEND;TZID=America/New_York:20250405T170000
DTSTAMP:20260420T143750
CREATED:20240802T190702Z
LAST-MODIFIED:20250328T204708Z
UID:10059392-1743861600-1743872400@destinationbedfordva.com
SUMMARY:Live Music & Food Truck at Fables & Feathers
DESCRIPTION:Come to Fables and Feathers Winery for live music\, great wine and beautiful views! Some days there will also be food trucks on site.  Click here to see who is playing and which food truck will be on site! 
URL:https://destinationbedfordva.com/event/live-music-food-truck-at-fables-feathers/2025-04-05/
LOCATION:Fables & Feathers Winery\, 2117 Bruno Dr.\, Goodview\, VA\, 24095
ATTACH;FMTTYPE=image/jpeg:https://destinationbedfordva.com/wp-content/uploads/2021/05/Fables-and-Feathers-Vineyard-July-2022-NJ-002.jpg
END:VEVENT
BEGIN:VEVENT
DTSTART;TZID=America/New_York:20250404T163000
DTEND;TZID=America/New_York:20250404T193000
DTSTAMP:20260420T143750
CREATED:20240802T190702Z
LAST-MODIFIED:20250328T204708Z
UID:10059391-1743784200-1743795000@destinationbedfordva.com
SUMMARY:Live Music & Food Truck at Fables & Feathers
DESCRIPTION:Come to Fables and Feathers Winery for live music\, great wine and beautiful views! Some days there will also be food trucks on site.  Click here to see who is playing and which food truck will be on site! 
URL:https://destinationbedfordva.com/event/live-music-food-truck-at-fables-feathers/2025-04-04/
LOCATION:Fables & Feathers Winery\, 2117 Bruno Dr.\, Goodview\, VA\, 24095
ATTACH;FMTTYPE=image/jpeg:https://destinationbedfordva.com/wp-content/uploads/2021/05/Fables-and-Feathers-Vineyard-July-2022-NJ-002.jpg
END:VEVENT
BEGIN:VEVENT
DTSTART;TZID=America/New_York:20250215T120000
DTEND;TZID=America/New_York:20250215T170000
DTSTAMP:20260420T143750
CREATED:20250210T213813Z
LAST-MODIFIED:20250210T213813Z
UID:10059289-1739620800-1739638800@destinationbedfordva.com
SUMMARY:Puppy Love at the Winery
DESCRIPTION:If you’re looking for love this Valentine’s Day\, head over to the winery and meet your furry soul-mate! Fables and Feathers is partnering up with the Bedford Humane Society to bring you puppy kisses\, good wine\, and fun times. The Humane Society will be on site from 12-3 with adoptable dogs and a doggy kissing booth.\nEven if you’re not in the market for a new pet\, stick around- Matthew Weeks will be playing from 2-5.\nAnd if you’re looking for love at first bite- grab a taco from Hangrcy food truck! They’ll be serving food from 12:30-4:30.\n10% of sales will go to the Humane Society\, so come on out and support a good local cause!
URL:https://destinationbedfordva.com/event/puppy-love-at-the-winery/
LOCATION:Fables & Feathers Winery\, 2117 Bruno Dr.\, Goodview\, VA\, 24095
ATTACH;FMTTYPE=image/jpeg:https://destinationbedfordva.com/wp-content/uploads/2025/02/puppy-love.jpg
END:VEVENT
BEGIN:VEVENT
DTSTART;TZID=America/New_York:20241027T140000
DTEND;TZID=America/New_York:20241027T160000
DTSTAMP:20260420T143750
CREATED:20241024T161128Z
LAST-MODIFIED:20241024T161128Z
UID:10056039-1730037600-1730044800@destinationbedfordva.com
SUMMARY:Fables & Feathers Trunk or Treat
DESCRIPTION:It’s spooky season and time for more family fun at Fables & Feathers!\nCome enjoy this Trunk or Treat as well as\,  games\, treats (probably no tricks)\, costumes\, and good times for all.\nPlus you can add a little sparkle to your style with Fairy Hair Extraordinaire Jackie!\nEveryone is welcome\, there is no entrance fee.
URL:https://destinationbedfordva.com/event/fables-feathers-trunk-or-treat/
LOCATION:Fables & Feathers Winery\, 2117 Bruno Dr.\, Goodview\, VA\, 24095
ATTACH;FMTTYPE=image/jpeg:https://destinationbedfordva.com/wp-content/uploads/2024/10/F-F-Trunk-or-treat.jpg
END:VEVENT
BEGIN:VEVENT
DTSTART;TZID=America/New_York:20241026T180000
DTEND;TZID=America/New_York:20241026T210000
DTSTAMP:20260420T143750
CREATED:20240906T161324Z
LAST-MODIFIED:20240906T161324Z
UID:10055716-1729965600-1729976400@destinationbedfordva.com
SUMMARY:Halloween Murder Mystery
DESCRIPTION:Join Jump into Mystery on Saturday 10/26/24 at 6pm for a Halloween murder mystery. This will be an interactive murder mystery event where you will play a character\, solve clues\, and interrogate all of the suspects. You will laugh\, talk\, eat\, and drink. In the end you will decide who committed the crime using your detective skills. Early bird tickets will be $30 per person through 9/8/24 and will then be $35 per person. Wine\, beer\, pizza\, and flatbreads will be available for purchase throughout the event\, but are not included in the ticket. Everyone will get their character role at the event. Everyone in your group will need a separate ticket to attend and tickets are non-refundable. This is an adults only event and will last from 6pm until 9pm. This event will be held upstairs in the private event space and is accessed by stairs only. All participants are asked to please arrive and check in between 5:30 and 5:45pm to purchase drinks and food. Wear your best Halloween costume! \nClick here for tickets.  \n 
URL:https://destinationbedfordva.com/event/halloween-murder-mystery/
LOCATION:Fables & Feathers Winery\, 2117 Bruno Dr.\, Goodview\, VA\, 24095
ATTACH;FMTTYPE=image/jpeg:https://destinationbedfordva.com/wp-content/uploads/2024/09/halloween-murder-mystery.jpg
END:VEVENT
BEGIN:VEVENT
DTSTART;TZID=America/New_York:20241019T110000
DTEND;TZID=America/New_York:20241019T200000
DTSTAMP:20260420T143750
CREATED:20211013T200020Z
LAST-MODIFIED:20240927T223751Z
UID:10049179-1729335600-1729368000@destinationbedfordva.com
SUMMARY:Oktoberfest at Fables & Feathers
DESCRIPTION:Come celebrate Oktoberfest with food\, drinks\, live music\, delicious wine & beer and more! Live music by Sunshine from 12-3 and the Oddfellows from 4-7. Free event. 
URL:https://destinationbedfordva.com/event/oktoberfest/
LOCATION:Fables & Feathers Winery\, 2117 Bruno Dr.\, Goodview\, VA\, 24095
ATTACH;FMTTYPE=image/jpeg:https://destinationbedfordva.com/wp-content/uploads/2021/10/oktberfest-2024.jpg
END:VEVENT
BEGIN:VEVENT
DTSTART;TZID=America/New_York:20240819T150000
DTEND;TZID=America/New_York:20240819T170000
DTSTAMP:20260420T143750
CREATED:20231229T204325Z
LAST-MODIFIED:20240528T133411Z
UID:10054981-1724079600-1724086800@destinationbedfordva.com
SUMMARY:Sip & Stitch
DESCRIPTION:Join Fables & Feathers and local yarn shop Stitch Witch for a social gathering of fiber friends! Any craft is welcome\,  just have a good time stitching together with a glass of your favorite beverage.
URL:https://destinationbedfordva.com/event/sip-stitch-2/2024-08-19/
LOCATION:Fables & Feathers Winery\, 2117 Bruno Dr.\, Goodview\, VA\, 24095
ATTACH;FMTTYPE=image/jpeg:https://destinationbedfordva.com/wp-content/uploads/2023/12/Sip-and-stitch.jpg
END:VEVENT
BEGIN:VEVENT
DTSTART;TZID=America/New_York:20240817T140000
DTEND;TZID=America/New_York:20240817T170000
DTSTAMP:20260420T143750
CREATED:20240802T180630Z
LAST-MODIFIED:20240802T180630Z
UID:10055613-1723903200-1723914000@destinationbedfordva.com
SUMMARY:Dog Daze of Summer
DESCRIPTION:Let’s celebrate the summer winding down and support the local shelters at the same time! Come on out for music by the Chris Hammock Duo and meet some adoptable dogs with Friends of Bedford County Animal Shelter. Bring a donation for the shelter for an extra 10% off your purchase at the winery.\nThe Emmadale Takeout will be serving up authentic British cuisine like fish & chips from 12-5!
URL:https://destinationbedfordva.com/event/dog-daze-of-summer/
LOCATION:Fables & Feathers Winery\, 2117 Bruno Dr.\, Goodview\, VA\, 24095
ATTACH;FMTTYPE=image/jpeg:https://destinationbedfordva.com/wp-content/uploads/2024/08/Dog-Daze.jpg
END:VEVENT
BEGIN:VEVENT
DTSTART;TZID=America/New_York:20240720T180000
DTEND;TZID=America/New_York:20240720T210000
DTSTAMP:20260420T143750
CREATED:20240528T133906Z
LAST-MODIFIED:20240528T133906Z
UID:10054982-1721498400-1721509200@destinationbedfordva.com
SUMMARY:Murder Mystery at Fables & Feathers
DESCRIPTION:Join Jump into Mystery for a pirate themed murder mystery. This will be an interactive murder mystery event where you will play a character\, solve clues\, and interrogate all of the suspects. You will laugh\, talk\, eat\, and drink. In the end you will decide who committed the crime using your detective skills. Tickets are $35 per person. Wine and beer will be available for purchase throughout the event\, but are not included in the ticket. There will also be an option to purchase a BBQ dinner for $20 per person at 5:30pm at the winery before the murder mystery event. Everyone will get their character role at the event. Everyone in your group will need a separate ticket to attend and tickets are non-refundable. This is an adults only event. This event will be held upstairs in the private event space and is accessed by stairs only. All participants are asked to please arrive and check in at 5:30pm if you are purchasing the meal. Wear your favorite pirate attire!
URL:https://destinationbedfordva.com/event/murder-mystery-at-fables-feathers/
LOCATION:Fables & Feathers Winery\, 2117 Bruno Dr.\, Goodview\, VA\, 24095
ATTACH;FMTTYPE=image/jpeg:https://destinationbedfordva.com/wp-content/uploads/2024/05/murder-mystrey-ff.jpg
END:VEVENT
BEGIN:VEVENT
DTSTART;TZID=America/New_York:20240715T150000
DTEND;TZID=America/New_York:20240715T170000
DTSTAMP:20260420T143750
CREATED:20231229T204325Z
LAST-MODIFIED:20240528T133411Z
UID:10054980-1721055600-1721062800@destinationbedfordva.com
SUMMARY:Sip & Stitch
DESCRIPTION:Join Fables & Feathers and local yarn shop Stitch Witch for a social gathering of fiber friends! Any craft is welcome\,  just have a good time stitching together with a glass of your favorite beverage.
URL:https://destinationbedfordva.com/event/sip-stitch-2/2024-07-15/
LOCATION:Fables & Feathers Winery\, 2117 Bruno Dr.\, Goodview\, VA\, 24095
ATTACH;FMTTYPE=image/jpeg:https://destinationbedfordva.com/wp-content/uploads/2023/12/Sip-and-stitch.jpg
END:VEVENT
BEGIN:VEVENT
DTSTART;TZID=America/New_York:20240713T110000
DTEND;TZID=America/New_York:20240713T180000
DTSTAMP:20260420T143750
CREATED:20240701T164502Z
LAST-MODIFIED:20240701T164502Z
UID:10055597-1720868400-1720893600@destinationbedfordva.com
SUMMARY:Christmas in July
DESCRIPTION:It’s like Christmas came early- come hang out with Santa on his summer break from 2-5\, enjoy music by the Oddfellows 2-5\, grab the best BBQ on wheels from Munsey’s Smoke Shack and kick butt at a game of giant croquet!\nThen cool down with a frozen treat from Delicia’s Gourmet Ice. \nShop from these vendors: Priss E. Nerd\, Cuba’s Cups & Treats\, Rylor & Co.\n 
URL:https://destinationbedfordva.com/event/christmas-in-july-2/
LOCATION:Fables & Feathers Winery\, 2117 Bruno Dr.\, Goodview\, VA\, 24095
ATTACH;FMTTYPE=image/jpeg:https://destinationbedfordva.com/wp-content/uploads/2024/07/Christmas-in-July-2024.jpg
END:VEVENT
BEGIN:VEVENT
DTSTART;TZID=America/New_York:20240617T150000
DTEND;TZID=America/New_York:20240617T170000
DTSTAMP:20260420T143750
CREATED:20231229T204325Z
LAST-MODIFIED:20240528T133411Z
UID:10054104-1718636400-1718643600@destinationbedfordva.com
SUMMARY:Sip & Stitch
DESCRIPTION:Join Fables & Feathers and local yarn shop Stitch Witch for a social gathering of fiber friends! Any craft is welcome\,  just have a good time stitching together with a glass of your favorite beverage.
URL:https://destinationbedfordva.com/event/sip-stitch-2/2024-06-17/
LOCATION:Fables & Feathers Winery\, 2117 Bruno Dr.\, Goodview\, VA\, 24095
ATTACH;FMTTYPE=image/jpeg:https://destinationbedfordva.com/wp-content/uploads/2023/12/Sip-and-stitch.jpg
END:VEVENT
BEGIN:VEVENT
DTSTART;TZID=America/New_York:20240512T110000
DTEND;TZID=America/New_York:20240512T180000
DTSTAMP:20260420T143750
CREATED:20240424T180949Z
LAST-MODIFIED:20240424T180949Z
UID:10054393-1715511600-1715536800@destinationbedfordva.com
SUMMARY:Mother's Day at Fables & Feathers Winery
DESCRIPTION:We love our moms! Come out and celebrate how awesome the moms in your life are with us this Mother’s Day! \nFantastically delicious tacos\, nachos\, & more from El Gordo’s Kitchen 12-5 will make her swoon. \nMusic by Chris Hammock from 2-5 will keep her smiling and relaxed. \nAnd earn extra goodwill by plying her with truffles\, wine slushies\, and mimosas! 
URL:https://destinationbedfordva.com/event/mothers-day-at-fables-feathers-winery/
LOCATION:Fables & Feathers Winery\, 2117 Bruno Dr.\, Goodview\, VA\, 24095
ATTACH;FMTTYPE=image/jpeg:https://destinationbedfordva.com/wp-content/uploads/2024/04/Fables-and-Feathers.jpg
END:VEVENT
BEGIN:VEVENT
DTSTART;TZID=America/New_York:20240503T163000
DTEND;TZID=America/New_York:20240503T200000
DTSTAMP:20260420T143750
CREATED:20240424T191010Z
LAST-MODIFIED:20240424T191701Z
UID:10054401-1714753800-1714766400@destinationbedfordva.com
SUMMARY:Keith Campbell & Hangrcy Food Truck at Fables & Feathers Winery
DESCRIPTION:First Friday of the month means Keith Campbell crooning! He’ll be playing from 4:30-7:30pm.\nDon’t have a heart attack\, the ambulance outside is actually a food truck! \nHangrcy has the sweet or savory options to bring you back to life for the weekend\, starting around 5:00pm. 
URL:https://destinationbedfordva.com/event/keith-campbell-hangrcy-food-truck-at-fables-feathers-winery/
LOCATION:Fables & Feathers Winery\, 2117 Bruno Dr.\, Goodview\, VA\, 24095
ATTACH;FMTTYPE=image/jpeg:https://destinationbedfordva.com/wp-content/uploads/2024/04/FF-Friday.jpg
END:VEVENT
BEGIN:VEVENT
DTSTART;TZID=America/New_York:20240427T120000
DTEND;TZID=America/New_York:20240427T180000
DTSTAMP:20260420T143750
CREATED:20240424T190350Z
LAST-MODIFIED:20240424T190450Z
UID:10054400-1714219200-1714240800@destinationbedfordva.com
SUMMARY:Dan & Adonna Show with Schult's Dogs
DESCRIPTION:We’re excited to have the Dan & Adonna Show at Fables & Feathers for the first time! \nThey’ll be playing from 2-5 and Schult’s Dogs will be grilling up sausages\, brats\, & dogs with homemade toppings starting around noon.
URL:https://destinationbedfordva.com/event/dan-adonna-show-with-schults-dogs/
LOCATION:Fables & Feathers Winery\, 2117 Bruno Dr.\, Goodview\, VA\, 24095
END:VEVENT
BEGIN:VEVENT
DTSTART;TZID=America/New_York:20240426T163000
DTEND;TZID=America/New_York:20240426T200000
DTSTAMP:20260420T143750
CREATED:20240424T191858Z
LAST-MODIFIED:20240424T191951Z
UID:10054402-1714149000-1714161600@destinationbedfordva.com
SUMMARY:Hunter Overstreet & Ferguson Family Provisions at Fables & Feathers Winery
DESCRIPTION:Dinner is ready! Come on out and get your fresh seafood from a great local family-run business\, Ferguson’s Family Provisions! \nThen kick back and enjoy music by Hunter Overstreet-he’s a guitar playing\, singing good time!
URL:https://destinationbedfordva.com/event/hunter-overstreet-ferguson-family-provisions-at-fables-feathers-winery/
LOCATION:Fables & Feathers Winery\, 2117 Bruno Dr.\, Goodview\, VA\, 24095
ATTACH;FMTTYPE=image/jpeg:https://destinationbedfordva.com/wp-content/uploads/2024/04/FF-Friday.jpg
END:VEVENT
BEGIN:VEVENT
DTSTART;TZID=America/New_York:20240420T090000
DTEND;TZID=America/New_York:20240420T110000
DTSTAMP:20260420T143750
CREATED:20240202T205735Z
LAST-MODIFIED:20240202T205735Z
UID:10054271-1713603600-1713610800@destinationbedfordva.com
SUMMARY:Fables & Feathers Wine Run 5K
DESCRIPTION:Like Running or Walking?  Love Wine?  This race is for you!  \nJoin Fables & Feathers on Saturday\, April 20\, 2024 at 9:00am for an exciting new event that features the amazing scenery and landscape of Fables & Feathers Winery!  Whether you are looking to run\, walk or just enjoy the wine this race is a sure thing for a great time and an incredible experience!  This race is timed and scored by J3 Timing.  Results will be posted at www.J3Timing.com.  \nRegistration Includes: \n\nT-shirt:  Super Soft Ring Spun Cotton t-shirt included! \nWine Glass: Shatterproof\, Collapsible\, and Portable!\nFinisher Medal: Doubles as a Wine Coaster!\nRace Bib: Chip timed 5k run/walk\nResults Posted Online\n…and of course\, a pour of wine!\n\nClick here for more information. 
URL:https://destinationbedfordva.com/event/fables-feathers-wine-run-5k/
LOCATION:Fables & Feathers Winery\, 2117 Bruno Dr.\, Goodview\, VA\, 24095
ATTACH;FMTTYPE=image/jpeg:https://destinationbedfordva.com/wp-content/uploads/2021/02/fables-and-feathers-2.jpg
END:VEVENT
END:VCALENDAR