BEGIN:VCALENDAR
VERSION:2.0
PRODID:-//Destination Bedford - ECPv6.8.3//NONSGML v1.0//EN
CALSCALE:GREGORIAN
METHOD:PUBLISH
X-ORIGINAL-URL:https://destinationbedfordva.com
X-WR-CALDESC:Events for Destination Bedford
REFRESH-INTERVAL;VALUE=DURATION:PT1H
X-Robots-Tag:noindex
X-PUBLISHED-TTL:PT1H
BEGIN:VTIMEZONE
TZID:America/New_York
BEGIN:DAYLIGHT
TZOFFSETFROM:-0500
TZOFFSETTO:-0400
TZNAME:EDT
DTSTART:20220313T070000
END:DAYLIGHT
BEGIN:STANDARD
TZOFFSETFROM:-0400
TZOFFSETTO:-0500
TZNAME:EST
DTSTART:20221106T060000
END:STANDARD
BEGIN:DAYLIGHT
TZOFFSETFROM:-0500
TZOFFSETTO:-0400
TZNAME:EDT
DTSTART:20230312T070000
END:DAYLIGHT
BEGIN:STANDARD
TZOFFSETFROM:-0400
TZOFFSETTO:-0500
TZNAME:EST
DTSTART:20231105T060000
END:STANDARD
BEGIN:DAYLIGHT
TZOFFSETFROM:-0500
TZOFFSETTO:-0400
TZNAME:EDT
DTSTART:20240310T070000
END:DAYLIGHT
BEGIN:STANDARD
TZOFFSETFROM:-0400
TZOFFSETTO:-0500
TZNAME:EST
DTSTART:20241103T060000
END:STANDARD
END:VTIMEZONE
BEGIN:VEVENT
DTSTART;TZID=America/New_York:20241019T110000
DTEND;TZID=America/New_York:20241019T200000
DTSTAMP:20260421T015307
CREATED:20211013T200020Z
LAST-MODIFIED:20240927T223751Z
UID:10049179-1729335600-1729368000@destinationbedfordva.com
SUMMARY:Oktoberfest at Fables & Feathers
DESCRIPTION:Come celebrate Oktoberfest with food\, drinks\, live music\, delicious wine & beer and more! Live music by Sunshine from 12-3 and the Oddfellows from 4-7. Free event. 
URL:https://destinationbedfordva.com/event/oktoberfest/
LOCATION:Fables & Feathers Winery\, 2117 Bruno Dr.\, Goodview\, VA\, 24095
ATTACH;FMTTYPE=image/jpeg:https://destinationbedfordva.com/wp-content/uploads/2021/10/oktberfest-2024.jpg
END:VEVENT
BEGIN:VEVENT
DTSTART;TZID=America/New_York:20240819T150000
DTEND;TZID=America/New_York:20240819T170000
DTSTAMP:20260421T015307
CREATED:20231229T204325Z
LAST-MODIFIED:20240528T133411Z
UID:10054981-1724079600-1724086800@destinationbedfordva.com
SUMMARY:Sip & Stitch
DESCRIPTION:Join Fables & Feathers and local yarn shop Stitch Witch for a social gathering of fiber friends! Any craft is welcome\,  just have a good time stitching together with a glass of your favorite beverage.
URL:https://destinationbedfordva.com/event/sip-stitch-2/2024-08-19/
LOCATION:Fables & Feathers Winery\, 2117 Bruno Dr.\, Goodview\, VA\, 24095
ATTACH;FMTTYPE=image/jpeg:https://destinationbedfordva.com/wp-content/uploads/2023/12/Sip-and-stitch.jpg
END:VEVENT
BEGIN:VEVENT
DTSTART;TZID=America/New_York:20240817T140000
DTEND;TZID=America/New_York:20240817T170000
DTSTAMP:20260421T015307
CREATED:20240802T180630Z
LAST-MODIFIED:20240802T180630Z
UID:10055613-1723903200-1723914000@destinationbedfordva.com
SUMMARY:Dog Daze of Summer
DESCRIPTION:Let’s celebrate the summer winding down and support the local shelters at the same time! Come on out for music by the Chris Hammock Duo and meet some adoptable dogs with Friends of Bedford County Animal Shelter. Bring a donation for the shelter for an extra 10% off your purchase at the winery.\nThe Emmadale Takeout will be serving up authentic British cuisine like fish & chips from 12-5!
URL:https://destinationbedfordva.com/event/dog-daze-of-summer/
LOCATION:Fables & Feathers Winery\, 2117 Bruno Dr.\, Goodview\, VA\, 24095
ATTACH;FMTTYPE=image/jpeg:https://destinationbedfordva.com/wp-content/uploads/2024/08/Dog-Daze.jpg
END:VEVENT
BEGIN:VEVENT
DTSTART;TZID=America/New_York:20240720T180000
DTEND;TZID=America/New_York:20240720T210000
DTSTAMP:20260421T015307
CREATED:20240528T133906Z
LAST-MODIFIED:20240528T133906Z
UID:10054982-1721498400-1721509200@destinationbedfordva.com
SUMMARY:Murder Mystery at Fables & Feathers
DESCRIPTION:Join Jump into Mystery for a pirate themed murder mystery. This will be an interactive murder mystery event where you will play a character\, solve clues\, and interrogate all of the suspects. You will laugh\, talk\, eat\, and drink. In the end you will decide who committed the crime using your detective skills. Tickets are $35 per person. Wine and beer will be available for purchase throughout the event\, but are not included in the ticket. There will also be an option to purchase a BBQ dinner for $20 per person at 5:30pm at the winery before the murder mystery event. Everyone will get their character role at the event. Everyone in your group will need a separate ticket to attend and tickets are non-refundable. This is an adults only event. This event will be held upstairs in the private event space and is accessed by stairs only. All participants are asked to please arrive and check in at 5:30pm if you are purchasing the meal. Wear your favorite pirate attire!
URL:https://destinationbedfordva.com/event/murder-mystery-at-fables-feathers/
LOCATION:Fables & Feathers Winery\, 2117 Bruno Dr.\, Goodview\, VA\, 24095
ATTACH;FMTTYPE=image/jpeg:https://destinationbedfordva.com/wp-content/uploads/2024/05/murder-mystrey-ff.jpg
END:VEVENT
BEGIN:VEVENT
DTSTART;TZID=America/New_York:20240715T150000
DTEND;TZID=America/New_York:20240715T170000
DTSTAMP:20260421T015307
CREATED:20231229T204325Z
LAST-MODIFIED:20240528T133411Z
UID:10054980-1721055600-1721062800@destinationbedfordva.com
SUMMARY:Sip & Stitch
DESCRIPTION:Join Fables & Feathers and local yarn shop Stitch Witch for a social gathering of fiber friends! Any craft is welcome\,  just have a good time stitching together with a glass of your favorite beverage.
URL:https://destinationbedfordva.com/event/sip-stitch-2/2024-07-15/
LOCATION:Fables & Feathers Winery\, 2117 Bruno Dr.\, Goodview\, VA\, 24095
ATTACH;FMTTYPE=image/jpeg:https://destinationbedfordva.com/wp-content/uploads/2023/12/Sip-and-stitch.jpg
END:VEVENT
BEGIN:VEVENT
DTSTART;TZID=America/New_York:20240713T110000
DTEND;TZID=America/New_York:20240713T180000
DTSTAMP:20260421T015307
CREATED:20240701T164502Z
LAST-MODIFIED:20240701T164502Z
UID:10055597-1720868400-1720893600@destinationbedfordva.com
SUMMARY:Christmas in July
DESCRIPTION:It’s like Christmas came early- come hang out with Santa on his summer break from 2-5\, enjoy music by the Oddfellows 2-5\, grab the best BBQ on wheels from Munsey’s Smoke Shack and kick butt at a game of giant croquet!\nThen cool down with a frozen treat from Delicia’s Gourmet Ice. \nShop from these vendors: Priss E. Nerd\, Cuba’s Cups & Treats\, Rylor & Co.\n 
URL:https://destinationbedfordva.com/event/christmas-in-july-2/
LOCATION:Fables & Feathers Winery\, 2117 Bruno Dr.\, Goodview\, VA\, 24095
ATTACH;FMTTYPE=image/jpeg:https://destinationbedfordva.com/wp-content/uploads/2024/07/Christmas-in-July-2024.jpg
END:VEVENT
BEGIN:VEVENT
DTSTART;TZID=America/New_York:20240617T150000
DTEND;TZID=America/New_York:20240617T170000
DTSTAMP:20260421T015307
CREATED:20231229T204325Z
LAST-MODIFIED:20240528T133411Z
UID:10054104-1718636400-1718643600@destinationbedfordva.com
SUMMARY:Sip & Stitch
DESCRIPTION:Join Fables & Feathers and local yarn shop Stitch Witch for a social gathering of fiber friends! Any craft is welcome\,  just have a good time stitching together with a glass of your favorite beverage.
URL:https://destinationbedfordva.com/event/sip-stitch-2/2024-06-17/
LOCATION:Fables & Feathers Winery\, 2117 Bruno Dr.\, Goodview\, VA\, 24095
ATTACH;FMTTYPE=image/jpeg:https://destinationbedfordva.com/wp-content/uploads/2023/12/Sip-and-stitch.jpg
END:VEVENT
BEGIN:VEVENT
DTSTART;TZID=America/New_York:20240512T110000
DTEND;TZID=America/New_York:20240512T180000
DTSTAMP:20260421T015307
CREATED:20240424T180949Z
LAST-MODIFIED:20240424T180949Z
UID:10054393-1715511600-1715536800@destinationbedfordva.com
SUMMARY:Mother's Day at Fables & Feathers Winery
DESCRIPTION:We love our moms! Come out and celebrate how awesome the moms in your life are with us this Mother’s Day! \nFantastically delicious tacos\, nachos\, & more from El Gordo’s Kitchen 12-5 will make her swoon. \nMusic by Chris Hammock from 2-5 will keep her smiling and relaxed. \nAnd earn extra goodwill by plying her with truffles\, wine slushies\, and mimosas! 
URL:https://destinationbedfordva.com/event/mothers-day-at-fables-feathers-winery/
LOCATION:Fables & Feathers Winery\, 2117 Bruno Dr.\, Goodview\, VA\, 24095
ATTACH;FMTTYPE=image/jpeg:https://destinationbedfordva.com/wp-content/uploads/2024/04/Fables-and-Feathers.jpg
END:VEVENT
BEGIN:VEVENT
DTSTART;TZID=America/New_York:20240503T163000
DTEND;TZID=America/New_York:20240503T200000
DTSTAMP:20260421T015307
CREATED:20240424T191010Z
LAST-MODIFIED:20240424T191701Z
UID:10054401-1714753800-1714766400@destinationbedfordva.com
SUMMARY:Keith Campbell & Hangrcy Food Truck at Fables & Feathers Winery
DESCRIPTION:First Friday of the month means Keith Campbell crooning! He’ll be playing from 4:30-7:30pm.\nDon’t have a heart attack\, the ambulance outside is actually a food truck! \nHangrcy has the sweet or savory options to bring you back to life for the weekend\, starting around 5:00pm. 
URL:https://destinationbedfordva.com/event/keith-campbell-hangrcy-food-truck-at-fables-feathers-winery/
LOCATION:Fables & Feathers Winery\, 2117 Bruno Dr.\, Goodview\, VA\, 24095
ATTACH;FMTTYPE=image/jpeg:https://destinationbedfordva.com/wp-content/uploads/2024/04/FF-Friday.jpg
END:VEVENT
BEGIN:VEVENT
DTSTART;TZID=America/New_York:20240427T120000
DTEND;TZID=America/New_York:20240427T180000
DTSTAMP:20260421T015307
CREATED:20240424T190350Z
LAST-MODIFIED:20240424T190450Z
UID:10054400-1714219200-1714240800@destinationbedfordva.com
SUMMARY:Dan & Adonna Show with Schult's Dogs
DESCRIPTION:We’re excited to have the Dan & Adonna Show at Fables & Feathers for the first time! \nThey’ll be playing from 2-5 and Schult’s Dogs will be grilling up sausages\, brats\, & dogs with homemade toppings starting around noon.
URL:https://destinationbedfordva.com/event/dan-adonna-show-with-schults-dogs/
LOCATION:Fables & Feathers Winery\, 2117 Bruno Dr.\, Goodview\, VA\, 24095
END:VEVENT
BEGIN:VEVENT
DTSTART;TZID=America/New_York:20240426T163000
DTEND;TZID=America/New_York:20240426T200000
DTSTAMP:20260421T015307
CREATED:20240424T191858Z
LAST-MODIFIED:20240424T191951Z
UID:10054402-1714149000-1714161600@destinationbedfordva.com
SUMMARY:Hunter Overstreet & Ferguson Family Provisions at Fables & Feathers Winery
DESCRIPTION:Dinner is ready! Come on out and get your fresh seafood from a great local family-run business\, Ferguson’s Family Provisions! \nThen kick back and enjoy music by Hunter Overstreet-he’s a guitar playing\, singing good time!
URL:https://destinationbedfordva.com/event/hunter-overstreet-ferguson-family-provisions-at-fables-feathers-winery/
LOCATION:Fables & Feathers Winery\, 2117 Bruno Dr.\, Goodview\, VA\, 24095
ATTACH;FMTTYPE=image/jpeg:https://destinationbedfordva.com/wp-content/uploads/2024/04/FF-Friday.jpg
END:VEVENT
BEGIN:VEVENT
DTSTART;TZID=America/New_York:20240420T090000
DTEND;TZID=America/New_York:20240420T110000
DTSTAMP:20260421T015307
CREATED:20240202T205735Z
LAST-MODIFIED:20240202T205735Z
UID:10054271-1713603600-1713610800@destinationbedfordva.com
SUMMARY:Fables & Feathers Wine Run 5K
DESCRIPTION:Like Running or Walking?  Love Wine?  This race is for you!  \nJoin Fables & Feathers on Saturday\, April 20\, 2024 at 9:00am for an exciting new event that features the amazing scenery and landscape of Fables & Feathers Winery!  Whether you are looking to run\, walk or just enjoy the wine this race is a sure thing for a great time and an incredible experience!  This race is timed and scored by J3 Timing.  Results will be posted at www.J3Timing.com.  \nRegistration Includes: \n\nT-shirt:  Super Soft Ring Spun Cotton t-shirt included! \nWine Glass: Shatterproof\, Collapsible\, and Portable!\nFinisher Medal: Doubles as a Wine Coaster!\nRace Bib: Chip timed 5k run/walk\nResults Posted Online\n…and of course\, a pour of wine!\n\nClick here for more information. 
URL:https://destinationbedfordva.com/event/fables-feathers-wine-run-5k/
LOCATION:Fables & Feathers Winery\, 2117 Bruno Dr.\, Goodview\, VA\, 24095
ATTACH;FMTTYPE=image/jpeg:https://destinationbedfordva.com/wp-content/uploads/2021/02/fables-and-feathers-2.jpg
END:VEVENT
BEGIN:VEVENT
DTSTART;TZID=America/New_York:20240323T140000
DTEND;TZID=America/New_York:20240323T170000
DTSTAMP:20260421T015307
CREATED:20240227T152213Z
LAST-MODIFIED:20240227T152213Z
UID:10054341-1711202400-1711213200@destinationbedfordva.com
SUMMARY:Easter Egg Hunt At Fables & Feathers Winery
DESCRIPTION:Grab your bunny ears\, we’re going egg hunting! \nIt’s free for kids of all ages\, so bring out the whole family for a fun filled day. \nHunting starts at 2:00pm along with music by Daniel Kepel\, the Singing Violinist. \nPlus we can’t let you hunt on an empty stomach- Schult’s Dogs will be on-site for you to fuel up on a hot dog\, brat\, or sausage! 
URL:https://destinationbedfordva.com/event/easter-egg-hunt-at-fables-feathers-winery/
LOCATION:Fables & Feathers Winery\, 2117 Bruno Dr.\, Goodview\, VA\, 24095
ATTACH;FMTTYPE=image/jpeg:https://destinationbedfordva.com/wp-content/uploads/2024/02/Egg-Hunt.jpg
END:VEVENT
BEGIN:VEVENT
DTSTART;TZID=America/New_York:20240126T183000
DTEND;TZID=America/New_York:20240126T203000
DTSTAMP:20260421T015307
CREATED:20231229T205130Z
LAST-MODIFIED:20231229T205130Z
UID:10054105-1706293800-1706301000@destinationbedfordva.com
SUMMARY:Paint & Sip
DESCRIPTION:Join winery artist Genny to paint softly colored snowman on an 8″ x 10″ canvas. No artistic skills needed\, you will paint together step by step! Your first glass of wine\, beer\, or cider is included.\nRegister by purchasing a ticket for $30 here: https://square.link/u/1rgmcQr3\nIf you’re coming with a group of friends and purchasing tickets separately\, please send Genny a text at 815-355-9330 so she can make sure you have seats together.
URL:https://destinationbedfordva.com/event/paint-sip-5/
LOCATION:Fables & Feathers Winery\, 2117 Bruno Dr.\, Goodview\, VA\, 24095
ATTACH;FMTTYPE=image/jpeg:https://destinationbedfordva.com/wp-content/uploads/2023/12/paint-and-sip-2024.jpg
END:VEVENT
BEGIN:VEVENT
DTSTART;TZID=America/New_York:20231210T130000
DTEND;TZID=America/New_York:20231210T160000
DTSTAMP:20260421T015307
CREATED:20211117T212209Z
LAST-MODIFIED:20231121T183900Z
UID:10054005-1702213200-1702224000@destinationbedfordva.com
SUMMARY:Santa at Fables & Feathers Winery
DESCRIPTION:Bring out the family & the cameras\, Santa is coming to Fables & Feathers Winery! Sip on wine and enjoy a visit with Santa with this family friendly event! \nDecember 9th: Wire Wrapping & Beading by Renee & Tekton Wood Crafters will be on site with their handmade awesomeness! \nDecember 10th: Music by Daniel Kepel the Singing Violinist to help carol in the season and get a little holiday shopping done with Dragonfly Sunrise LLC.
URL:https://destinationbedfordva.com/event/santa-at-fables-feathers-winery/2023-12-10/
LOCATION:Fables & Feathers Winery\, 2117 Bruno Dr.\, Goodview\, VA\, 24095
ATTACH;FMTTYPE=image/jpeg:https://destinationbedfordva.com/wp-content/uploads/2021/11/santa-at-the-winery.jpg
END:VEVENT
BEGIN:VEVENT
DTSTART;TZID=America/New_York:20231209T130000
DTEND;TZID=America/New_York:20231209T160000
DTSTAMP:20260421T015307
CREATED:20211117T212209Z
LAST-MODIFIED:20231121T183900Z
UID:10054004-1702126800-1702137600@destinationbedfordva.com
SUMMARY:Santa at Fables & Feathers Winery
DESCRIPTION:Bring out the family & the cameras\, Santa is coming to Fables & Feathers Winery! Sip on wine and enjoy a visit with Santa with this family friendly event! \nDecember 9th: Wire Wrapping & Beading by Renee & Tekton Wood Crafters will be on site with their handmade awesomeness! \nDecember 10th: Music by Daniel Kepel the Singing Violinist to help carol in the season and get a little holiday shopping done with Dragonfly Sunrise LLC.
URL:https://destinationbedfordva.com/event/santa-at-fables-feathers-winery/2023-12-09/
LOCATION:Fables & Feathers Winery\, 2117 Bruno Dr.\, Goodview\, VA\, 24095
ATTACH;FMTTYPE=image/jpeg:https://destinationbedfordva.com/wp-content/uploads/2021/11/santa-at-the-winery.jpg
END:VEVENT
BEGIN:VEVENT
DTSTART;TZID=America/New_York:20231120T150000
DTEND;TZID=America/New_York:20231120T170000
DTSTAMP:20260421T015307
CREATED:20231102T202441Z
LAST-MODIFIED:20231102T202441Z
UID:10053918-1700492400-1700499600@destinationbedfordva.com
SUMMARY:Sip & Stitch
DESCRIPTION:Join Fables & Feathers and local yarn shop Stitch Witch for a social gathering of fiber friends! Any craft is welcome\, just have a good time stitching together with a glass of your favorite beverage.
URL:https://destinationbedfordva.com/event/sip-stitch/
LOCATION:Fables & Feathers Winery\, 2117 Bruno Dr.\, Goodview\, VA\, 24095
ATTACH;FMTTYPE=image/jpeg:https://destinationbedfordva.com/wp-content/uploads/2023/11/Sip-and-stitch.jpg
END:VEVENT
BEGIN:VEVENT
DTSTART;TZID=America/New_York:20231117T183000
DTEND;TZID=America/New_York:20231117T200000
DTSTAMP:20260421T015307
CREATED:20220426T185403Z
LAST-MODIFIED:20231102T202116Z
UID:10049589-1700245800-1700251200@destinationbedfordva.com
SUMMARY:Paint & Sip
DESCRIPTION:Join winery artist Genny to paint a pine forest at night on an 8″ x 10″ canvas. No artistic skills needed\, paint together step by step\, and you can customize the color of your sky! Your first glass of wine\, beer\, or cider is included.\nRegister by purchasing a ticket for $30 here:\nhttps://checkout.square.site/buy/6WYPX74CJ75QUUW2BOQVQBYP\nIf you’re coming with a group of friends and purchasing tickets separately\, please send Genny a text at 815-355-9330 so she can make sure you have seats together 
URL:https://destinationbedfordva.com/event/paint-sip-4/
LOCATION:Fables & Feathers Winery\, 2117 Bruno Dr.\, Goodview\, VA\, 24095
ATTACH;FMTTYPE=image/jpeg:https://destinationbedfordva.com/wp-content/uploads/2022/04/Paint-and-sip-2023.jpg
END:VEVENT
BEGIN:VEVENT
DTSTART;TZID=America/New_York:20231111T173000
DTEND;TZID=America/New_York:20231111T203000
DTSTAMP:20260421T015307
CREATED:20231102T185943Z
LAST-MODIFIED:20231102T185943Z
UID:10053917-1699723800-1699734600@destinationbedfordva.com
SUMMARY:Murder Mystery
DESCRIPTION:Join Jump into Mystery on Saturday 11/11/23 at 5:30pm for a murder mystery with a Black Friday theme. This will be an interactive murder mystery event where you will play a character\, solve clues\, and interrogate all of the suspects. You will laugh\, talk\, eat\, and drink. In the end you will decide who committed the crime using your detective skills. Tickets are $35 per person. Wine\, beer and snacks will be available for purchase\, but are not included in the ticket. Outside food is also allowed. Everyone will get their character role at the event. Everyone in your group will need a separate ticket to attend and tickets are non-refundable. This is an adults only event and will last from 5:30pm until 8:30pm. This event will be held upstairs in the private event space and is accessed by stairs only. All participants are asked to please arrive and check in between 5:00 and 5:15pm to grab food and drinks\, as the game will start promptly at 5:30pm.
URL:https://destinationbedfordva.com/event/murder-mystery/
LOCATION:Fables & Feathers Winery\, 2117 Bruno Dr.\, Goodview\, VA\, 24095
ATTACH;FMTTYPE=image/jpeg:https://destinationbedfordva.com/wp-content/uploads/2023/11/murder-mystery-2023.jpg
END:VEVENT
BEGIN:VEVENT
DTSTART;TZID=America/New_York:20230401T130000
DTEND;TZID=America/New_York:20230401T170000
DTSTAMP:20260421T015307
CREATED:20230306T045715Z
LAST-MODIFIED:20230306T045715Z
UID:10051631-1680354000-1680368400@destinationbedfordva.com
SUMMARY:Easter Egg Hunt at Fables & Feathers
DESCRIPTION:Bring the family out for an Easter egg hunt in the vines! The hunt will start at 1:00\, with more eggs than last year and areas separated by age. Face painting by JustRandomArt from 1-3\, food from Schult’s Dogs all day\, and music by Shanolan from 2-5. It’s gonna be a fun time for everyone! 
URL:https://destinationbedfordva.com/event/easter-egg-hunt-at-fables-feathers/
LOCATION:Fables & Feathers Winery\, 2117 Bruno Dr.\, Goodview\, VA\, 24095
ATTACH;FMTTYPE=image/jpeg:https://destinationbedfordva.com/wp-content/uploads/2023/03/easter-egg-hunt-2.jpg
END:VEVENT
BEGIN:VEVENT
DTSTART;TZID=America/New_York:20230213T180000
DTEND;TZID=America/New_York:20230213T200000
DTSTAMP:20260421T015307
CREATED:20230210T163451Z
LAST-MODIFIED:20230210T183610Z
UID:10050414-1676311200-1676318400@destinationbedfordva.com
SUMMARY:Live Music at Fables & Feathers
DESCRIPTION:Come hang out at this gorgeous winery and sip on some delicious wine or beer and listen to live music by Daniel Kepel! 
URL:https://destinationbedfordva.com/event/live-music-at-fables-feathers-2-2/
LOCATION:Fables & Feathers Winery\, 2117 Bruno Dr.\, Goodview\, VA\, 24095
ATTACH;FMTTYPE=image/jpeg:https://destinationbedfordva.com/wp-content/uploads/2022/11/Fables-Feathers-photo-from-their-Facebook-page.jpg
END:VEVENT
BEGIN:VEVENT
DTSTART;TZID=America/New_York:20221211T130000
DTEND;TZID=America/New_York:20221211T160000
DTSTAMP:20260421T015307
CREATED:20221130T180419Z
LAST-MODIFIED:20221130T180419Z
UID:10050459-1670763600-1670774400@destinationbedfordva.com
SUMMARY:Santa at Fables & Feathers
DESCRIPTION:Santa is coming to Fables & Feathers Winery!  It’s officially the holiday season at the winery! Come visit for some great family fun\, with music\, food\, Santa\, sweets\,  & local vendors.  Free event.
URL:https://destinationbedfordva.com/event/santa-at-fables-feathers/2022-12-11/
LOCATION:Fables & Feathers Winery\, 2117 Bruno Dr.\, Goodview\, VA\, 24095
ATTACH;FMTTYPE=image/jpeg:https://destinationbedfordva.com/wp-content/uploads/2022/11/FF-santa.jpg
END:VEVENT
BEGIN:VEVENT
DTSTART;TZID=America/New_York:20221211T130000
DTEND;TZID=America/New_York:20221211T160000
DTSTAMP:20260421T015307
CREATED:20221129T204942Z
LAST-MODIFIED:20231102T185037Z
UID:10053916-1670763600-1670774400@destinationbedfordva.com
SUMMARY:Live Music at Fables & Feathers
DESCRIPTION:Come hang out at this gorgeous winery and sip on some delicious wine or beer and listen to live music! Some weekends there will also be a food truck or special event.  Click here to see the schedule! 
URL:https://destinationbedfordva.com/event/live-music-at-fables-feathers-2/2022-12-11/
LOCATION:Fables & Feathers Winery\, 2117 Bruno Dr.\, Goodview\, VA\, 24095
ATTACH;FMTTYPE=image/jpeg:https://destinationbedfordva.com/wp-content/uploads/2022/11/Fables-Feathers-photo-from-their-Facebook-page.jpg
END:VEVENT
BEGIN:VEVENT
DTSTART;TZID=America/New_York:20221204T130000
DTEND;TZID=America/New_York:20221204T160000
DTSTAMP:20260421T015307
CREATED:20221130T180419Z
LAST-MODIFIED:20221130T180419Z
UID:10050458-1670158800-1670169600@destinationbedfordva.com
SUMMARY:Santa at Fables & Feathers
DESCRIPTION:Santa is coming to Fables & Feathers Winery!  It’s officially the holiday season at the winery! Come visit for some great family fun\, with music\, food\, Santa\, sweets\,  & local vendors.  Free event.
URL:https://destinationbedfordva.com/event/santa-at-fables-feathers/2022-12-04/
LOCATION:Fables & Feathers Winery\, 2117 Bruno Dr.\, Goodview\, VA\, 24095
ATTACH;FMTTYPE=image/jpeg:https://destinationbedfordva.com/wp-content/uploads/2022/11/FF-santa.jpg
END:VEVENT
BEGIN:VEVENT
DTSTART;TZID=America/New_York:20221204T130000
DTEND;TZID=America/New_York:20221204T160000
DTSTAMP:20260421T015307
CREATED:20221129T204942Z
LAST-MODIFIED:20231102T185037Z
UID:10050413-1670158800-1670169600@destinationbedfordva.com
SUMMARY:Live Music at Fables & Feathers
DESCRIPTION:Come hang out at this gorgeous winery and sip on some delicious wine or beer and listen to live music! Some weekends there will also be a food truck or special event.  Click here to see the schedule! 
URL:https://destinationbedfordva.com/event/live-music-at-fables-feathers-2/2022-12-04/
LOCATION:Fables & Feathers Winery\, 2117 Bruno Dr.\, Goodview\, VA\, 24095
ATTACH;FMTTYPE=image/jpeg:https://destinationbedfordva.com/wp-content/uploads/2022/11/Fables-Feathers-photo-from-their-Facebook-page.jpg
END:VEVENT
BEGIN:VEVENT
DTSTART;TZID=America/New_York:20221203T140000
DTEND;TZID=America/New_York:20221203T170000
DTSTAMP:20260421T015307
CREATED:20221129T204942Z
LAST-MODIFIED:20231102T185037Z
UID:10050412-1670076000-1670086800@destinationbedfordva.com
SUMMARY:Live Music at Fables & Feathers
DESCRIPTION:Come hang out at this gorgeous winery and sip on some delicious wine or beer and listen to live music! Some weekends there will also be a food truck or special event.  Click here to see the schedule! 
URL:https://destinationbedfordva.com/event/live-music-at-fables-feathers-2/2022-12-03/
LOCATION:Fables & Feathers Winery\, 2117 Bruno Dr.\, Goodview\, VA\, 24095
ATTACH;FMTTYPE=image/jpeg:https://destinationbedfordva.com/wp-content/uploads/2022/11/Fables-Feathers-photo-from-their-Facebook-page.jpg
END:VEVENT
BEGIN:VEVENT
DTSTART;TZID=America/New_York:20221202T163000
DTEND;TZID=America/New_York:20221202T193000
DTSTAMP:20260421T015307
CREATED:20221129T204942Z
LAST-MODIFIED:20231102T185037Z
UID:10050411-1669998600-1670009400@destinationbedfordva.com
SUMMARY:Live Music at Fables & Feathers
DESCRIPTION:Come hang out at this gorgeous winery and sip on some delicious wine or beer and listen to live music! Some weekends there will also be a food truck or special event.  Click here to see the schedule! 
URL:https://destinationbedfordva.com/event/live-music-at-fables-feathers-2/2022-12-02/
LOCATION:Fables & Feathers Winery\, 2117 Bruno Dr.\, Goodview\, VA\, 24095
ATTACH;FMTTYPE=image/jpeg:https://destinationbedfordva.com/wp-content/uploads/2022/11/Fables-Feathers-photo-from-their-Facebook-page.jpg
END:VEVENT
BEGIN:VEVENT
DTSTART;TZID=America/New_York:20221126T140000
DTEND;TZID=America/New_York:20221126T170000
DTSTAMP:20260421T015307
CREATED:20220901T193956Z
LAST-MODIFIED:20221108T202615Z
UID:10050260-1669471200-1669482000@destinationbedfordva.com
SUMMARY:Live Music at Fables & Feathers
DESCRIPTION:Come hang out at this gorgeous winery and sip on some delicious wine or beer and listen to live music! Some weekends there will also be a food truck or special event.  Click here to see the schedule! 
URL:https://destinationbedfordva.com/event/live-music-at-fables-feathers/2022-11-26/
LOCATION:Fables & Feathers Winery\, 2117 Bruno Dr.\, Goodview\, VA\, 24095
ATTACH;FMTTYPE=image/jpeg:https://destinationbedfordva.com/wp-content/uploads/2022/09/FF-from-fb.jpg
END:VEVENT
BEGIN:VEVENT
DTSTART;TZID=America/New_York:20221119T110000
DTEND;TZID=America/New_York:20221119T180000
DTSTAMP:20260421T015307
CREATED:20220901T193956Z
LAST-MODIFIED:20221108T202615Z
UID:10050259-1668855600-1668880800@destinationbedfordva.com
SUMMARY:Live Music at Fables & Feathers
DESCRIPTION:Come hang out at this gorgeous winery and sip on some delicious wine or beer and listen to live music! Some weekends there will also be a food truck or special event.  Click here to see the schedule! 
URL:https://destinationbedfordva.com/event/live-music-at-fables-feathers/2022-11-19/
LOCATION:Fables & Feathers Winery\, 2117 Bruno Dr.\, Goodview\, VA\, 24095
ATTACH;FMTTYPE=image/jpeg:https://destinationbedfordva.com/wp-content/uploads/2022/09/FF-from-fb.jpg
END:VEVENT
BEGIN:VEVENT
DTSTART;TZID=America/New_York:20221113T140000
DTEND;TZID=America/New_York:20221113T170000
DTSTAMP:20260421T015307
CREATED:20220901T193956Z
LAST-MODIFIED:20221108T202615Z
UID:10050258-1668348000-1668358800@destinationbedfordva.com
SUMMARY:Live Music at Fables & Feathers
DESCRIPTION:Come hang out at this gorgeous winery and sip on some delicious wine or beer and listen to live music! Some weekends there will also be a food truck or special event.  Click here to see the schedule! 
URL:https://destinationbedfordva.com/event/live-music-at-fables-feathers/2022-11-13/
LOCATION:Fables & Feathers Winery\, 2117 Bruno Dr.\, Goodview\, VA\, 24095
ATTACH;FMTTYPE=image/jpeg:https://destinationbedfordva.com/wp-content/uploads/2022/09/FF-from-fb.jpg
END:VEVENT
END:VCALENDAR