BEGIN:VCALENDAR
VERSION:2.0
PRODID:-//Destination Bedford - ECPv6.8.3//NONSGML v1.0//EN
CALSCALE:GREGORIAN
METHOD:PUBLISH
X-ORIGINAL-URL:https://destinationbedfordva.com
X-WR-CALDESC:Events for Destination Bedford
REFRESH-INTERVAL;VALUE=DURATION:PT1H
X-Robots-Tag:noindex
X-PUBLISHED-TTL:PT1H
BEGIN:VTIMEZONE
TZID:America/New_York
BEGIN:DAYLIGHT
TZOFFSETFROM:-0500
TZOFFSETTO:-0400
TZNAME:EDT
DTSTART:20260308T070000
END:DAYLIGHT
BEGIN:STANDARD
TZOFFSETFROM:-0400
TZOFFSETTO:-0500
TZNAME:EST
DTSTART:20261101T060000
END:STANDARD
END:VTIMEZONE
BEGIN:VEVENT
DTSTART;TZID=America/New_York:20260524T130000
DTEND;TZID=America/New_York:20260524T170000
DTSTAMP:20260420T104242
CREATED:20250827T205523Z
LAST-MODIFIED:20260213T192118Z
UID:10061830-1779627600-1779642000@destinationbedfordva.com
SUMMARY:Live Music at Harvest Moon
DESCRIPTION: \nCome see live music at Harvest Moon Marketplace! Click here to see who is playing this weekend! \n\n\nEnjoy beer\, wine\, meads\, ciders\, and non-alcoholic drinks\, along with delicious food and great shopping at the Marketplace. Free admission and free music!\n \n\n 
URL:https://destinationbedfordva.com/event/live-music-at-harvest-moon-10/2026-05-24/
LOCATION:Harvest Moon Marketplace\, 14917 Moneta Rd\, Moneta\, VA\, 24121\, United States
ATTACH;FMTTYPE=image/jpeg:https://destinationbedfordva.com/wp-content/uploads/2023/12/harvest-moon-logo.jpg
END:VEVENT
BEGIN:VEVENT
DTSTART;TZID=America/New_York:20260530T130000
DTEND;TZID=America/New_York:20260530T170000
DTSTAMP:20260420T104242
CREATED:20250827T205523Z
LAST-MODIFIED:20260213T192118Z
UID:10061831-1780146000-1780160400@destinationbedfordva.com
SUMMARY:Live Music at Harvest Moon
DESCRIPTION: \nCome see live music at Harvest Moon Marketplace! Click here to see who is playing this weekend! \n\n\nEnjoy beer\, wine\, meads\, ciders\, and non-alcoholic drinks\, along with delicious food and great shopping at the Marketplace. Free admission and free music!\n \n\n 
URL:https://destinationbedfordva.com/event/live-music-at-harvest-moon-10/2026-05-30/
LOCATION:Harvest Moon Marketplace\, 14917 Moneta Rd\, Moneta\, VA\, 24121\, United States
ATTACH;FMTTYPE=image/jpeg:https://destinationbedfordva.com/wp-content/uploads/2023/12/harvest-moon-logo.jpg
END:VEVENT
BEGIN:VEVENT
DTSTART;TZID=America/New_York:20260531T130000
DTEND;TZID=America/New_York:20260531T170000
DTSTAMP:20260420T104242
CREATED:20250827T205523Z
LAST-MODIFIED:20260213T192118Z
UID:10061832-1780232400-1780246800@destinationbedfordva.com
SUMMARY:Live Music at Harvest Moon
DESCRIPTION: \nCome see live music at Harvest Moon Marketplace! Click here to see who is playing this weekend! \n\n\nEnjoy beer\, wine\, meads\, ciders\, and non-alcoholic drinks\, along with delicious food and great shopping at the Marketplace. Free admission and free music!\n \n\n 
URL:https://destinationbedfordva.com/event/live-music-at-harvest-moon-10/2026-05-31/
LOCATION:Harvest Moon Marketplace\, 14917 Moneta Rd\, Moneta\, VA\, 24121\, United States
ATTACH;FMTTYPE=image/jpeg:https://destinationbedfordva.com/wp-content/uploads/2023/12/harvest-moon-logo.jpg
END:VEVENT
BEGIN:VEVENT
DTSTART;TZID=America/New_York:20260606T130000
DTEND;TZID=America/New_York:20260606T170000
DTSTAMP:20260420T104242
CREATED:20250827T205523Z
LAST-MODIFIED:20260213T192118Z
UID:10061833-1780750800-1780765200@destinationbedfordva.com
SUMMARY:Live Music at Harvest Moon
DESCRIPTION: \nCome see live music at Harvest Moon Marketplace! Click here to see who is playing this weekend! \n\n\nEnjoy beer\, wine\, meads\, ciders\, and non-alcoholic drinks\, along with delicious food and great shopping at the Marketplace. Free admission and free music!\n \n\n 
URL:https://destinationbedfordva.com/event/live-music-at-harvest-moon-10/2026-06-06/
LOCATION:Harvest Moon Marketplace\, 14917 Moneta Rd\, Moneta\, VA\, 24121\, United States
ATTACH;FMTTYPE=image/jpeg:https://destinationbedfordva.com/wp-content/uploads/2023/12/harvest-moon-logo.jpg
END:VEVENT
BEGIN:VEVENT
DTSTART;TZID=America/New_York:20260607T130000
DTEND;TZID=America/New_York:20260607T170000
DTSTAMP:20260420T104242
CREATED:20250827T205523Z
LAST-MODIFIED:20260213T192118Z
UID:10061834-1780837200-1780851600@destinationbedfordva.com
SUMMARY:Live Music at Harvest Moon
DESCRIPTION: \nCome see live music at Harvest Moon Marketplace! Click here to see who is playing this weekend! \n\n\nEnjoy beer\, wine\, meads\, ciders\, and non-alcoholic drinks\, along with delicious food and great shopping at the Marketplace. Free admission and free music!\n \n\n 
URL:https://destinationbedfordva.com/event/live-music-at-harvest-moon-10/2026-06-07/
LOCATION:Harvest Moon Marketplace\, 14917 Moneta Rd\, Moneta\, VA\, 24121\, United States
ATTACH;FMTTYPE=image/jpeg:https://destinationbedfordva.com/wp-content/uploads/2023/12/harvest-moon-logo.jpg
END:VEVENT
BEGIN:VEVENT
DTSTART;TZID=America/New_York:20260613T130000
DTEND;TZID=America/New_York:20260613T170000
DTSTAMP:20260420T104242
CREATED:20250827T205523Z
LAST-MODIFIED:20260213T192118Z
UID:10061835-1781355600-1781370000@destinationbedfordva.com
SUMMARY:Live Music at Harvest Moon
DESCRIPTION: \nCome see live music at Harvest Moon Marketplace! Click here to see who is playing this weekend! \n\n\nEnjoy beer\, wine\, meads\, ciders\, and non-alcoholic drinks\, along with delicious food and great shopping at the Marketplace. Free admission and free music!\n \n\n 
URL:https://destinationbedfordva.com/event/live-music-at-harvest-moon-10/2026-06-13/
LOCATION:Harvest Moon Marketplace\, 14917 Moneta Rd\, Moneta\, VA\, 24121\, United States
ATTACH;FMTTYPE=image/jpeg:https://destinationbedfordva.com/wp-content/uploads/2023/12/harvest-moon-logo.jpg
END:VEVENT
BEGIN:VEVENT
DTSTART;TZID=America/New_York:20260614T130000
DTEND;TZID=America/New_York:20260614T170000
DTSTAMP:20260420T104242
CREATED:20250827T205523Z
LAST-MODIFIED:20260213T192118Z
UID:10061836-1781442000-1781456400@destinationbedfordva.com
SUMMARY:Live Music at Harvest Moon
DESCRIPTION: \nCome see live music at Harvest Moon Marketplace! Click here to see who is playing this weekend! \n\n\nEnjoy beer\, wine\, meads\, ciders\, and non-alcoholic drinks\, along with delicious food and great shopping at the Marketplace. Free admission and free music!\n \n\n 
URL:https://destinationbedfordva.com/event/live-music-at-harvest-moon-10/2026-06-14/
LOCATION:Harvest Moon Marketplace\, 14917 Moneta Rd\, Moneta\, VA\, 24121\, United States
ATTACH;FMTTYPE=image/jpeg:https://destinationbedfordva.com/wp-content/uploads/2023/12/harvest-moon-logo.jpg
END:VEVENT
BEGIN:VEVENT
DTSTART;TZID=America/New_York:20260620T130000
DTEND;TZID=America/New_York:20260620T170000
DTSTAMP:20260420T104242
CREATED:20250827T205523Z
LAST-MODIFIED:20260213T192118Z
UID:10061837-1781960400-1781974800@destinationbedfordva.com
SUMMARY:Live Music at Harvest Moon
DESCRIPTION: \nCome see live music at Harvest Moon Marketplace! Click here to see who is playing this weekend! \n\n\nEnjoy beer\, wine\, meads\, ciders\, and non-alcoholic drinks\, along with delicious food and great shopping at the Marketplace. Free admission and free music!\n \n\n 
URL:https://destinationbedfordva.com/event/live-music-at-harvest-moon-10/2026-06-20/
LOCATION:Harvest Moon Marketplace\, 14917 Moneta Rd\, Moneta\, VA\, 24121\, United States
ATTACH;FMTTYPE=image/jpeg:https://destinationbedfordva.com/wp-content/uploads/2023/12/harvest-moon-logo.jpg
END:VEVENT
BEGIN:VEVENT
DTSTART;TZID=America/New_York:20260621T130000
DTEND;TZID=America/New_York:20260621T170000
DTSTAMP:20260420T104242
CREATED:20250827T205523Z
LAST-MODIFIED:20260213T192118Z
UID:10061838-1782046800-1782061200@destinationbedfordva.com
SUMMARY:Live Music at Harvest Moon
DESCRIPTION: \nCome see live music at Harvest Moon Marketplace! Click here to see who is playing this weekend! \n\n\nEnjoy beer\, wine\, meads\, ciders\, and non-alcoholic drinks\, along with delicious food and great shopping at the Marketplace. Free admission and free music!\n \n\n 
URL:https://destinationbedfordva.com/event/live-music-at-harvest-moon-10/2026-06-21/
LOCATION:Harvest Moon Marketplace\, 14917 Moneta Rd\, Moneta\, VA\, 24121\, United States
ATTACH;FMTTYPE=image/jpeg:https://destinationbedfordva.com/wp-content/uploads/2023/12/harvest-moon-logo.jpg
END:VEVENT
BEGIN:VEVENT
DTSTART;TZID=America/New_York:20260627T130000
DTEND;TZID=America/New_York:20260627T170000
DTSTAMP:20260420T104242
CREATED:20250827T205523Z
LAST-MODIFIED:20260213T192118Z
UID:10061839-1782565200-1782579600@destinationbedfordva.com
SUMMARY:Live Music at Harvest Moon
DESCRIPTION: \nCome see live music at Harvest Moon Marketplace! Click here to see who is playing this weekend! \n\n\nEnjoy beer\, wine\, meads\, ciders\, and non-alcoholic drinks\, along with delicious food and great shopping at the Marketplace. Free admission and free music!\n \n\n 
URL:https://destinationbedfordva.com/event/live-music-at-harvest-moon-10/2026-06-27/
LOCATION:Harvest Moon Marketplace\, 14917 Moneta Rd\, Moneta\, VA\, 24121\, United States
ATTACH;FMTTYPE=image/jpeg:https://destinationbedfordva.com/wp-content/uploads/2023/12/harvest-moon-logo.jpg
END:VEVENT
BEGIN:VEVENT
DTSTART;TZID=America/New_York:20260628T130000
DTEND;TZID=America/New_York:20260628T170000
DTSTAMP:20260420T104242
CREATED:20250827T205523Z
LAST-MODIFIED:20260213T192118Z
UID:10061840-1782651600-1782666000@destinationbedfordva.com
SUMMARY:Live Music at Harvest Moon
DESCRIPTION: \nCome see live music at Harvest Moon Marketplace! Click here to see who is playing this weekend! \n\n\nEnjoy beer\, wine\, meads\, ciders\, and non-alcoholic drinks\, along with delicious food and great shopping at the Marketplace. Free admission and free music!\n \n\n 
URL:https://destinationbedfordva.com/event/live-music-at-harvest-moon-10/2026-06-28/
LOCATION:Harvest Moon Marketplace\, 14917 Moneta Rd\, Moneta\, VA\, 24121\, United States
ATTACH;FMTTYPE=image/jpeg:https://destinationbedfordva.com/wp-content/uploads/2023/12/harvest-moon-logo.jpg
END:VEVENT
BEGIN:VEVENT
DTSTART;TZID=America/New_York:20260704T130000
DTEND;TZID=America/New_York:20260704T170000
DTSTAMP:20260420T104242
CREATED:20250827T205523Z
LAST-MODIFIED:20260213T192118Z
UID:10061841-1783170000-1783184400@destinationbedfordva.com
SUMMARY:Live Music at Harvest Moon
DESCRIPTION: \nCome see live music at Harvest Moon Marketplace! Click here to see who is playing this weekend! \n\n\nEnjoy beer\, wine\, meads\, ciders\, and non-alcoholic drinks\, along with delicious food and great shopping at the Marketplace. Free admission and free music!\n \n\n 
URL:https://destinationbedfordva.com/event/live-music-at-harvest-moon-10/2026-07-04/
LOCATION:Harvest Moon Marketplace\, 14917 Moneta Rd\, Moneta\, VA\, 24121\, United States
ATTACH;FMTTYPE=image/jpeg:https://destinationbedfordva.com/wp-content/uploads/2023/12/harvest-moon-logo.jpg
END:VEVENT
BEGIN:VEVENT
DTSTART;TZID=America/New_York:20260705T130000
DTEND;TZID=America/New_York:20260705T170000
DTSTAMP:20260420T104242
CREATED:20250827T205523Z
LAST-MODIFIED:20260213T192118Z
UID:10061842-1783256400-1783270800@destinationbedfordva.com
SUMMARY:Live Music at Harvest Moon
DESCRIPTION: \nCome see live music at Harvest Moon Marketplace! Click here to see who is playing this weekend! \n\n\nEnjoy beer\, wine\, meads\, ciders\, and non-alcoholic drinks\, along with delicious food and great shopping at the Marketplace. Free admission and free music!\n \n\n 
URL:https://destinationbedfordva.com/event/live-music-at-harvest-moon-10/2026-07-05/
LOCATION:Harvest Moon Marketplace\, 14917 Moneta Rd\, Moneta\, VA\, 24121\, United States
ATTACH;FMTTYPE=image/jpeg:https://destinationbedfordva.com/wp-content/uploads/2023/12/harvest-moon-logo.jpg
END:VEVENT
BEGIN:VEVENT
DTSTART;TZID=America/New_York:20260711T130000
DTEND;TZID=America/New_York:20260711T170000
DTSTAMP:20260420T104242
CREATED:20250827T205523Z
LAST-MODIFIED:20260213T192118Z
UID:10061843-1783774800-1783789200@destinationbedfordva.com
SUMMARY:Live Music at Harvest Moon
DESCRIPTION: \nCome see live music at Harvest Moon Marketplace! Click here to see who is playing this weekend! \n\n\nEnjoy beer\, wine\, meads\, ciders\, and non-alcoholic drinks\, along with delicious food and great shopping at the Marketplace. Free admission and free music!\n \n\n 
URL:https://destinationbedfordva.com/event/live-music-at-harvest-moon-10/2026-07-11/
LOCATION:Harvest Moon Marketplace\, 14917 Moneta Rd\, Moneta\, VA\, 24121\, United States
ATTACH;FMTTYPE=image/jpeg:https://destinationbedfordva.com/wp-content/uploads/2023/12/harvest-moon-logo.jpg
END:VEVENT
BEGIN:VEVENT
DTSTART;TZID=America/New_York:20260712T130000
DTEND;TZID=America/New_York:20260712T170000
DTSTAMP:20260420T104242
CREATED:20250827T205523Z
LAST-MODIFIED:20260213T192118Z
UID:10061844-1783861200-1783875600@destinationbedfordva.com
SUMMARY:Live Music at Harvest Moon
DESCRIPTION: \nCome see live music at Harvest Moon Marketplace! Click here to see who is playing this weekend! \n\n\nEnjoy beer\, wine\, meads\, ciders\, and non-alcoholic drinks\, along with delicious food and great shopping at the Marketplace. Free admission and free music!\n \n\n 
URL:https://destinationbedfordva.com/event/live-music-at-harvest-moon-10/2026-07-12/
LOCATION:Harvest Moon Marketplace\, 14917 Moneta Rd\, Moneta\, VA\, 24121\, United States
ATTACH;FMTTYPE=image/jpeg:https://destinationbedfordva.com/wp-content/uploads/2023/12/harvest-moon-logo.jpg
END:VEVENT
BEGIN:VEVENT
DTSTART;TZID=America/New_York:20260718T130000
DTEND;TZID=America/New_York:20260718T170000
DTSTAMP:20260420T104242
CREATED:20250827T205523Z
LAST-MODIFIED:20260213T192118Z
UID:10061845-1784379600-1784394000@destinationbedfordva.com
SUMMARY:Live Music at Harvest Moon
DESCRIPTION: \nCome see live music at Harvest Moon Marketplace! Click here to see who is playing this weekend! \n\n\nEnjoy beer\, wine\, meads\, ciders\, and non-alcoholic drinks\, along with delicious food and great shopping at the Marketplace. Free admission and free music!\n \n\n 
URL:https://destinationbedfordva.com/event/live-music-at-harvest-moon-10/2026-07-18/
LOCATION:Harvest Moon Marketplace\, 14917 Moneta Rd\, Moneta\, VA\, 24121\, United States
ATTACH;FMTTYPE=image/jpeg:https://destinationbedfordva.com/wp-content/uploads/2023/12/harvest-moon-logo.jpg
END:VEVENT
BEGIN:VEVENT
DTSTART;TZID=America/New_York:20260719T130000
DTEND;TZID=America/New_York:20260719T170000
DTSTAMP:20260420T104242
CREATED:20250827T205523Z
LAST-MODIFIED:20260213T192118Z
UID:10061846-1784466000-1784480400@destinationbedfordva.com
SUMMARY:Live Music at Harvest Moon
DESCRIPTION: \nCome see live music at Harvest Moon Marketplace! Click here to see who is playing this weekend! \n\n\nEnjoy beer\, wine\, meads\, ciders\, and non-alcoholic drinks\, along with delicious food and great shopping at the Marketplace. Free admission and free music!\n \n\n 
URL:https://destinationbedfordva.com/event/live-music-at-harvest-moon-10/2026-07-19/
LOCATION:Harvest Moon Marketplace\, 14917 Moneta Rd\, Moneta\, VA\, 24121\, United States
ATTACH;FMTTYPE=image/jpeg:https://destinationbedfordva.com/wp-content/uploads/2023/12/harvest-moon-logo.jpg
END:VEVENT
BEGIN:VEVENT
DTSTART;TZID=America/New_York:20260725T130000
DTEND;TZID=America/New_York:20260725T170000
DTSTAMP:20260420T104242
CREATED:20250827T205523Z
LAST-MODIFIED:20260213T192118Z
UID:10061847-1784984400-1784998800@destinationbedfordva.com
SUMMARY:Live Music at Harvest Moon
DESCRIPTION: \nCome see live music at Harvest Moon Marketplace! Click here to see who is playing this weekend! \n\n\nEnjoy beer\, wine\, meads\, ciders\, and non-alcoholic drinks\, along with delicious food and great shopping at the Marketplace. Free admission and free music!\n \n\n 
URL:https://destinationbedfordva.com/event/live-music-at-harvest-moon-10/2026-07-25/
LOCATION:Harvest Moon Marketplace\, 14917 Moneta Rd\, Moneta\, VA\, 24121\, United States
ATTACH;FMTTYPE=image/jpeg:https://destinationbedfordva.com/wp-content/uploads/2023/12/harvest-moon-logo.jpg
END:VEVENT
BEGIN:VEVENT
DTSTART;TZID=America/New_York:20260726T130000
DTEND;TZID=America/New_York:20260726T170000
DTSTAMP:20260420T104242
CREATED:20250827T205523Z
LAST-MODIFIED:20260213T192118Z
UID:10061848-1785070800-1785085200@destinationbedfordva.com
SUMMARY:Live Music at Harvest Moon
DESCRIPTION: \nCome see live music at Harvest Moon Marketplace! Click here to see who is playing this weekend! \n\n\nEnjoy beer\, wine\, meads\, ciders\, and non-alcoholic drinks\, along with delicious food and great shopping at the Marketplace. Free admission and free music!\n \n\n 
URL:https://destinationbedfordva.com/event/live-music-at-harvest-moon-10/2026-07-26/
LOCATION:Harvest Moon Marketplace\, 14917 Moneta Rd\, Moneta\, VA\, 24121\, United States
ATTACH;FMTTYPE=image/jpeg:https://destinationbedfordva.com/wp-content/uploads/2023/12/harvest-moon-logo.jpg
END:VEVENT
BEGIN:VEVENT
DTSTART;TZID=America/New_York:20260801T130000
DTEND;TZID=America/New_York:20260801T170000
DTSTAMP:20260420T104242
CREATED:20250827T205523Z
LAST-MODIFIED:20260213T192118Z
UID:10061849-1785589200-1785603600@destinationbedfordva.com
SUMMARY:Live Music at Harvest Moon
DESCRIPTION: \nCome see live music at Harvest Moon Marketplace! Click here to see who is playing this weekend! \n\n\nEnjoy beer\, wine\, meads\, ciders\, and non-alcoholic drinks\, along with delicious food and great shopping at the Marketplace. Free admission and free music!\n \n\n 
URL:https://destinationbedfordva.com/event/live-music-at-harvest-moon-10/2026-08-01/
LOCATION:Harvest Moon Marketplace\, 14917 Moneta Rd\, Moneta\, VA\, 24121\, United States
ATTACH;FMTTYPE=image/jpeg:https://destinationbedfordva.com/wp-content/uploads/2023/12/harvest-moon-logo.jpg
END:VEVENT
BEGIN:VEVENT
DTSTART;TZID=America/New_York:20260802T130000
DTEND;TZID=America/New_York:20260802T170000
DTSTAMP:20260420T104242
CREATED:20250827T205523Z
LAST-MODIFIED:20260213T192118Z
UID:10061850-1785675600-1785690000@destinationbedfordva.com
SUMMARY:Live Music at Harvest Moon
DESCRIPTION: \nCome see live music at Harvest Moon Marketplace! Click here to see who is playing this weekend! \n\n\nEnjoy beer\, wine\, meads\, ciders\, and non-alcoholic drinks\, along with delicious food and great shopping at the Marketplace. Free admission and free music!\n \n\n 
URL:https://destinationbedfordva.com/event/live-music-at-harvest-moon-10/2026-08-02/
LOCATION:Harvest Moon Marketplace\, 14917 Moneta Rd\, Moneta\, VA\, 24121\, United States
ATTACH;FMTTYPE=image/jpeg:https://destinationbedfordva.com/wp-content/uploads/2023/12/harvest-moon-logo.jpg
END:VEVENT
BEGIN:VEVENT
DTSTART;TZID=America/New_York:20260808T130000
DTEND;TZID=America/New_York:20260808T170000
DTSTAMP:20260420T104242
CREATED:20250827T205523Z
LAST-MODIFIED:20260213T192118Z
UID:10061851-1786194000-1786208400@destinationbedfordva.com
SUMMARY:Live Music at Harvest Moon
DESCRIPTION: \nCome see live music at Harvest Moon Marketplace! Click here to see who is playing this weekend! \n\n\nEnjoy beer\, wine\, meads\, ciders\, and non-alcoholic drinks\, along with delicious food and great shopping at the Marketplace. Free admission and free music!\n \n\n 
URL:https://destinationbedfordva.com/event/live-music-at-harvest-moon-10/2026-08-08/
LOCATION:Harvest Moon Marketplace\, 14917 Moneta Rd\, Moneta\, VA\, 24121\, United States
ATTACH;FMTTYPE=image/jpeg:https://destinationbedfordva.com/wp-content/uploads/2023/12/harvest-moon-logo.jpg
END:VEVENT
BEGIN:VEVENT
DTSTART;TZID=America/New_York:20260809T130000
DTEND;TZID=America/New_York:20260809T170000
DTSTAMP:20260420T104242
CREATED:20250827T205523Z
LAST-MODIFIED:20260213T192118Z
UID:10061852-1786280400-1786294800@destinationbedfordva.com
SUMMARY:Live Music at Harvest Moon
DESCRIPTION: \nCome see live music at Harvest Moon Marketplace! Click here to see who is playing this weekend! \n\n\nEnjoy beer\, wine\, meads\, ciders\, and non-alcoholic drinks\, along with delicious food and great shopping at the Marketplace. Free admission and free music!\n \n\n 
URL:https://destinationbedfordva.com/event/live-music-at-harvest-moon-10/2026-08-09/
LOCATION:Harvest Moon Marketplace\, 14917 Moneta Rd\, Moneta\, VA\, 24121\, United States
ATTACH;FMTTYPE=image/jpeg:https://destinationbedfordva.com/wp-content/uploads/2023/12/harvest-moon-logo.jpg
END:VEVENT
BEGIN:VEVENT
DTSTART;TZID=America/New_York:20260815T130000
DTEND;TZID=America/New_York:20260815T170000
DTSTAMP:20260420T104242
CREATED:20250827T205523Z
LAST-MODIFIED:20260213T192118Z
UID:10061853-1786798800-1786813200@destinationbedfordva.com
SUMMARY:Live Music at Harvest Moon
DESCRIPTION: \nCome see live music at Harvest Moon Marketplace! Click here to see who is playing this weekend! \n\n\nEnjoy beer\, wine\, meads\, ciders\, and non-alcoholic drinks\, along with delicious food and great shopping at the Marketplace. Free admission and free music!\n \n\n 
URL:https://destinationbedfordva.com/event/live-music-at-harvest-moon-10/2026-08-15/
LOCATION:Harvest Moon Marketplace\, 14917 Moneta Rd\, Moneta\, VA\, 24121\, United States
ATTACH;FMTTYPE=image/jpeg:https://destinationbedfordva.com/wp-content/uploads/2023/12/harvest-moon-logo.jpg
END:VEVENT
BEGIN:VEVENT
DTSTART;TZID=America/New_York:20260816T130000
DTEND;TZID=America/New_York:20260816T170000
DTSTAMP:20260420T104242
CREATED:20250827T205523Z
LAST-MODIFIED:20260213T192118Z
UID:10061854-1786885200-1786899600@destinationbedfordva.com
SUMMARY:Live Music at Harvest Moon
DESCRIPTION: \nCome see live music at Harvest Moon Marketplace! Click here to see who is playing this weekend! \n\n\nEnjoy beer\, wine\, meads\, ciders\, and non-alcoholic drinks\, along with delicious food and great shopping at the Marketplace. Free admission and free music!\n \n\n 
URL:https://destinationbedfordva.com/event/live-music-at-harvest-moon-10/2026-08-16/
LOCATION:Harvest Moon Marketplace\, 14917 Moneta Rd\, Moneta\, VA\, 24121\, United States
ATTACH;FMTTYPE=image/jpeg:https://destinationbedfordva.com/wp-content/uploads/2023/12/harvest-moon-logo.jpg
END:VEVENT
BEGIN:VEVENT
DTSTART;TZID=America/New_York:20260822T130000
DTEND;TZID=America/New_York:20260822T170000
DTSTAMP:20260420T104242
CREATED:20250827T205523Z
LAST-MODIFIED:20260213T192118Z
UID:10061855-1787403600-1787418000@destinationbedfordva.com
SUMMARY:Live Music at Harvest Moon
DESCRIPTION: \nCome see live music at Harvest Moon Marketplace! Click here to see who is playing this weekend! \n\n\nEnjoy beer\, wine\, meads\, ciders\, and non-alcoholic drinks\, along with delicious food and great shopping at the Marketplace. Free admission and free music!\n \n\n 
URL:https://destinationbedfordva.com/event/live-music-at-harvest-moon-10/2026-08-22/
LOCATION:Harvest Moon Marketplace\, 14917 Moneta Rd\, Moneta\, VA\, 24121\, United States
ATTACH;FMTTYPE=image/jpeg:https://destinationbedfordva.com/wp-content/uploads/2023/12/harvest-moon-logo.jpg
END:VEVENT
BEGIN:VEVENT
DTSTART;TZID=America/New_York:20260823T130000
DTEND;TZID=America/New_York:20260823T170000
DTSTAMP:20260420T104242
CREATED:20250827T205523Z
LAST-MODIFIED:20260213T192118Z
UID:10061856-1787490000-1787504400@destinationbedfordva.com
SUMMARY:Live Music at Harvest Moon
DESCRIPTION: \nCome see live music at Harvest Moon Marketplace! Click here to see who is playing this weekend! \n\n\nEnjoy beer\, wine\, meads\, ciders\, and non-alcoholic drinks\, along with delicious food and great shopping at the Marketplace. Free admission and free music!\n \n\n 
URL:https://destinationbedfordva.com/event/live-music-at-harvest-moon-10/2026-08-23/
LOCATION:Harvest Moon Marketplace\, 14917 Moneta Rd\, Moneta\, VA\, 24121\, United States
ATTACH;FMTTYPE=image/jpeg:https://destinationbedfordva.com/wp-content/uploads/2023/12/harvest-moon-logo.jpg
END:VEVENT
BEGIN:VEVENT
DTSTART;TZID=America/New_York:20260829T130000
DTEND;TZID=America/New_York:20260829T170000
DTSTAMP:20260420T104242
CREATED:20250827T205523Z
LAST-MODIFIED:20260213T192118Z
UID:10061857-1788008400-1788022800@destinationbedfordva.com
SUMMARY:Live Music at Harvest Moon
DESCRIPTION: \nCome see live music at Harvest Moon Marketplace! Click here to see who is playing this weekend! \n\n\nEnjoy beer\, wine\, meads\, ciders\, and non-alcoholic drinks\, along with delicious food and great shopping at the Marketplace. Free admission and free music!\n \n\n 
URL:https://destinationbedfordva.com/event/live-music-at-harvest-moon-10/2026-08-29/
LOCATION:Harvest Moon Marketplace\, 14917 Moneta Rd\, Moneta\, VA\, 24121\, United States
ATTACH;FMTTYPE=image/jpeg:https://destinationbedfordva.com/wp-content/uploads/2023/12/harvest-moon-logo.jpg
END:VEVENT
BEGIN:VEVENT
DTSTART;TZID=America/New_York:20260830T130000
DTEND;TZID=America/New_York:20260830T170000
DTSTAMP:20260420T104242
CREATED:20250827T205523Z
LAST-MODIFIED:20260213T192118Z
UID:10061858-1788094800-1788109200@destinationbedfordva.com
SUMMARY:Live Music at Harvest Moon
DESCRIPTION: \nCome see live music at Harvest Moon Marketplace! Click here to see who is playing this weekend! \n\n\nEnjoy beer\, wine\, meads\, ciders\, and non-alcoholic drinks\, along with delicious food and great shopping at the Marketplace. Free admission and free music!\n \n\n 
URL:https://destinationbedfordva.com/event/live-music-at-harvest-moon-10/2026-08-30/
LOCATION:Harvest Moon Marketplace\, 14917 Moneta Rd\, Moneta\, VA\, 24121\, United States
ATTACH;FMTTYPE=image/jpeg:https://destinationbedfordva.com/wp-content/uploads/2023/12/harvest-moon-logo.jpg
END:VEVENT
BEGIN:VEVENT
DTSTART;TZID=America/New_York:20260905T130000
DTEND;TZID=America/New_York:20260905T170000
DTSTAMP:20260420T104242
CREATED:20250827T205523Z
LAST-MODIFIED:20260213T192118Z
UID:10061859-1788613200-1788627600@destinationbedfordva.com
SUMMARY:Live Music at Harvest Moon
DESCRIPTION: \nCome see live music at Harvest Moon Marketplace! Click here to see who is playing this weekend! \n\n\nEnjoy beer\, wine\, meads\, ciders\, and non-alcoholic drinks\, along with delicious food and great shopping at the Marketplace. Free admission and free music!\n \n\n 
URL:https://destinationbedfordva.com/event/live-music-at-harvest-moon-10/2026-09-05/
LOCATION:Harvest Moon Marketplace\, 14917 Moneta Rd\, Moneta\, VA\, 24121\, United States
ATTACH;FMTTYPE=image/jpeg:https://destinationbedfordva.com/wp-content/uploads/2023/12/harvest-moon-logo.jpg
END:VEVENT
END:VCALENDAR