BEGIN:VCALENDAR
VERSION:2.0
PRODID:-//Destination Bedford - ECPv6.8.3//NONSGML v1.0//EN
CALSCALE:GREGORIAN
METHOD:PUBLISH
X-WR-CALNAME:Destination Bedford
X-ORIGINAL-URL:https://destinationbedfordva.com
X-WR-CALDESC:Events for Destination Bedford
REFRESH-INTERVAL;VALUE=DURATION:PT1H
X-Robots-Tag:noindex
X-PUBLISHED-TTL:PT1H
BEGIN:VTIMEZONE
TZID:America/New_York
BEGIN:DAYLIGHT
TZOFFSETFROM:-0500
TZOFFSETTO:-0400
TZNAME:EDT
DTSTART:20270314T070000
END:DAYLIGHT
BEGIN:STANDARD
TZOFFSETFROM:-0400
TZOFFSETTO:-0500
TZNAME:EST
DTSTART:20271107T060000
END:STANDARD
BEGIN:DAYLIGHT
TZOFFSETFROM:-0500
TZOFFSETTO:-0400
TZNAME:EDT
DTSTART:20280312T070000
END:DAYLIGHT
BEGIN:STANDARD
TZOFFSETFROM:-0400
TZOFFSETTO:-0500
TZNAME:EST
DTSTART:20281105T060000
END:STANDARD
END:VTIMEZONE
BEGIN:VEVENT
DTSTART;TZID=America/New_York:20271212T130000
DTEND;TZID=America/New_York:20271212T170000
DTSTAMP:20260422T231442
CREATED:20250827T205523Z
LAST-MODIFIED:20260213T192118Z
UID:10061992-1828616400-1828630800@destinationbedfordva.com
SUMMARY:Live Music at Harvest Moon
DESCRIPTION: \nCome see live music at Harvest Moon Marketplace! Click here to see who is playing this weekend! \n\n\nEnjoy beer\, wine\, meads\, ciders\, and non-alcoholic drinks\, along with delicious food and great shopping at the Marketplace. Free admission and free music!\n \n\n 
URL:https://destinationbedfordva.com/event/live-music-at-harvest-moon-10/2027-12-12/
LOCATION:Harvest Moon Marketplace\, 14917 Moneta Rd\, Moneta\, VA\, 24121\, United States
ATTACH;FMTTYPE=image/jpeg:https://destinationbedfordva.com/wp-content/uploads/2023/12/harvest-moon-logo.jpg
END:VEVENT
BEGIN:VEVENT
DTSTART;TZID=America/New_York:20271218T130000
DTEND;TZID=America/New_York:20271218T170000
DTSTAMP:20260422T231442
CREATED:20250827T205523Z
LAST-MODIFIED:20260213T192118Z
UID:10061993-1829134800-1829149200@destinationbedfordva.com
SUMMARY:Live Music at Harvest Moon
DESCRIPTION: \nCome see live music at Harvest Moon Marketplace! Click here to see who is playing this weekend! \n\n\nEnjoy beer\, wine\, meads\, ciders\, and non-alcoholic drinks\, along with delicious food and great shopping at the Marketplace. Free admission and free music!\n \n\n 
URL:https://destinationbedfordva.com/event/live-music-at-harvest-moon-10/2027-12-18/
LOCATION:Harvest Moon Marketplace\, 14917 Moneta Rd\, Moneta\, VA\, 24121\, United States
ATTACH;FMTTYPE=image/jpeg:https://destinationbedfordva.com/wp-content/uploads/2023/12/harvest-moon-logo.jpg
END:VEVENT
BEGIN:VEVENT
DTSTART;TZID=America/New_York:20271219T130000
DTEND;TZID=America/New_York:20271219T170000
DTSTAMP:20260422T231442
CREATED:20250827T205523Z
LAST-MODIFIED:20260213T192118Z
UID:10061994-1829221200-1829235600@destinationbedfordva.com
SUMMARY:Live Music at Harvest Moon
DESCRIPTION: \nCome see live music at Harvest Moon Marketplace! Click here to see who is playing this weekend! \n\n\nEnjoy beer\, wine\, meads\, ciders\, and non-alcoholic drinks\, along with delicious food and great shopping at the Marketplace. Free admission and free music!\n \n\n 
URL:https://destinationbedfordva.com/event/live-music-at-harvest-moon-10/2027-12-19/
LOCATION:Harvest Moon Marketplace\, 14917 Moneta Rd\, Moneta\, VA\, 24121\, United States
ATTACH;FMTTYPE=image/jpeg:https://destinationbedfordva.com/wp-content/uploads/2023/12/harvest-moon-logo.jpg
END:VEVENT
BEGIN:VEVENT
DTSTART;TZID=America/New_York:20271225T130000
DTEND;TZID=America/New_York:20271225T170000
DTSTAMP:20260422T231442
CREATED:20250827T205523Z
LAST-MODIFIED:20260213T192118Z
UID:10061995-1829739600-1829754000@destinationbedfordva.com
SUMMARY:Live Music at Harvest Moon
DESCRIPTION: \nCome see live music at Harvest Moon Marketplace! Click here to see who is playing this weekend! \n\n\nEnjoy beer\, wine\, meads\, ciders\, and non-alcoholic drinks\, along with delicious food and great shopping at the Marketplace. Free admission and free music!\n \n\n 
URL:https://destinationbedfordva.com/event/live-music-at-harvest-moon-10/2027-12-25/
LOCATION:Harvest Moon Marketplace\, 14917 Moneta Rd\, Moneta\, VA\, 24121\, United States
ATTACH;FMTTYPE=image/jpeg:https://destinationbedfordva.com/wp-content/uploads/2023/12/harvest-moon-logo.jpg
END:VEVENT
BEGIN:VEVENT
DTSTART;TZID=America/New_York:20271226T130000
DTEND;TZID=America/New_York:20271226T170000
DTSTAMP:20260422T231442
CREATED:20250827T205523Z
LAST-MODIFIED:20260213T192118Z
UID:10061996-1829826000-1829840400@destinationbedfordva.com
SUMMARY:Live Music at Harvest Moon
DESCRIPTION: \nCome see live music at Harvest Moon Marketplace! Click here to see who is playing this weekend! \n\n\nEnjoy beer\, wine\, meads\, ciders\, and non-alcoholic drinks\, along with delicious food and great shopping at the Marketplace. Free admission and free music!\n \n\n 
URL:https://destinationbedfordva.com/event/live-music-at-harvest-moon-10/2027-12-26/
LOCATION:Harvest Moon Marketplace\, 14917 Moneta Rd\, Moneta\, VA\, 24121\, United States
ATTACH;FMTTYPE=image/jpeg:https://destinationbedfordva.com/wp-content/uploads/2023/12/harvest-moon-logo.jpg
END:VEVENT
BEGIN:VEVENT
DTSTART;TZID=America/New_York:20280101T130000
DTEND;TZID=America/New_York:20280101T170000
DTSTAMP:20260422T231442
CREATED:20250827T205523Z
LAST-MODIFIED:20260213T192118Z
UID:10061997-1830344400-1830358800@destinationbedfordva.com
SUMMARY:Live Music at Harvest Moon
DESCRIPTION: \nCome see live music at Harvest Moon Marketplace! Click here to see who is playing this weekend! \n\n\nEnjoy beer\, wine\, meads\, ciders\, and non-alcoholic drinks\, along with delicious food and great shopping at the Marketplace. Free admission and free music!\n \n\n 
URL:https://destinationbedfordva.com/event/live-music-at-harvest-moon-10/2028-01-01/
LOCATION:Harvest Moon Marketplace\, 14917 Moneta Rd\, Moneta\, VA\, 24121\, United States
ATTACH;FMTTYPE=image/jpeg:https://destinationbedfordva.com/wp-content/uploads/2023/12/harvest-moon-logo.jpg
END:VEVENT
BEGIN:VEVENT
DTSTART;TZID=America/New_York:20280102T130000
DTEND;TZID=America/New_York:20280102T170000
DTSTAMP:20260422T231442
CREATED:20250827T205523Z
LAST-MODIFIED:20260213T192118Z
UID:10061998-1830430800-1830445200@destinationbedfordva.com
SUMMARY:Live Music at Harvest Moon
DESCRIPTION: \nCome see live music at Harvest Moon Marketplace! Click here to see who is playing this weekend! \n\n\nEnjoy beer\, wine\, meads\, ciders\, and non-alcoholic drinks\, along with delicious food and great shopping at the Marketplace. Free admission and free music!\n \n\n 
URL:https://destinationbedfordva.com/event/live-music-at-harvest-moon-10/2028-01-02/
LOCATION:Harvest Moon Marketplace\, 14917 Moneta Rd\, Moneta\, VA\, 24121\, United States
ATTACH;FMTTYPE=image/jpeg:https://destinationbedfordva.com/wp-content/uploads/2023/12/harvest-moon-logo.jpg
END:VEVENT
BEGIN:VEVENT
DTSTART;TZID=America/New_York:20280108T130000
DTEND;TZID=America/New_York:20280108T170000
DTSTAMP:20260422T231442
CREATED:20250827T205523Z
LAST-MODIFIED:20260213T192118Z
UID:10061999-1830949200-1830963600@destinationbedfordva.com
SUMMARY:Live Music at Harvest Moon
DESCRIPTION: \nCome see live music at Harvest Moon Marketplace! Click here to see who is playing this weekend! \n\n\nEnjoy beer\, wine\, meads\, ciders\, and non-alcoholic drinks\, along with delicious food and great shopping at the Marketplace. Free admission and free music!\n \n\n 
URL:https://destinationbedfordva.com/event/live-music-at-harvest-moon-10/2028-01-08/
LOCATION:Harvest Moon Marketplace\, 14917 Moneta Rd\, Moneta\, VA\, 24121\, United States
ATTACH;FMTTYPE=image/jpeg:https://destinationbedfordva.com/wp-content/uploads/2023/12/harvest-moon-logo.jpg
END:VEVENT
BEGIN:VEVENT
DTSTART;TZID=America/New_York:20280109T130000
DTEND;TZID=America/New_York:20280109T170000
DTSTAMP:20260422T231442
CREATED:20250827T205523Z
LAST-MODIFIED:20260213T192118Z
UID:10062000-1831035600-1831050000@destinationbedfordva.com
SUMMARY:Live Music at Harvest Moon
DESCRIPTION: \nCome see live music at Harvest Moon Marketplace! Click here to see who is playing this weekend! \n\n\nEnjoy beer\, wine\, meads\, ciders\, and non-alcoholic drinks\, along with delicious food and great shopping at the Marketplace. Free admission and free music!\n \n\n 
URL:https://destinationbedfordva.com/event/live-music-at-harvest-moon-10/2028-01-09/
LOCATION:Harvest Moon Marketplace\, 14917 Moneta Rd\, Moneta\, VA\, 24121\, United States
ATTACH;FMTTYPE=image/jpeg:https://destinationbedfordva.com/wp-content/uploads/2023/12/harvest-moon-logo.jpg
END:VEVENT
BEGIN:VEVENT
DTSTART;TZID=America/New_York:20280115T130000
DTEND;TZID=America/New_York:20280115T170000
DTSTAMP:20260422T231442
CREATED:20250827T205523Z
LAST-MODIFIED:20260213T192118Z
UID:10062001-1831554000-1831568400@destinationbedfordva.com
SUMMARY:Live Music at Harvest Moon
DESCRIPTION: \nCome see live music at Harvest Moon Marketplace! Click here to see who is playing this weekend! \n\n\nEnjoy beer\, wine\, meads\, ciders\, and non-alcoholic drinks\, along with delicious food and great shopping at the Marketplace. Free admission and free music!\n \n\n 
URL:https://destinationbedfordva.com/event/live-music-at-harvest-moon-10/2028-01-15/
LOCATION:Harvest Moon Marketplace\, 14917 Moneta Rd\, Moneta\, VA\, 24121\, United States
ATTACH;FMTTYPE=image/jpeg:https://destinationbedfordva.com/wp-content/uploads/2023/12/harvest-moon-logo.jpg
END:VEVENT
BEGIN:VEVENT
DTSTART;TZID=America/New_York:20280116T130000
DTEND;TZID=America/New_York:20280116T170000
DTSTAMP:20260422T231442
CREATED:20250827T205523Z
LAST-MODIFIED:20260213T192118Z
UID:10062002-1831640400-1831654800@destinationbedfordva.com
SUMMARY:Live Music at Harvest Moon
DESCRIPTION: \nCome see live music at Harvest Moon Marketplace! Click here to see who is playing this weekend! \n\n\nEnjoy beer\, wine\, meads\, ciders\, and non-alcoholic drinks\, along with delicious food and great shopping at the Marketplace. Free admission and free music!\n \n\n 
URL:https://destinationbedfordva.com/event/live-music-at-harvest-moon-10/2028-01-16/
LOCATION:Harvest Moon Marketplace\, 14917 Moneta Rd\, Moneta\, VA\, 24121\, United States
ATTACH;FMTTYPE=image/jpeg:https://destinationbedfordva.com/wp-content/uploads/2023/12/harvest-moon-logo.jpg
END:VEVENT
BEGIN:VEVENT
DTSTART;TZID=America/New_York:20280122T130000
DTEND;TZID=America/New_York:20280122T170000
DTSTAMP:20260422T231442
CREATED:20250827T205523Z
LAST-MODIFIED:20260213T192118Z
UID:10062003-1832158800-1832173200@destinationbedfordva.com
SUMMARY:Live Music at Harvest Moon
DESCRIPTION: \nCome see live music at Harvest Moon Marketplace! Click here to see who is playing this weekend! \n\n\nEnjoy beer\, wine\, meads\, ciders\, and non-alcoholic drinks\, along with delicious food and great shopping at the Marketplace. Free admission and free music!\n \n\n 
URL:https://destinationbedfordva.com/event/live-music-at-harvest-moon-10/2028-01-22/
LOCATION:Harvest Moon Marketplace\, 14917 Moneta Rd\, Moneta\, VA\, 24121\, United States
ATTACH;FMTTYPE=image/jpeg:https://destinationbedfordva.com/wp-content/uploads/2023/12/harvest-moon-logo.jpg
END:VEVENT
BEGIN:VEVENT
DTSTART;TZID=America/New_York:20280123T130000
DTEND;TZID=America/New_York:20280123T170000
DTSTAMP:20260422T231442
CREATED:20250827T205523Z
LAST-MODIFIED:20260213T192118Z
UID:10062004-1832245200-1832259600@destinationbedfordva.com
SUMMARY:Live Music at Harvest Moon
DESCRIPTION: \nCome see live music at Harvest Moon Marketplace! Click here to see who is playing this weekend! \n\n\nEnjoy beer\, wine\, meads\, ciders\, and non-alcoholic drinks\, along with delicious food and great shopping at the Marketplace. Free admission and free music!\n \n\n 
URL:https://destinationbedfordva.com/event/live-music-at-harvest-moon-10/2028-01-23/
LOCATION:Harvest Moon Marketplace\, 14917 Moneta Rd\, Moneta\, VA\, 24121\, United States
ATTACH;FMTTYPE=image/jpeg:https://destinationbedfordva.com/wp-content/uploads/2023/12/harvest-moon-logo.jpg
END:VEVENT
BEGIN:VEVENT
DTSTART;TZID=America/New_York:20280129T130000
DTEND;TZID=America/New_York:20280129T170000
DTSTAMP:20260422T231442
CREATED:20250827T205523Z
LAST-MODIFIED:20260213T192118Z
UID:10062005-1832763600-1832778000@destinationbedfordva.com
SUMMARY:Live Music at Harvest Moon
DESCRIPTION: \nCome see live music at Harvest Moon Marketplace! Click here to see who is playing this weekend! \n\n\nEnjoy beer\, wine\, meads\, ciders\, and non-alcoholic drinks\, along with delicious food and great shopping at the Marketplace. Free admission and free music!\n \n\n 
URL:https://destinationbedfordva.com/event/live-music-at-harvest-moon-10/2028-01-29/
LOCATION:Harvest Moon Marketplace\, 14917 Moneta Rd\, Moneta\, VA\, 24121\, United States
ATTACH;FMTTYPE=image/jpeg:https://destinationbedfordva.com/wp-content/uploads/2023/12/harvest-moon-logo.jpg
END:VEVENT
BEGIN:VEVENT
DTSTART;TZID=America/New_York:20280130T130000
DTEND;TZID=America/New_York:20280130T170000
DTSTAMP:20260422T231442
CREATED:20250827T205523Z
LAST-MODIFIED:20260213T192118Z
UID:10062006-1832850000-1832864400@destinationbedfordva.com
SUMMARY:Live Music at Harvest Moon
DESCRIPTION: \nCome see live music at Harvest Moon Marketplace! Click here to see who is playing this weekend! \n\n\nEnjoy beer\, wine\, meads\, ciders\, and non-alcoholic drinks\, along with delicious food and great shopping at the Marketplace. Free admission and free music!\n \n\n 
URL:https://destinationbedfordva.com/event/live-music-at-harvest-moon-10/2028-01-30/
LOCATION:Harvest Moon Marketplace\, 14917 Moneta Rd\, Moneta\, VA\, 24121\, United States
ATTACH;FMTTYPE=image/jpeg:https://destinationbedfordva.com/wp-content/uploads/2023/12/harvest-moon-logo.jpg
END:VEVENT
BEGIN:VEVENT
DTSTART;TZID=America/New_York:20280205T130000
DTEND;TZID=America/New_York:20280205T170000
DTSTAMP:20260422T231442
CREATED:20250827T205523Z
LAST-MODIFIED:20260213T192118Z
UID:10062007-1833368400-1833382800@destinationbedfordva.com
SUMMARY:Live Music at Harvest Moon
DESCRIPTION: \nCome see live music at Harvest Moon Marketplace! Click here to see who is playing this weekend! \n\n\nEnjoy beer\, wine\, meads\, ciders\, and non-alcoholic drinks\, along with delicious food and great shopping at the Marketplace. Free admission and free music!\n \n\n 
URL:https://destinationbedfordva.com/event/live-music-at-harvest-moon-10/2028-02-05/
LOCATION:Harvest Moon Marketplace\, 14917 Moneta Rd\, Moneta\, VA\, 24121\, United States
ATTACH;FMTTYPE=image/jpeg:https://destinationbedfordva.com/wp-content/uploads/2023/12/harvest-moon-logo.jpg
END:VEVENT
BEGIN:VEVENT
DTSTART;TZID=America/New_York:20280206T130000
DTEND;TZID=America/New_York:20280206T170000
DTSTAMP:20260422T231442
CREATED:20250827T205523Z
LAST-MODIFIED:20260213T192118Z
UID:10062008-1833454800-1833469200@destinationbedfordva.com
SUMMARY:Live Music at Harvest Moon
DESCRIPTION: \nCome see live music at Harvest Moon Marketplace! Click here to see who is playing this weekend! \n\n\nEnjoy beer\, wine\, meads\, ciders\, and non-alcoholic drinks\, along with delicious food and great shopping at the Marketplace. Free admission and free music!\n \n\n 
URL:https://destinationbedfordva.com/event/live-music-at-harvest-moon-10/2028-02-06/
LOCATION:Harvest Moon Marketplace\, 14917 Moneta Rd\, Moneta\, VA\, 24121\, United States
ATTACH;FMTTYPE=image/jpeg:https://destinationbedfordva.com/wp-content/uploads/2023/12/harvest-moon-logo.jpg
END:VEVENT
BEGIN:VEVENT
DTSTART;TZID=America/New_York:20280212T130000
DTEND;TZID=America/New_York:20280212T170000
DTSTAMP:20260422T231442
CREATED:20250827T205523Z
LAST-MODIFIED:20260213T192118Z
UID:10062009-1833973200-1833987600@destinationbedfordva.com
SUMMARY:Live Music at Harvest Moon
DESCRIPTION: \nCome see live music at Harvest Moon Marketplace! Click here to see who is playing this weekend! \n\n\nEnjoy beer\, wine\, meads\, ciders\, and non-alcoholic drinks\, along with delicious food and great shopping at the Marketplace. Free admission and free music!\n \n\n 
URL:https://destinationbedfordva.com/event/live-music-at-harvest-moon-10/2028-02-12/
LOCATION:Harvest Moon Marketplace\, 14917 Moneta Rd\, Moneta\, VA\, 24121\, United States
ATTACH;FMTTYPE=image/jpeg:https://destinationbedfordva.com/wp-content/uploads/2023/12/harvest-moon-logo.jpg
END:VEVENT
BEGIN:VEVENT
DTSTART;TZID=America/New_York:20280213T130000
DTEND;TZID=America/New_York:20280213T170000
DTSTAMP:20260422T231442
CREATED:20250827T205523Z
LAST-MODIFIED:20260213T192118Z
UID:10062010-1834059600-1834074000@destinationbedfordva.com
SUMMARY:Live Music at Harvest Moon
DESCRIPTION: \nCome see live music at Harvest Moon Marketplace! Click here to see who is playing this weekend! \n\n\nEnjoy beer\, wine\, meads\, ciders\, and non-alcoholic drinks\, along with delicious food and great shopping at the Marketplace. Free admission and free music!\n \n\n 
URL:https://destinationbedfordva.com/event/live-music-at-harvest-moon-10/2028-02-13/
LOCATION:Harvest Moon Marketplace\, 14917 Moneta Rd\, Moneta\, VA\, 24121\, United States
ATTACH;FMTTYPE=image/jpeg:https://destinationbedfordva.com/wp-content/uploads/2023/12/harvest-moon-logo.jpg
END:VEVENT
BEGIN:VEVENT
DTSTART;TZID=America/New_York:20280219T130000
DTEND;TZID=America/New_York:20280219T170000
DTSTAMP:20260422T231442
CREATED:20250827T205523Z
LAST-MODIFIED:20260213T192118Z
UID:10062011-1834578000-1834592400@destinationbedfordva.com
SUMMARY:Live Music at Harvest Moon
DESCRIPTION: \nCome see live music at Harvest Moon Marketplace! Click here to see who is playing this weekend! \n\n\nEnjoy beer\, wine\, meads\, ciders\, and non-alcoholic drinks\, along with delicious food and great shopping at the Marketplace. Free admission and free music!\n \n\n 
URL:https://destinationbedfordva.com/event/live-music-at-harvest-moon-10/2028-02-19/
LOCATION:Harvest Moon Marketplace\, 14917 Moneta Rd\, Moneta\, VA\, 24121\, United States
ATTACH;FMTTYPE=image/jpeg:https://destinationbedfordva.com/wp-content/uploads/2023/12/harvest-moon-logo.jpg
END:VEVENT
BEGIN:VEVENT
DTSTART;TZID=America/New_York:20280220T130000
DTEND;TZID=America/New_York:20280220T170000
DTSTAMP:20260422T231442
CREATED:20250827T205523Z
LAST-MODIFIED:20260213T192118Z
UID:10062012-1834664400-1834678800@destinationbedfordva.com
SUMMARY:Live Music at Harvest Moon
DESCRIPTION: \nCome see live music at Harvest Moon Marketplace! Click here to see who is playing this weekend! \n\n\nEnjoy beer\, wine\, meads\, ciders\, and non-alcoholic drinks\, along with delicious food and great shopping at the Marketplace. Free admission and free music!\n \n\n 
URL:https://destinationbedfordva.com/event/live-music-at-harvest-moon-10/2028-02-20/
LOCATION:Harvest Moon Marketplace\, 14917 Moneta Rd\, Moneta\, VA\, 24121\, United States
ATTACH;FMTTYPE=image/jpeg:https://destinationbedfordva.com/wp-content/uploads/2023/12/harvest-moon-logo.jpg
END:VEVENT
BEGIN:VEVENT
DTSTART;TZID=America/New_York:20280226T130000
DTEND;TZID=America/New_York:20280226T170000
DTSTAMP:20260422T231442
CREATED:20250827T205523Z
LAST-MODIFIED:20260213T192118Z
UID:10062013-1835182800-1835197200@destinationbedfordva.com
SUMMARY:Live Music at Harvest Moon
DESCRIPTION: \nCome see live music at Harvest Moon Marketplace! Click here to see who is playing this weekend! \n\n\nEnjoy beer\, wine\, meads\, ciders\, and non-alcoholic drinks\, along with delicious food and great shopping at the Marketplace. Free admission and free music!\n \n\n 
URL:https://destinationbedfordva.com/event/live-music-at-harvest-moon-10/2028-02-26/
LOCATION:Harvest Moon Marketplace\, 14917 Moneta Rd\, Moneta\, VA\, 24121\, United States
ATTACH;FMTTYPE=image/jpeg:https://destinationbedfordva.com/wp-content/uploads/2023/12/harvest-moon-logo.jpg
END:VEVENT
BEGIN:VEVENT
DTSTART;TZID=America/New_York:20280227T130000
DTEND;TZID=America/New_York:20280227T170000
DTSTAMP:20260422T231442
CREATED:20250827T205523Z
LAST-MODIFIED:20260213T192118Z
UID:10062014-1835269200-1835283600@destinationbedfordva.com
SUMMARY:Live Music at Harvest Moon
DESCRIPTION: \nCome see live music at Harvest Moon Marketplace! Click here to see who is playing this weekend! \n\n\nEnjoy beer\, wine\, meads\, ciders\, and non-alcoholic drinks\, along with delicious food and great shopping at the Marketplace. Free admission and free music!\n \n\n 
URL:https://destinationbedfordva.com/event/live-music-at-harvest-moon-10/2028-02-27/
LOCATION:Harvest Moon Marketplace\, 14917 Moneta Rd\, Moneta\, VA\, 24121\, United States
ATTACH;FMTTYPE=image/jpeg:https://destinationbedfordva.com/wp-content/uploads/2023/12/harvest-moon-logo.jpg
END:VEVENT
BEGIN:VEVENT
DTSTART;TZID=America/New_York:20280304T130000
DTEND;TZID=America/New_York:20280304T170000
DTSTAMP:20260422T231442
CREATED:20250827T205523Z
LAST-MODIFIED:20260213T192118Z
UID:10062015-1835787600-1835802000@destinationbedfordva.com
SUMMARY:Live Music at Harvest Moon
DESCRIPTION: \nCome see live music at Harvest Moon Marketplace! Click here to see who is playing this weekend! \n\n\nEnjoy beer\, wine\, meads\, ciders\, and non-alcoholic drinks\, along with delicious food and great shopping at the Marketplace. Free admission and free music!\n \n\n 
URL:https://destinationbedfordva.com/event/live-music-at-harvest-moon-10/2028-03-04/
LOCATION:Harvest Moon Marketplace\, 14917 Moneta Rd\, Moneta\, VA\, 24121\, United States
ATTACH;FMTTYPE=image/jpeg:https://destinationbedfordva.com/wp-content/uploads/2023/12/harvest-moon-logo.jpg
END:VEVENT
BEGIN:VEVENT
DTSTART;TZID=America/New_York:20280305T130000
DTEND;TZID=America/New_York:20280305T170000
DTSTAMP:20260422T231442
CREATED:20250827T205523Z
LAST-MODIFIED:20260213T192118Z
UID:10062016-1835874000-1835888400@destinationbedfordva.com
SUMMARY:Live Music at Harvest Moon
DESCRIPTION: \nCome see live music at Harvest Moon Marketplace! Click here to see who is playing this weekend! \n\n\nEnjoy beer\, wine\, meads\, ciders\, and non-alcoholic drinks\, along with delicious food and great shopping at the Marketplace. Free admission and free music!\n \n\n 
URL:https://destinationbedfordva.com/event/live-music-at-harvest-moon-10/2028-03-05/
LOCATION:Harvest Moon Marketplace\, 14917 Moneta Rd\, Moneta\, VA\, 24121\, United States
ATTACH;FMTTYPE=image/jpeg:https://destinationbedfordva.com/wp-content/uploads/2023/12/harvest-moon-logo.jpg
END:VEVENT
BEGIN:VEVENT
DTSTART;TZID=America/New_York:20280311T130000
DTEND;TZID=America/New_York:20280311T170000
DTSTAMP:20260422T231442
CREATED:20250827T205523Z
LAST-MODIFIED:20260213T192118Z
UID:10062017-1836392400-1836406800@destinationbedfordva.com
SUMMARY:Live Music at Harvest Moon
DESCRIPTION: \nCome see live music at Harvest Moon Marketplace! Click here to see who is playing this weekend! \n\n\nEnjoy beer\, wine\, meads\, ciders\, and non-alcoholic drinks\, along with delicious food and great shopping at the Marketplace. Free admission and free music!\n \n\n 
URL:https://destinationbedfordva.com/event/live-music-at-harvest-moon-10/2028-03-11/
LOCATION:Harvest Moon Marketplace\, 14917 Moneta Rd\, Moneta\, VA\, 24121\, United States
ATTACH;FMTTYPE=image/jpeg:https://destinationbedfordva.com/wp-content/uploads/2023/12/harvest-moon-logo.jpg
END:VEVENT
BEGIN:VEVENT
DTSTART;TZID=America/New_York:20280312T130000
DTEND;TZID=America/New_York:20280312T170000
DTSTAMP:20260422T231442
CREATED:20250827T205523Z
LAST-MODIFIED:20260213T192118Z
UID:10062018-1836478800-1836493200@destinationbedfordva.com
SUMMARY:Live Music at Harvest Moon
DESCRIPTION: \nCome see live music at Harvest Moon Marketplace! Click here to see who is playing this weekend! \n\n\nEnjoy beer\, wine\, meads\, ciders\, and non-alcoholic drinks\, along with delicious food and great shopping at the Marketplace. Free admission and free music!\n \n\n 
URL:https://destinationbedfordva.com/event/live-music-at-harvest-moon-10/2028-03-12/
LOCATION:Harvest Moon Marketplace\, 14917 Moneta Rd\, Moneta\, VA\, 24121\, United States
ATTACH;FMTTYPE=image/jpeg:https://destinationbedfordva.com/wp-content/uploads/2023/12/harvest-moon-logo.jpg
END:VEVENT
BEGIN:VEVENT
DTSTART;TZID=America/New_York:20280318T130000
DTEND;TZID=America/New_York:20280318T170000
DTSTAMP:20260422T231442
CREATED:20250827T205523Z
LAST-MODIFIED:20260213T192118Z
UID:10062019-1836997200-1837011600@destinationbedfordva.com
SUMMARY:Live Music at Harvest Moon
DESCRIPTION: \nCome see live music at Harvest Moon Marketplace! Click here to see who is playing this weekend! \n\n\nEnjoy beer\, wine\, meads\, ciders\, and non-alcoholic drinks\, along with delicious food and great shopping at the Marketplace. Free admission and free music!\n \n\n 
URL:https://destinationbedfordva.com/event/live-music-at-harvest-moon-10/2028-03-18/
LOCATION:Harvest Moon Marketplace\, 14917 Moneta Rd\, Moneta\, VA\, 24121\, United States
ATTACH;FMTTYPE=image/jpeg:https://destinationbedfordva.com/wp-content/uploads/2023/12/harvest-moon-logo.jpg
END:VEVENT
BEGIN:VEVENT
DTSTART;TZID=America/New_York:20280319T130000
DTEND;TZID=America/New_York:20280319T170000
DTSTAMP:20260422T231442
CREATED:20250827T205523Z
LAST-MODIFIED:20260213T192118Z
UID:10062020-1837083600-1837098000@destinationbedfordva.com
SUMMARY:Live Music at Harvest Moon
DESCRIPTION: \nCome see live music at Harvest Moon Marketplace! Click here to see who is playing this weekend! \n\n\nEnjoy beer\, wine\, meads\, ciders\, and non-alcoholic drinks\, along with delicious food and great shopping at the Marketplace. Free admission and free music!\n \n\n 
URL:https://destinationbedfordva.com/event/live-music-at-harvest-moon-10/2028-03-19/
LOCATION:Harvest Moon Marketplace\, 14917 Moneta Rd\, Moneta\, VA\, 24121\, United States
ATTACH;FMTTYPE=image/jpeg:https://destinationbedfordva.com/wp-content/uploads/2023/12/harvest-moon-logo.jpg
END:VEVENT
BEGIN:VEVENT
DTSTART;TZID=America/New_York:20280325T130000
DTEND;TZID=America/New_York:20280325T170000
DTSTAMP:20260422T231442
CREATED:20250827T205523Z
LAST-MODIFIED:20260213T192118Z
UID:10062021-1837602000-1837616400@destinationbedfordva.com
SUMMARY:Live Music at Harvest Moon
DESCRIPTION: \nCome see live music at Harvest Moon Marketplace! Click here to see who is playing this weekend! \n\n\nEnjoy beer\, wine\, meads\, ciders\, and non-alcoholic drinks\, along with delicious food and great shopping at the Marketplace. Free admission and free music!\n \n\n 
URL:https://destinationbedfordva.com/event/live-music-at-harvest-moon-10/2028-03-25/
LOCATION:Harvest Moon Marketplace\, 14917 Moneta Rd\, Moneta\, VA\, 24121\, United States
ATTACH;FMTTYPE=image/jpeg:https://destinationbedfordva.com/wp-content/uploads/2023/12/harvest-moon-logo.jpg
END:VEVENT
END:VCALENDAR