BEGIN:VCALENDAR
VERSION:2.0
PRODID:-//Destination Bedford - ECPv6.8.3//NONSGML v1.0//EN
CALSCALE:GREGORIAN
METHOD:PUBLISH
X-WR-CALNAME:Destination Bedford
X-ORIGINAL-URL:https://destinationbedfordva.com
X-WR-CALDESC:Events for Destination Bedford
REFRESH-INTERVAL;VALUE=DURATION:PT1H
X-Robots-Tag:noindex
X-PUBLISHED-TTL:PT1H
BEGIN:VTIMEZONE
TZID:America/New_York
BEGIN:DAYLIGHT
TZOFFSETFROM:-0500
TZOFFSETTO:-0400
TZNAME:EDT
DTSTART:20280312T070000
END:DAYLIGHT
BEGIN:STANDARD
TZOFFSETFROM:-0400
TZOFFSETTO:-0500
TZNAME:EST
DTSTART:20281105T060000
END:STANDARD
END:VTIMEZONE
BEGIN:VEVENT
DTSTART;TZID=America/New_York:20280416T130000
DTEND;TZID=America/New_York:20280416T170000
DTSTAMP:20260424T151249
CREATED:20250827T205523Z
LAST-MODIFIED:20260213T192118Z
UID:10062028-1839502800-1839517200@destinationbedfordva.com
SUMMARY:Live Music at Harvest Moon
DESCRIPTION: \nCome see live music at Harvest Moon Marketplace! Click here to see who is playing this weekend! \n\n\nEnjoy beer\, wine\, meads\, ciders\, and non-alcoholic drinks\, along with delicious food and great shopping at the Marketplace. Free admission and free music!\n \n\n 
URL:https://destinationbedfordva.com/event/live-music-at-harvest-moon-10/2028-04-16/
LOCATION:Harvest Moon Marketplace\, 14917 Moneta Rd\, Moneta\, VA\, 24121\, United States
ATTACH;FMTTYPE=image/jpeg:https://destinationbedfordva.com/wp-content/uploads/2023/12/harvest-moon-logo.jpg
END:VEVENT
BEGIN:VEVENT
DTSTART;TZID=America/New_York:20280422T130000
DTEND;TZID=America/New_York:20280422T170000
DTSTAMP:20260424T151249
CREATED:20250827T205523Z
LAST-MODIFIED:20260213T192118Z
UID:10062029-1840021200-1840035600@destinationbedfordva.com
SUMMARY:Live Music at Harvest Moon
DESCRIPTION: \nCome see live music at Harvest Moon Marketplace! Click here to see who is playing this weekend! \n\n\nEnjoy beer\, wine\, meads\, ciders\, and non-alcoholic drinks\, along with delicious food and great shopping at the Marketplace. Free admission and free music!\n \n\n 
URL:https://destinationbedfordva.com/event/live-music-at-harvest-moon-10/2028-04-22/
LOCATION:Harvest Moon Marketplace\, 14917 Moneta Rd\, Moneta\, VA\, 24121\, United States
ATTACH;FMTTYPE=image/jpeg:https://destinationbedfordva.com/wp-content/uploads/2023/12/harvest-moon-logo.jpg
END:VEVENT
BEGIN:VEVENT
DTSTART;TZID=America/New_York:20280423T130000
DTEND;TZID=America/New_York:20280423T170000
DTSTAMP:20260424T151249
CREATED:20250827T205523Z
LAST-MODIFIED:20260213T192118Z
UID:10062030-1840107600-1840122000@destinationbedfordva.com
SUMMARY:Live Music at Harvest Moon
DESCRIPTION: \nCome see live music at Harvest Moon Marketplace! Click here to see who is playing this weekend! \n\n\nEnjoy beer\, wine\, meads\, ciders\, and non-alcoholic drinks\, along with delicious food and great shopping at the Marketplace. Free admission and free music!\n \n\n 
URL:https://destinationbedfordva.com/event/live-music-at-harvest-moon-10/2028-04-23/
LOCATION:Harvest Moon Marketplace\, 14917 Moneta Rd\, Moneta\, VA\, 24121\, United States
ATTACH;FMTTYPE=image/jpeg:https://destinationbedfordva.com/wp-content/uploads/2023/12/harvest-moon-logo.jpg
END:VEVENT
BEGIN:VEVENT
DTSTART;TZID=America/New_York:20280429T130000
DTEND;TZID=America/New_York:20280429T170000
DTSTAMP:20260424T151249
CREATED:20250827T205523Z
LAST-MODIFIED:20260213T192118Z
UID:10062031-1840626000-1840640400@destinationbedfordva.com
SUMMARY:Live Music at Harvest Moon
DESCRIPTION: \nCome see live music at Harvest Moon Marketplace! Click here to see who is playing this weekend! \n\n\nEnjoy beer\, wine\, meads\, ciders\, and non-alcoholic drinks\, along with delicious food and great shopping at the Marketplace. Free admission and free music!\n \n\n 
URL:https://destinationbedfordva.com/event/live-music-at-harvest-moon-10/2028-04-29/
LOCATION:Harvest Moon Marketplace\, 14917 Moneta Rd\, Moneta\, VA\, 24121\, United States
ATTACH;FMTTYPE=image/jpeg:https://destinationbedfordva.com/wp-content/uploads/2023/12/harvest-moon-logo.jpg
END:VEVENT
BEGIN:VEVENT
DTSTART;TZID=America/New_York:20280430T130000
DTEND;TZID=America/New_York:20280430T170000
DTSTAMP:20260424T151249
CREATED:20250827T205523Z
LAST-MODIFIED:20260213T192118Z
UID:10062032-1840712400-1840726800@destinationbedfordva.com
SUMMARY:Live Music at Harvest Moon
DESCRIPTION: \nCome see live music at Harvest Moon Marketplace! Click here to see who is playing this weekend! \n\n\nEnjoy beer\, wine\, meads\, ciders\, and non-alcoholic drinks\, along with delicious food and great shopping at the Marketplace. Free admission and free music!\n \n\n 
URL:https://destinationbedfordva.com/event/live-music-at-harvest-moon-10/2028-04-30/
LOCATION:Harvest Moon Marketplace\, 14917 Moneta Rd\, Moneta\, VA\, 24121\, United States
ATTACH;FMTTYPE=image/jpeg:https://destinationbedfordva.com/wp-content/uploads/2023/12/harvest-moon-logo.jpg
END:VEVENT
BEGIN:VEVENT
DTSTART;TZID=America/New_York:20280506T130000
DTEND;TZID=America/New_York:20280506T170000
DTSTAMP:20260424T151249
CREATED:20250827T205523Z
LAST-MODIFIED:20260213T192118Z
UID:10062033-1841230800-1841245200@destinationbedfordva.com
SUMMARY:Live Music at Harvest Moon
DESCRIPTION: \nCome see live music at Harvest Moon Marketplace! Click here to see who is playing this weekend! \n\n\nEnjoy beer\, wine\, meads\, ciders\, and non-alcoholic drinks\, along with delicious food and great shopping at the Marketplace. Free admission and free music!\n \n\n 
URL:https://destinationbedfordva.com/event/live-music-at-harvest-moon-10/2028-05-06/
LOCATION:Harvest Moon Marketplace\, 14917 Moneta Rd\, Moneta\, VA\, 24121\, United States
ATTACH;FMTTYPE=image/jpeg:https://destinationbedfordva.com/wp-content/uploads/2023/12/harvest-moon-logo.jpg
END:VEVENT
BEGIN:VEVENT
DTSTART;TZID=America/New_York:20280507T130000
DTEND;TZID=America/New_York:20280507T170000
DTSTAMP:20260424T151249
CREATED:20250827T205523Z
LAST-MODIFIED:20260213T192118Z
UID:10062034-1841317200-1841331600@destinationbedfordva.com
SUMMARY:Live Music at Harvest Moon
DESCRIPTION: \nCome see live music at Harvest Moon Marketplace! Click here to see who is playing this weekend! \n\n\nEnjoy beer\, wine\, meads\, ciders\, and non-alcoholic drinks\, along with delicious food and great shopping at the Marketplace. Free admission and free music!\n \n\n 
URL:https://destinationbedfordva.com/event/live-music-at-harvest-moon-10/2028-05-07/
LOCATION:Harvest Moon Marketplace\, 14917 Moneta Rd\, Moneta\, VA\, 24121\, United States
ATTACH;FMTTYPE=image/jpeg:https://destinationbedfordva.com/wp-content/uploads/2023/12/harvest-moon-logo.jpg
END:VEVENT
BEGIN:VEVENT
DTSTART;TZID=America/New_York:20280513T130000
DTEND;TZID=America/New_York:20280513T170000
DTSTAMP:20260424T151249
CREATED:20250827T205523Z
LAST-MODIFIED:20260213T192118Z
UID:10062035-1841835600-1841850000@destinationbedfordva.com
SUMMARY:Live Music at Harvest Moon
DESCRIPTION: \nCome see live music at Harvest Moon Marketplace! Click here to see who is playing this weekend! \n\n\nEnjoy beer\, wine\, meads\, ciders\, and non-alcoholic drinks\, along with delicious food and great shopping at the Marketplace. Free admission and free music!\n \n\n 
URL:https://destinationbedfordva.com/event/live-music-at-harvest-moon-10/2028-05-13/
LOCATION:Harvest Moon Marketplace\, 14917 Moneta Rd\, Moneta\, VA\, 24121\, United States
ATTACH;FMTTYPE=image/jpeg:https://destinationbedfordva.com/wp-content/uploads/2023/12/harvest-moon-logo.jpg
END:VEVENT
BEGIN:VEVENT
DTSTART;TZID=America/New_York:20280514T130000
DTEND;TZID=America/New_York:20280514T170000
DTSTAMP:20260424T151249
CREATED:20250827T205523Z
LAST-MODIFIED:20260213T192118Z
UID:10062036-1841922000-1841936400@destinationbedfordva.com
SUMMARY:Live Music at Harvest Moon
DESCRIPTION: \nCome see live music at Harvest Moon Marketplace! Click here to see who is playing this weekend! \n\n\nEnjoy beer\, wine\, meads\, ciders\, and non-alcoholic drinks\, along with delicious food and great shopping at the Marketplace. Free admission and free music!\n \n\n 
URL:https://destinationbedfordva.com/event/live-music-at-harvest-moon-10/2028-05-14/
LOCATION:Harvest Moon Marketplace\, 14917 Moneta Rd\, Moneta\, VA\, 24121\, United States
ATTACH;FMTTYPE=image/jpeg:https://destinationbedfordva.com/wp-content/uploads/2023/12/harvest-moon-logo.jpg
END:VEVENT
BEGIN:VEVENT
DTSTART;TZID=America/New_York:20280520T130000
DTEND;TZID=America/New_York:20280520T170000
DTSTAMP:20260424T151249
CREATED:20250827T205523Z
LAST-MODIFIED:20260213T192118Z
UID:10062037-1842440400-1842454800@destinationbedfordva.com
SUMMARY:Live Music at Harvest Moon
DESCRIPTION: \nCome see live music at Harvest Moon Marketplace! Click here to see who is playing this weekend! \n\n\nEnjoy beer\, wine\, meads\, ciders\, and non-alcoholic drinks\, along with delicious food and great shopping at the Marketplace. Free admission and free music!\n \n\n 
URL:https://destinationbedfordva.com/event/live-music-at-harvest-moon-10/2028-05-20/
LOCATION:Harvest Moon Marketplace\, 14917 Moneta Rd\, Moneta\, VA\, 24121\, United States
ATTACH;FMTTYPE=image/jpeg:https://destinationbedfordva.com/wp-content/uploads/2023/12/harvest-moon-logo.jpg
END:VEVENT
BEGIN:VEVENT
DTSTART;TZID=America/New_York:20280521T130000
DTEND;TZID=America/New_York:20280521T170000
DTSTAMP:20260424T151249
CREATED:20250827T205523Z
LAST-MODIFIED:20260213T192118Z
UID:10062038-1842526800-1842541200@destinationbedfordva.com
SUMMARY:Live Music at Harvest Moon
DESCRIPTION: \nCome see live music at Harvest Moon Marketplace! Click here to see who is playing this weekend! \n\n\nEnjoy beer\, wine\, meads\, ciders\, and non-alcoholic drinks\, along with delicious food and great shopping at the Marketplace. Free admission and free music!\n \n\n 
URL:https://destinationbedfordva.com/event/live-music-at-harvest-moon-10/2028-05-21/
LOCATION:Harvest Moon Marketplace\, 14917 Moneta Rd\, Moneta\, VA\, 24121\, United States
ATTACH;FMTTYPE=image/jpeg:https://destinationbedfordva.com/wp-content/uploads/2023/12/harvest-moon-logo.jpg
END:VEVENT
BEGIN:VEVENT
DTSTART;TZID=America/New_York:20280527T130000
DTEND;TZID=America/New_York:20280527T170000
DTSTAMP:20260424T151249
CREATED:20250827T205523Z
LAST-MODIFIED:20260213T192118Z
UID:10062039-1843045200-1843059600@destinationbedfordva.com
SUMMARY:Live Music at Harvest Moon
DESCRIPTION: \nCome see live music at Harvest Moon Marketplace! Click here to see who is playing this weekend! \n\n\nEnjoy beer\, wine\, meads\, ciders\, and non-alcoholic drinks\, along with delicious food and great shopping at the Marketplace. Free admission and free music!\n \n\n 
URL:https://destinationbedfordva.com/event/live-music-at-harvest-moon-10/2028-05-27/
LOCATION:Harvest Moon Marketplace\, 14917 Moneta Rd\, Moneta\, VA\, 24121\, United States
ATTACH;FMTTYPE=image/jpeg:https://destinationbedfordva.com/wp-content/uploads/2023/12/harvest-moon-logo.jpg
END:VEVENT
BEGIN:VEVENT
DTSTART;TZID=America/New_York:20280528T130000
DTEND;TZID=America/New_York:20280528T170000
DTSTAMP:20260424T151249
CREATED:20250827T205523Z
LAST-MODIFIED:20260213T192118Z
UID:10062040-1843131600-1843146000@destinationbedfordva.com
SUMMARY:Live Music at Harvest Moon
DESCRIPTION: \nCome see live music at Harvest Moon Marketplace! Click here to see who is playing this weekend! \n\n\nEnjoy beer\, wine\, meads\, ciders\, and non-alcoholic drinks\, along with delicious food and great shopping at the Marketplace. Free admission and free music!\n \n\n 
URL:https://destinationbedfordva.com/event/live-music-at-harvest-moon-10/2028-05-28/
LOCATION:Harvest Moon Marketplace\, 14917 Moneta Rd\, Moneta\, VA\, 24121\, United States
ATTACH;FMTTYPE=image/jpeg:https://destinationbedfordva.com/wp-content/uploads/2023/12/harvest-moon-logo.jpg
END:VEVENT
BEGIN:VEVENT
DTSTART;TZID=America/New_York:20280603T130000
DTEND;TZID=America/New_York:20280603T170000
DTSTAMP:20260424T151249
CREATED:20250827T205523Z
LAST-MODIFIED:20260213T192118Z
UID:10062041-1843650000-1843664400@destinationbedfordva.com
SUMMARY:Live Music at Harvest Moon
DESCRIPTION: \nCome see live music at Harvest Moon Marketplace! Click here to see who is playing this weekend! \n\n\nEnjoy beer\, wine\, meads\, ciders\, and non-alcoholic drinks\, along with delicious food and great shopping at the Marketplace. Free admission and free music!\n \n\n 
URL:https://destinationbedfordva.com/event/live-music-at-harvest-moon-10/2028-06-03/
LOCATION:Harvest Moon Marketplace\, 14917 Moneta Rd\, Moneta\, VA\, 24121\, United States
ATTACH;FMTTYPE=image/jpeg:https://destinationbedfordva.com/wp-content/uploads/2023/12/harvest-moon-logo.jpg
END:VEVENT
BEGIN:VEVENT
DTSTART;TZID=America/New_York:20280604T130000
DTEND;TZID=America/New_York:20280604T170000
DTSTAMP:20260424T151249
CREATED:20250827T205523Z
LAST-MODIFIED:20260213T192118Z
UID:10062042-1843736400-1843750800@destinationbedfordva.com
SUMMARY:Live Music at Harvest Moon
DESCRIPTION: \nCome see live music at Harvest Moon Marketplace! Click here to see who is playing this weekend! \n\n\nEnjoy beer\, wine\, meads\, ciders\, and non-alcoholic drinks\, along with delicious food and great shopping at the Marketplace. Free admission and free music!\n \n\n 
URL:https://destinationbedfordva.com/event/live-music-at-harvest-moon-10/2028-06-04/
LOCATION:Harvest Moon Marketplace\, 14917 Moneta Rd\, Moneta\, VA\, 24121\, United States
ATTACH;FMTTYPE=image/jpeg:https://destinationbedfordva.com/wp-content/uploads/2023/12/harvest-moon-logo.jpg
END:VEVENT
BEGIN:VEVENT
DTSTART;TZID=America/New_York:20280610T130000
DTEND;TZID=America/New_York:20280610T170000
DTSTAMP:20260424T151249
CREATED:20250827T205523Z
LAST-MODIFIED:20260213T192118Z
UID:10062043-1844254800-1844269200@destinationbedfordva.com
SUMMARY:Live Music at Harvest Moon
DESCRIPTION: \nCome see live music at Harvest Moon Marketplace! Click here to see who is playing this weekend! \n\n\nEnjoy beer\, wine\, meads\, ciders\, and non-alcoholic drinks\, along with delicious food and great shopping at the Marketplace. Free admission and free music!\n \n\n 
URL:https://destinationbedfordva.com/event/live-music-at-harvest-moon-10/2028-06-10/
LOCATION:Harvest Moon Marketplace\, 14917 Moneta Rd\, Moneta\, VA\, 24121\, United States
ATTACH;FMTTYPE=image/jpeg:https://destinationbedfordva.com/wp-content/uploads/2023/12/harvest-moon-logo.jpg
END:VEVENT
BEGIN:VEVENT
DTSTART;TZID=America/New_York:20280611T130000
DTEND;TZID=America/New_York:20280611T170000
DTSTAMP:20260424T151249
CREATED:20250827T205523Z
LAST-MODIFIED:20260213T192118Z
UID:10062044-1844341200-1844355600@destinationbedfordva.com
SUMMARY:Live Music at Harvest Moon
DESCRIPTION: \nCome see live music at Harvest Moon Marketplace! Click here to see who is playing this weekend! \n\n\nEnjoy beer\, wine\, meads\, ciders\, and non-alcoholic drinks\, along with delicious food and great shopping at the Marketplace. Free admission and free music!\n \n\n 
URL:https://destinationbedfordva.com/event/live-music-at-harvest-moon-10/2028-06-11/
LOCATION:Harvest Moon Marketplace\, 14917 Moneta Rd\, Moneta\, VA\, 24121\, United States
ATTACH;FMTTYPE=image/jpeg:https://destinationbedfordva.com/wp-content/uploads/2023/12/harvest-moon-logo.jpg
END:VEVENT
BEGIN:VEVENT
DTSTART;TZID=America/New_York:20280617T130000
DTEND;TZID=America/New_York:20280617T170000
DTSTAMP:20260424T151249
CREATED:20250827T205523Z
LAST-MODIFIED:20260213T192118Z
UID:10062045-1844859600-1844874000@destinationbedfordva.com
SUMMARY:Live Music at Harvest Moon
DESCRIPTION: \nCome see live music at Harvest Moon Marketplace! Click here to see who is playing this weekend! \n\n\nEnjoy beer\, wine\, meads\, ciders\, and non-alcoholic drinks\, along with delicious food and great shopping at the Marketplace. Free admission and free music!\n \n\n 
URL:https://destinationbedfordva.com/event/live-music-at-harvest-moon-10/2028-06-17/
LOCATION:Harvest Moon Marketplace\, 14917 Moneta Rd\, Moneta\, VA\, 24121\, United States
ATTACH;FMTTYPE=image/jpeg:https://destinationbedfordva.com/wp-content/uploads/2023/12/harvest-moon-logo.jpg
END:VEVENT
BEGIN:VEVENT
DTSTART;TZID=America/New_York:20280618T130000
DTEND;TZID=America/New_York:20280618T170000
DTSTAMP:20260424T151249
CREATED:20250827T205523Z
LAST-MODIFIED:20260213T192118Z
UID:10062046-1844946000-1844960400@destinationbedfordva.com
SUMMARY:Live Music at Harvest Moon
DESCRIPTION: \nCome see live music at Harvest Moon Marketplace! Click here to see who is playing this weekend! \n\n\nEnjoy beer\, wine\, meads\, ciders\, and non-alcoholic drinks\, along with delicious food and great shopping at the Marketplace. Free admission and free music!\n \n\n 
URL:https://destinationbedfordva.com/event/live-music-at-harvest-moon-10/2028-06-18/
LOCATION:Harvest Moon Marketplace\, 14917 Moneta Rd\, Moneta\, VA\, 24121\, United States
ATTACH;FMTTYPE=image/jpeg:https://destinationbedfordva.com/wp-content/uploads/2023/12/harvest-moon-logo.jpg
END:VEVENT
BEGIN:VEVENT
DTSTART;TZID=America/New_York:20280624T130000
DTEND;TZID=America/New_York:20280624T170000
DTSTAMP:20260424T151249
CREATED:20250827T205523Z
LAST-MODIFIED:20260213T192118Z
UID:10062047-1845464400-1845478800@destinationbedfordva.com
SUMMARY:Live Music at Harvest Moon
DESCRIPTION: \nCome see live music at Harvest Moon Marketplace! Click here to see who is playing this weekend! \n\n\nEnjoy beer\, wine\, meads\, ciders\, and non-alcoholic drinks\, along with delicious food and great shopping at the Marketplace. Free admission and free music!\n \n\n 
URL:https://destinationbedfordva.com/event/live-music-at-harvest-moon-10/2028-06-24/
LOCATION:Harvest Moon Marketplace\, 14917 Moneta Rd\, Moneta\, VA\, 24121\, United States
ATTACH;FMTTYPE=image/jpeg:https://destinationbedfordva.com/wp-content/uploads/2023/12/harvest-moon-logo.jpg
END:VEVENT
BEGIN:VEVENT
DTSTART;TZID=America/New_York:20280625T130000
DTEND;TZID=America/New_York:20280625T170000
DTSTAMP:20260424T151249
CREATED:20250827T205523Z
LAST-MODIFIED:20260213T192118Z
UID:10062048-1845550800-1845565200@destinationbedfordva.com
SUMMARY:Live Music at Harvest Moon
DESCRIPTION: \nCome see live music at Harvest Moon Marketplace! Click here to see who is playing this weekend! \n\n\nEnjoy beer\, wine\, meads\, ciders\, and non-alcoholic drinks\, along with delicious food and great shopping at the Marketplace. Free admission and free music!\n \n\n 
URL:https://destinationbedfordva.com/event/live-music-at-harvest-moon-10/2028-06-25/
LOCATION:Harvest Moon Marketplace\, 14917 Moneta Rd\, Moneta\, VA\, 24121\, United States
ATTACH;FMTTYPE=image/jpeg:https://destinationbedfordva.com/wp-content/uploads/2023/12/harvest-moon-logo.jpg
END:VEVENT
BEGIN:VEVENT
DTSTART;TZID=America/New_York:20280701T130000
DTEND;TZID=America/New_York:20280701T170000
DTSTAMP:20260424T151249
CREATED:20250827T205523Z
LAST-MODIFIED:20260213T192118Z
UID:10062049-1846069200-1846083600@destinationbedfordva.com
SUMMARY:Live Music at Harvest Moon
DESCRIPTION: \nCome see live music at Harvest Moon Marketplace! Click here to see who is playing this weekend! \n\n\nEnjoy beer\, wine\, meads\, ciders\, and non-alcoholic drinks\, along with delicious food and great shopping at the Marketplace. Free admission and free music!\n \n\n 
URL:https://destinationbedfordva.com/event/live-music-at-harvest-moon-10/2028-07-01/
LOCATION:Harvest Moon Marketplace\, 14917 Moneta Rd\, Moneta\, VA\, 24121\, United States
ATTACH;FMTTYPE=image/jpeg:https://destinationbedfordva.com/wp-content/uploads/2023/12/harvest-moon-logo.jpg
END:VEVENT
BEGIN:VEVENT
DTSTART;TZID=America/New_York:20280702T130000
DTEND;TZID=America/New_York:20280702T170000
DTSTAMP:20260424T151250
CREATED:20250827T205523Z
LAST-MODIFIED:20260213T192118Z
UID:10062050-1846155600-1846170000@destinationbedfordva.com
SUMMARY:Live Music at Harvest Moon
DESCRIPTION: \nCome see live music at Harvest Moon Marketplace! Click here to see who is playing this weekend! \n\n\nEnjoy beer\, wine\, meads\, ciders\, and non-alcoholic drinks\, along with delicious food and great shopping at the Marketplace. Free admission and free music!\n \n\n 
URL:https://destinationbedfordva.com/event/live-music-at-harvest-moon-10/2028-07-02/
LOCATION:Harvest Moon Marketplace\, 14917 Moneta Rd\, Moneta\, VA\, 24121\, United States
ATTACH;FMTTYPE=image/jpeg:https://destinationbedfordva.com/wp-content/uploads/2023/12/harvest-moon-logo.jpg
END:VEVENT
BEGIN:VEVENT
DTSTART;TZID=America/New_York:20280708T130000
DTEND;TZID=America/New_York:20280708T170000
DTSTAMP:20260424T151250
CREATED:20250827T205523Z
LAST-MODIFIED:20260213T192118Z
UID:10062051-1846674000-1846688400@destinationbedfordva.com
SUMMARY:Live Music at Harvest Moon
DESCRIPTION: \nCome see live music at Harvest Moon Marketplace! Click here to see who is playing this weekend! \n\n\nEnjoy beer\, wine\, meads\, ciders\, and non-alcoholic drinks\, along with delicious food and great shopping at the Marketplace. Free admission and free music!\n \n\n 
URL:https://destinationbedfordva.com/event/live-music-at-harvest-moon-10/2028-07-08/
LOCATION:Harvest Moon Marketplace\, 14917 Moneta Rd\, Moneta\, VA\, 24121\, United States
ATTACH;FMTTYPE=image/jpeg:https://destinationbedfordva.com/wp-content/uploads/2023/12/harvest-moon-logo.jpg
END:VEVENT
BEGIN:VEVENT
DTSTART;TZID=America/New_York:20280709T130000
DTEND;TZID=America/New_York:20280709T170000
DTSTAMP:20260424T151250
CREATED:20250827T205523Z
LAST-MODIFIED:20260213T192118Z
UID:10062052-1846760400-1846774800@destinationbedfordva.com
SUMMARY:Live Music at Harvest Moon
DESCRIPTION: \nCome see live music at Harvest Moon Marketplace! Click here to see who is playing this weekend! \n\n\nEnjoy beer\, wine\, meads\, ciders\, and non-alcoholic drinks\, along with delicious food and great shopping at the Marketplace. Free admission and free music!\n \n\n 
URL:https://destinationbedfordva.com/event/live-music-at-harvest-moon-10/2028-07-09/
LOCATION:Harvest Moon Marketplace\, 14917 Moneta Rd\, Moneta\, VA\, 24121\, United States
ATTACH;FMTTYPE=image/jpeg:https://destinationbedfordva.com/wp-content/uploads/2023/12/harvest-moon-logo.jpg
END:VEVENT
BEGIN:VEVENT
DTSTART;TZID=America/New_York:20280715T130000
DTEND;TZID=America/New_York:20280715T170000
DTSTAMP:20260424T151250
CREATED:20250827T205523Z
LAST-MODIFIED:20260213T192118Z
UID:10062053-1847278800-1847293200@destinationbedfordva.com
SUMMARY:Live Music at Harvest Moon
DESCRIPTION: \nCome see live music at Harvest Moon Marketplace! Click here to see who is playing this weekend! \n\n\nEnjoy beer\, wine\, meads\, ciders\, and non-alcoholic drinks\, along with delicious food and great shopping at the Marketplace. Free admission and free music!\n \n\n 
URL:https://destinationbedfordva.com/event/live-music-at-harvest-moon-10/2028-07-15/
LOCATION:Harvest Moon Marketplace\, 14917 Moneta Rd\, Moneta\, VA\, 24121\, United States
ATTACH;FMTTYPE=image/jpeg:https://destinationbedfordva.com/wp-content/uploads/2023/12/harvest-moon-logo.jpg
END:VEVENT
BEGIN:VEVENT
DTSTART;TZID=America/New_York:20280716T130000
DTEND;TZID=America/New_York:20280716T170000
DTSTAMP:20260424T151250
CREATED:20250827T205523Z
LAST-MODIFIED:20260213T192118Z
UID:10062054-1847365200-1847379600@destinationbedfordva.com
SUMMARY:Live Music at Harvest Moon
DESCRIPTION: \nCome see live music at Harvest Moon Marketplace! Click here to see who is playing this weekend! \n\n\nEnjoy beer\, wine\, meads\, ciders\, and non-alcoholic drinks\, along with delicious food and great shopping at the Marketplace. Free admission and free music!\n \n\n 
URL:https://destinationbedfordva.com/event/live-music-at-harvest-moon-10/2028-07-16/
LOCATION:Harvest Moon Marketplace\, 14917 Moneta Rd\, Moneta\, VA\, 24121\, United States
ATTACH;FMTTYPE=image/jpeg:https://destinationbedfordva.com/wp-content/uploads/2023/12/harvest-moon-logo.jpg
END:VEVENT
BEGIN:VEVENT
DTSTART;TZID=America/New_York:20280722T130000
DTEND;TZID=America/New_York:20280722T170000
DTSTAMP:20260424T151250
CREATED:20250827T205523Z
LAST-MODIFIED:20260213T192118Z
UID:10062055-1847883600-1847898000@destinationbedfordva.com
SUMMARY:Live Music at Harvest Moon
DESCRIPTION: \nCome see live music at Harvest Moon Marketplace! Click here to see who is playing this weekend! \n\n\nEnjoy beer\, wine\, meads\, ciders\, and non-alcoholic drinks\, along with delicious food and great shopping at the Marketplace. Free admission and free music!\n \n\n 
URL:https://destinationbedfordva.com/event/live-music-at-harvest-moon-10/2028-07-22/
LOCATION:Harvest Moon Marketplace\, 14917 Moneta Rd\, Moneta\, VA\, 24121\, United States
ATTACH;FMTTYPE=image/jpeg:https://destinationbedfordva.com/wp-content/uploads/2023/12/harvest-moon-logo.jpg
END:VEVENT
BEGIN:VEVENT
DTSTART;TZID=America/New_York:20280723T130000
DTEND;TZID=America/New_York:20280723T170000
DTSTAMP:20260424T151250
CREATED:20250827T205523Z
LAST-MODIFIED:20260213T192118Z
UID:10062056-1847970000-1847984400@destinationbedfordva.com
SUMMARY:Live Music at Harvest Moon
DESCRIPTION: \nCome see live music at Harvest Moon Marketplace! Click here to see who is playing this weekend! \n\n\nEnjoy beer\, wine\, meads\, ciders\, and non-alcoholic drinks\, along with delicious food and great shopping at the Marketplace. Free admission and free music!\n \n\n 
URL:https://destinationbedfordva.com/event/live-music-at-harvest-moon-10/2028-07-23/
LOCATION:Harvest Moon Marketplace\, 14917 Moneta Rd\, Moneta\, VA\, 24121\, United States
ATTACH;FMTTYPE=image/jpeg:https://destinationbedfordva.com/wp-content/uploads/2023/12/harvest-moon-logo.jpg
END:VEVENT
BEGIN:VEVENT
DTSTART;TZID=America/New_York:20280729T130000
DTEND;TZID=America/New_York:20280729T170000
DTSTAMP:20260424T151250
CREATED:20250827T205523Z
LAST-MODIFIED:20260213T192118Z
UID:10062057-1848488400-1848502800@destinationbedfordva.com
SUMMARY:Live Music at Harvest Moon
DESCRIPTION: \nCome see live music at Harvest Moon Marketplace! Click here to see who is playing this weekend! \n\n\nEnjoy beer\, wine\, meads\, ciders\, and non-alcoholic drinks\, along with delicious food and great shopping at the Marketplace. Free admission and free music!\n \n\n 
URL:https://destinationbedfordva.com/event/live-music-at-harvest-moon-10/2028-07-29/
LOCATION:Harvest Moon Marketplace\, 14917 Moneta Rd\, Moneta\, VA\, 24121\, United States
ATTACH;FMTTYPE=image/jpeg:https://destinationbedfordva.com/wp-content/uploads/2023/12/harvest-moon-logo.jpg
END:VEVENT
END:VCALENDAR