BEGIN:VCALENDAR
VERSION:2.0
PRODID:-//Destination Bedford - ECPv6.8.3//NONSGML v1.0//EN
CALSCALE:GREGORIAN
METHOD:PUBLISH
X-ORIGINAL-URL:https://destinationbedfordva.com
X-WR-CALDESC:Events for Destination Bedford
REFRESH-INTERVAL;VALUE=DURATION:PT1H
X-Robots-Tag:noindex
X-PUBLISHED-TTL:PT1H
BEGIN:VTIMEZONE
TZID:America/New_York
BEGIN:DAYLIGHT
TZOFFSETFROM:-0500
TZOFFSETTO:-0400
TZNAME:EDT
DTSTART:20280312T070000
END:DAYLIGHT
BEGIN:STANDARD
TZOFFSETFROM:-0400
TZOFFSETTO:-0500
TZNAME:EST
DTSTART:20281105T060000
END:STANDARD
END:VTIMEZONE
BEGIN:VEVENT
DTSTART;TZID=America/New_York:20280722T130000
DTEND;TZID=America/New_York:20280722T170000
DTSTAMP:20260425T165824
CREATED:20250827T205523Z
LAST-MODIFIED:20260213T192118Z
UID:10062055-1847883600-1847898000@destinationbedfordva.com
SUMMARY:Live Music at Harvest Moon
DESCRIPTION: \nCome see live music at Harvest Moon Marketplace! Click here to see who is playing this weekend! \n\n\nEnjoy beer\, wine\, meads\, ciders\, and non-alcoholic drinks\, along with delicious food and great shopping at the Marketplace. Free admission and free music!\n \n\n 
URL:https://destinationbedfordva.com/event/live-music-at-harvest-moon-10/2028-07-22/
LOCATION:Harvest Moon Marketplace\, 14917 Moneta Rd\, Moneta\, VA\, 24121\, United States
ATTACH;FMTTYPE=image/jpeg:https://destinationbedfordva.com/wp-content/uploads/2023/12/harvest-moon-logo.jpg
END:VEVENT
BEGIN:VEVENT
DTSTART;TZID=America/New_York:20280723T130000
DTEND;TZID=America/New_York:20280723T170000
DTSTAMP:20260425T165824
CREATED:20250827T205523Z
LAST-MODIFIED:20260213T192118Z
UID:10062056-1847970000-1847984400@destinationbedfordva.com
SUMMARY:Live Music at Harvest Moon
DESCRIPTION: \nCome see live music at Harvest Moon Marketplace! Click here to see who is playing this weekend! \n\n\nEnjoy beer\, wine\, meads\, ciders\, and non-alcoholic drinks\, along with delicious food and great shopping at the Marketplace. Free admission and free music!\n \n\n 
URL:https://destinationbedfordva.com/event/live-music-at-harvest-moon-10/2028-07-23/
LOCATION:Harvest Moon Marketplace\, 14917 Moneta Rd\, Moneta\, VA\, 24121\, United States
ATTACH;FMTTYPE=image/jpeg:https://destinationbedfordva.com/wp-content/uploads/2023/12/harvest-moon-logo.jpg
END:VEVENT
BEGIN:VEVENT
DTSTART;TZID=America/New_York:20280729T130000
DTEND;TZID=America/New_York:20280729T170000
DTSTAMP:20260425T165824
CREATED:20250827T205523Z
LAST-MODIFIED:20260213T192118Z
UID:10062057-1848488400-1848502800@destinationbedfordva.com
SUMMARY:Live Music at Harvest Moon
DESCRIPTION: \nCome see live music at Harvest Moon Marketplace! Click here to see who is playing this weekend! \n\n\nEnjoy beer\, wine\, meads\, ciders\, and non-alcoholic drinks\, along with delicious food and great shopping at the Marketplace. Free admission and free music!\n \n\n 
URL:https://destinationbedfordva.com/event/live-music-at-harvest-moon-10/2028-07-29/
LOCATION:Harvest Moon Marketplace\, 14917 Moneta Rd\, Moneta\, VA\, 24121\, United States
ATTACH;FMTTYPE=image/jpeg:https://destinationbedfordva.com/wp-content/uploads/2023/12/harvest-moon-logo.jpg
END:VEVENT
BEGIN:VEVENT
DTSTART;TZID=America/New_York:20280730T130000
DTEND;TZID=America/New_York:20280730T170000
DTSTAMP:20260425T165824
CREATED:20250827T205523Z
LAST-MODIFIED:20260213T192118Z
UID:10062058-1848574800-1848589200@destinationbedfordva.com
SUMMARY:Live Music at Harvest Moon
DESCRIPTION: \nCome see live music at Harvest Moon Marketplace! Click here to see who is playing this weekend! \n\n\nEnjoy beer\, wine\, meads\, ciders\, and non-alcoholic drinks\, along with delicious food and great shopping at the Marketplace. Free admission and free music!\n \n\n 
URL:https://destinationbedfordva.com/event/live-music-at-harvest-moon-10/2028-07-30/
LOCATION:Harvest Moon Marketplace\, 14917 Moneta Rd\, Moneta\, VA\, 24121\, United States
ATTACH;FMTTYPE=image/jpeg:https://destinationbedfordva.com/wp-content/uploads/2023/12/harvest-moon-logo.jpg
END:VEVENT
BEGIN:VEVENT
DTSTART;TZID=America/New_York:20280805T130000
DTEND;TZID=America/New_York:20280805T170000
DTSTAMP:20260425T165824
CREATED:20250827T205523Z
LAST-MODIFIED:20260213T192118Z
UID:10062059-1849093200-1849107600@destinationbedfordva.com
SUMMARY:Live Music at Harvest Moon
DESCRIPTION: \nCome see live music at Harvest Moon Marketplace! Click here to see who is playing this weekend! \n\n\nEnjoy beer\, wine\, meads\, ciders\, and non-alcoholic drinks\, along with delicious food and great shopping at the Marketplace. Free admission and free music!\n \n\n 
URL:https://destinationbedfordva.com/event/live-music-at-harvest-moon-10/2028-08-05/
LOCATION:Harvest Moon Marketplace\, 14917 Moneta Rd\, Moneta\, VA\, 24121\, United States
ATTACH;FMTTYPE=image/jpeg:https://destinationbedfordva.com/wp-content/uploads/2023/12/harvest-moon-logo.jpg
END:VEVENT
BEGIN:VEVENT
DTSTART;TZID=America/New_York:20280806T130000
DTEND;TZID=America/New_York:20280806T170000
DTSTAMP:20260425T165824
CREATED:20250827T205523Z
LAST-MODIFIED:20260213T192118Z
UID:10062060-1849179600-1849194000@destinationbedfordva.com
SUMMARY:Live Music at Harvest Moon
DESCRIPTION: \nCome see live music at Harvest Moon Marketplace! Click here to see who is playing this weekend! \n\n\nEnjoy beer\, wine\, meads\, ciders\, and non-alcoholic drinks\, along with delicious food and great shopping at the Marketplace. Free admission and free music!\n \n\n 
URL:https://destinationbedfordva.com/event/live-music-at-harvest-moon-10/2028-08-06/
LOCATION:Harvest Moon Marketplace\, 14917 Moneta Rd\, Moneta\, VA\, 24121\, United States
ATTACH;FMTTYPE=image/jpeg:https://destinationbedfordva.com/wp-content/uploads/2023/12/harvest-moon-logo.jpg
END:VEVENT
BEGIN:VEVENT
DTSTART;TZID=America/New_York:20280812T130000
DTEND;TZID=America/New_York:20280812T170000
DTSTAMP:20260425T165824
CREATED:20250827T205523Z
LAST-MODIFIED:20260213T192118Z
UID:10062061-1849698000-1849712400@destinationbedfordva.com
SUMMARY:Live Music at Harvest Moon
DESCRIPTION: \nCome see live music at Harvest Moon Marketplace! Click here to see who is playing this weekend! \n\n\nEnjoy beer\, wine\, meads\, ciders\, and non-alcoholic drinks\, along with delicious food and great shopping at the Marketplace. Free admission and free music!\n \n\n 
URL:https://destinationbedfordva.com/event/live-music-at-harvest-moon-10/2028-08-12/
LOCATION:Harvest Moon Marketplace\, 14917 Moneta Rd\, Moneta\, VA\, 24121\, United States
ATTACH;FMTTYPE=image/jpeg:https://destinationbedfordva.com/wp-content/uploads/2023/12/harvest-moon-logo.jpg
END:VEVENT
BEGIN:VEVENT
DTSTART;TZID=America/New_York:20280813T130000
DTEND;TZID=America/New_York:20280813T170000
DTSTAMP:20260425T165824
CREATED:20250827T205523Z
LAST-MODIFIED:20260213T192118Z
UID:10062062-1849784400-1849798800@destinationbedfordva.com
SUMMARY:Live Music at Harvest Moon
DESCRIPTION: \nCome see live music at Harvest Moon Marketplace! Click here to see who is playing this weekend! \n\n\nEnjoy beer\, wine\, meads\, ciders\, and non-alcoholic drinks\, along with delicious food and great shopping at the Marketplace. Free admission and free music!\n \n\n 
URL:https://destinationbedfordva.com/event/live-music-at-harvest-moon-10/2028-08-13/
LOCATION:Harvest Moon Marketplace\, 14917 Moneta Rd\, Moneta\, VA\, 24121\, United States
ATTACH;FMTTYPE=image/jpeg:https://destinationbedfordva.com/wp-content/uploads/2023/12/harvest-moon-logo.jpg
END:VEVENT
BEGIN:VEVENT
DTSTART;TZID=America/New_York:20280819T130000
DTEND;TZID=America/New_York:20280819T170000
DTSTAMP:20260425T165824
CREATED:20250827T205523Z
LAST-MODIFIED:20260213T192118Z
UID:10062063-1850302800-1850317200@destinationbedfordva.com
SUMMARY:Live Music at Harvest Moon
DESCRIPTION: \nCome see live music at Harvest Moon Marketplace! Click here to see who is playing this weekend! \n\n\nEnjoy beer\, wine\, meads\, ciders\, and non-alcoholic drinks\, along with delicious food and great shopping at the Marketplace. Free admission and free music!\n \n\n 
URL:https://destinationbedfordva.com/event/live-music-at-harvest-moon-10/2028-08-19/
LOCATION:Harvest Moon Marketplace\, 14917 Moneta Rd\, Moneta\, VA\, 24121\, United States
ATTACH;FMTTYPE=image/jpeg:https://destinationbedfordva.com/wp-content/uploads/2023/12/harvest-moon-logo.jpg
END:VEVENT
BEGIN:VEVENT
DTSTART;TZID=America/New_York:20280820T130000
DTEND;TZID=America/New_York:20280820T170000
DTSTAMP:20260425T165824
CREATED:20250827T205523Z
LAST-MODIFIED:20260213T192118Z
UID:10062064-1850389200-1850403600@destinationbedfordva.com
SUMMARY:Live Music at Harvest Moon
DESCRIPTION: \nCome see live music at Harvest Moon Marketplace! Click here to see who is playing this weekend! \n\n\nEnjoy beer\, wine\, meads\, ciders\, and non-alcoholic drinks\, along with delicious food and great shopping at the Marketplace. Free admission and free music!\n \n\n 
URL:https://destinationbedfordva.com/event/live-music-at-harvest-moon-10/2028-08-20/
LOCATION:Harvest Moon Marketplace\, 14917 Moneta Rd\, Moneta\, VA\, 24121\, United States
ATTACH;FMTTYPE=image/jpeg:https://destinationbedfordva.com/wp-content/uploads/2023/12/harvest-moon-logo.jpg
END:VEVENT
BEGIN:VEVENT
DTSTART;TZID=America/New_York:20280826T130000
DTEND;TZID=America/New_York:20280826T170000
DTSTAMP:20260425T165824
CREATED:20250827T205523Z
LAST-MODIFIED:20260213T192118Z
UID:10062065-1850907600-1850922000@destinationbedfordva.com
SUMMARY:Live Music at Harvest Moon
DESCRIPTION: \nCome see live music at Harvest Moon Marketplace! Click here to see who is playing this weekend! \n\n\nEnjoy beer\, wine\, meads\, ciders\, and non-alcoholic drinks\, along with delicious food and great shopping at the Marketplace. Free admission and free music!\n \n\n 
URL:https://destinationbedfordva.com/event/live-music-at-harvest-moon-10/2028-08-26/
LOCATION:Harvest Moon Marketplace\, 14917 Moneta Rd\, Moneta\, VA\, 24121\, United States
ATTACH;FMTTYPE=image/jpeg:https://destinationbedfordva.com/wp-content/uploads/2023/12/harvest-moon-logo.jpg
END:VEVENT
BEGIN:VEVENT
DTSTART;TZID=America/New_York:20280827T130000
DTEND;TZID=America/New_York:20280827T170000
DTSTAMP:20260425T165824
CREATED:20250827T205523Z
LAST-MODIFIED:20260213T192118Z
UID:10062066-1850994000-1851008400@destinationbedfordva.com
SUMMARY:Live Music at Harvest Moon
DESCRIPTION: \nCome see live music at Harvest Moon Marketplace! Click here to see who is playing this weekend! \n\n\nEnjoy beer\, wine\, meads\, ciders\, and non-alcoholic drinks\, along with delicious food and great shopping at the Marketplace. Free admission and free music!\n \n\n 
URL:https://destinationbedfordva.com/event/live-music-at-harvest-moon-10/2028-08-27/
LOCATION:Harvest Moon Marketplace\, 14917 Moneta Rd\, Moneta\, VA\, 24121\, United States
ATTACH;FMTTYPE=image/jpeg:https://destinationbedfordva.com/wp-content/uploads/2023/12/harvest-moon-logo.jpg
END:VEVENT
BEGIN:VEVENT
DTSTART;TZID=America/New_York:20280902T130000
DTEND;TZID=America/New_York:20280902T170000
DTSTAMP:20260425T165824
CREATED:20250827T205523Z
LAST-MODIFIED:20260213T192118Z
UID:10062067-1851512400-1851526800@destinationbedfordva.com
SUMMARY:Live Music at Harvest Moon
DESCRIPTION: \nCome see live music at Harvest Moon Marketplace! Click here to see who is playing this weekend! \n\n\nEnjoy beer\, wine\, meads\, ciders\, and non-alcoholic drinks\, along with delicious food and great shopping at the Marketplace. Free admission and free music!\n \n\n 
URL:https://destinationbedfordva.com/event/live-music-at-harvest-moon-10/2028-09-02/
LOCATION:Harvest Moon Marketplace\, 14917 Moneta Rd\, Moneta\, VA\, 24121\, United States
ATTACH;FMTTYPE=image/jpeg:https://destinationbedfordva.com/wp-content/uploads/2023/12/harvest-moon-logo.jpg
END:VEVENT
BEGIN:VEVENT
DTSTART;TZID=America/New_York:20280903T130000
DTEND;TZID=America/New_York:20280903T170000
DTSTAMP:20260425T165824
CREATED:20250827T205523Z
LAST-MODIFIED:20260213T192118Z
UID:10062068-1851598800-1851613200@destinationbedfordva.com
SUMMARY:Live Music at Harvest Moon
DESCRIPTION: \nCome see live music at Harvest Moon Marketplace! Click here to see who is playing this weekend! \n\n\nEnjoy beer\, wine\, meads\, ciders\, and non-alcoholic drinks\, along with delicious food and great shopping at the Marketplace. Free admission and free music!\n \n\n 
URL:https://destinationbedfordva.com/event/live-music-at-harvest-moon-10/2028-09-03/
LOCATION:Harvest Moon Marketplace\, 14917 Moneta Rd\, Moneta\, VA\, 24121\, United States
ATTACH;FMTTYPE=image/jpeg:https://destinationbedfordva.com/wp-content/uploads/2023/12/harvest-moon-logo.jpg
END:VEVENT
BEGIN:VEVENT
DTSTART;TZID=America/New_York:20280909T130000
DTEND;TZID=America/New_York:20280909T170000
DTSTAMP:20260425T165824
CREATED:20250827T205523Z
LAST-MODIFIED:20260213T192118Z
UID:10062069-1852117200-1852131600@destinationbedfordva.com
SUMMARY:Live Music at Harvest Moon
DESCRIPTION: \nCome see live music at Harvest Moon Marketplace! Click here to see who is playing this weekend! \n\n\nEnjoy beer\, wine\, meads\, ciders\, and non-alcoholic drinks\, along with delicious food and great shopping at the Marketplace. Free admission and free music!\n \n\n 
URL:https://destinationbedfordva.com/event/live-music-at-harvest-moon-10/2028-09-09/
LOCATION:Harvest Moon Marketplace\, 14917 Moneta Rd\, Moneta\, VA\, 24121\, United States
ATTACH;FMTTYPE=image/jpeg:https://destinationbedfordva.com/wp-content/uploads/2023/12/harvest-moon-logo.jpg
END:VEVENT
BEGIN:VEVENT
DTSTART;TZID=America/New_York:20280910T130000
DTEND;TZID=America/New_York:20280910T170000
DTSTAMP:20260425T165824
CREATED:20250827T205523Z
LAST-MODIFIED:20260213T192118Z
UID:10062070-1852203600-1852218000@destinationbedfordva.com
SUMMARY:Live Music at Harvest Moon
DESCRIPTION: \nCome see live music at Harvest Moon Marketplace! Click here to see who is playing this weekend! \n\n\nEnjoy beer\, wine\, meads\, ciders\, and non-alcoholic drinks\, along with delicious food and great shopping at the Marketplace. Free admission and free music!\n \n\n 
URL:https://destinationbedfordva.com/event/live-music-at-harvest-moon-10/2028-09-10/
LOCATION:Harvest Moon Marketplace\, 14917 Moneta Rd\, Moneta\, VA\, 24121\, United States
ATTACH;FMTTYPE=image/jpeg:https://destinationbedfordva.com/wp-content/uploads/2023/12/harvest-moon-logo.jpg
END:VEVENT
BEGIN:VEVENT
DTSTART;TZID=America/New_York:20280916T130000
DTEND;TZID=America/New_York:20280916T170000
DTSTAMP:20260425T165824
CREATED:20250827T205523Z
LAST-MODIFIED:20260213T192118Z
UID:10062071-1852722000-1852736400@destinationbedfordva.com
SUMMARY:Live Music at Harvest Moon
DESCRIPTION: \nCome see live music at Harvest Moon Marketplace! Click here to see who is playing this weekend! \n\n\nEnjoy beer\, wine\, meads\, ciders\, and non-alcoholic drinks\, along with delicious food and great shopping at the Marketplace. Free admission and free music!\n \n\n 
URL:https://destinationbedfordva.com/event/live-music-at-harvest-moon-10/2028-09-16/
LOCATION:Harvest Moon Marketplace\, 14917 Moneta Rd\, Moneta\, VA\, 24121\, United States
ATTACH;FMTTYPE=image/jpeg:https://destinationbedfordva.com/wp-content/uploads/2023/12/harvest-moon-logo.jpg
END:VEVENT
BEGIN:VEVENT
DTSTART;TZID=America/New_York:20280917T130000
DTEND;TZID=America/New_York:20280917T170000
DTSTAMP:20260425T165824
CREATED:20250827T205523Z
LAST-MODIFIED:20260213T192118Z
UID:10062072-1852808400-1852822800@destinationbedfordva.com
SUMMARY:Live Music at Harvest Moon
DESCRIPTION: \nCome see live music at Harvest Moon Marketplace! Click here to see who is playing this weekend! \n\n\nEnjoy beer\, wine\, meads\, ciders\, and non-alcoholic drinks\, along with delicious food and great shopping at the Marketplace. Free admission and free music!\n \n\n 
URL:https://destinationbedfordva.com/event/live-music-at-harvest-moon-10/2028-09-17/
LOCATION:Harvest Moon Marketplace\, 14917 Moneta Rd\, Moneta\, VA\, 24121\, United States
ATTACH;FMTTYPE=image/jpeg:https://destinationbedfordva.com/wp-content/uploads/2023/12/harvest-moon-logo.jpg
END:VEVENT
BEGIN:VEVENT
DTSTART;TZID=America/New_York:20280923T130000
DTEND;TZID=America/New_York:20280923T170000
DTSTAMP:20260425T165824
CREATED:20250827T205523Z
LAST-MODIFIED:20260213T192118Z
UID:10062073-1853326800-1853341200@destinationbedfordva.com
SUMMARY:Live Music at Harvest Moon
DESCRIPTION: \nCome see live music at Harvest Moon Marketplace! Click here to see who is playing this weekend! \n\n\nEnjoy beer\, wine\, meads\, ciders\, and non-alcoholic drinks\, along with delicious food and great shopping at the Marketplace. Free admission and free music!\n \n\n 
URL:https://destinationbedfordva.com/event/live-music-at-harvest-moon-10/2028-09-23/
LOCATION:Harvest Moon Marketplace\, 14917 Moneta Rd\, Moneta\, VA\, 24121\, United States
ATTACH;FMTTYPE=image/jpeg:https://destinationbedfordva.com/wp-content/uploads/2023/12/harvest-moon-logo.jpg
END:VEVENT
BEGIN:VEVENT
DTSTART;TZID=America/New_York:20280924T130000
DTEND;TZID=America/New_York:20280924T170000
DTSTAMP:20260425T165824
CREATED:20250827T205523Z
LAST-MODIFIED:20260213T192118Z
UID:10062074-1853413200-1853427600@destinationbedfordva.com
SUMMARY:Live Music at Harvest Moon
DESCRIPTION: \nCome see live music at Harvest Moon Marketplace! Click here to see who is playing this weekend! \n\n\nEnjoy beer\, wine\, meads\, ciders\, and non-alcoholic drinks\, along with delicious food and great shopping at the Marketplace. Free admission and free music!\n \n\n 
URL:https://destinationbedfordva.com/event/live-music-at-harvest-moon-10/2028-09-24/
LOCATION:Harvest Moon Marketplace\, 14917 Moneta Rd\, Moneta\, VA\, 24121\, United States
ATTACH;FMTTYPE=image/jpeg:https://destinationbedfordva.com/wp-content/uploads/2023/12/harvest-moon-logo.jpg
END:VEVENT
BEGIN:VEVENT
DTSTART;TZID=America/New_York:20280930T130000
DTEND;TZID=America/New_York:20280930T170000
DTSTAMP:20260425T165824
CREATED:20250827T205523Z
LAST-MODIFIED:20260213T192118Z
UID:10062075-1853931600-1853946000@destinationbedfordva.com
SUMMARY:Live Music at Harvest Moon
DESCRIPTION: \nCome see live music at Harvest Moon Marketplace! Click here to see who is playing this weekend! \n\n\nEnjoy beer\, wine\, meads\, ciders\, and non-alcoholic drinks\, along with delicious food and great shopping at the Marketplace. Free admission and free music!\n \n\n 
URL:https://destinationbedfordva.com/event/live-music-at-harvest-moon-10/2028-09-30/
LOCATION:Harvest Moon Marketplace\, 14917 Moneta Rd\, Moneta\, VA\, 24121\, United States
ATTACH;FMTTYPE=image/jpeg:https://destinationbedfordva.com/wp-content/uploads/2023/12/harvest-moon-logo.jpg
END:VEVENT
BEGIN:VEVENT
DTSTART;TZID=America/New_York:20281001T130000
DTEND;TZID=America/New_York:20281001T170000
DTSTAMP:20260425T165824
CREATED:20250827T205523Z
LAST-MODIFIED:20260213T192118Z
UID:10062076-1854018000-1854032400@destinationbedfordva.com
SUMMARY:Live Music at Harvest Moon
DESCRIPTION: \nCome see live music at Harvest Moon Marketplace! Click here to see who is playing this weekend! \n\n\nEnjoy beer\, wine\, meads\, ciders\, and non-alcoholic drinks\, along with delicious food and great shopping at the Marketplace. Free admission and free music!\n \n\n 
URL:https://destinationbedfordva.com/event/live-music-at-harvest-moon-10/2028-10-01/
LOCATION:Harvest Moon Marketplace\, 14917 Moneta Rd\, Moneta\, VA\, 24121\, United States
ATTACH;FMTTYPE=image/jpeg:https://destinationbedfordva.com/wp-content/uploads/2023/12/harvest-moon-logo.jpg
END:VEVENT
BEGIN:VEVENT
DTSTART;TZID=America/New_York:20281007T130000
DTEND;TZID=America/New_York:20281007T170000
DTSTAMP:20260425T165824
CREATED:20250827T205523Z
LAST-MODIFIED:20260213T192118Z
UID:10062077-1854536400-1854550800@destinationbedfordva.com
SUMMARY:Live Music at Harvest Moon
DESCRIPTION: \nCome see live music at Harvest Moon Marketplace! Click here to see who is playing this weekend! \n\n\nEnjoy beer\, wine\, meads\, ciders\, and non-alcoholic drinks\, along with delicious food and great shopping at the Marketplace. Free admission and free music!\n \n\n 
URL:https://destinationbedfordva.com/event/live-music-at-harvest-moon-10/2028-10-07/
LOCATION:Harvest Moon Marketplace\, 14917 Moneta Rd\, Moneta\, VA\, 24121\, United States
ATTACH;FMTTYPE=image/jpeg:https://destinationbedfordva.com/wp-content/uploads/2023/12/harvest-moon-logo.jpg
END:VEVENT
BEGIN:VEVENT
DTSTART;TZID=America/New_York:20281008T130000
DTEND;TZID=America/New_York:20281008T170000
DTSTAMP:20260425T165824
CREATED:20250827T205523Z
LAST-MODIFIED:20260213T192118Z
UID:10062078-1854622800-1854637200@destinationbedfordva.com
SUMMARY:Live Music at Harvest Moon
DESCRIPTION: \nCome see live music at Harvest Moon Marketplace! Click here to see who is playing this weekend! \n\n\nEnjoy beer\, wine\, meads\, ciders\, and non-alcoholic drinks\, along with delicious food and great shopping at the Marketplace. Free admission and free music!\n \n\n 
URL:https://destinationbedfordva.com/event/live-music-at-harvest-moon-10/2028-10-08/
LOCATION:Harvest Moon Marketplace\, 14917 Moneta Rd\, Moneta\, VA\, 24121\, United States
ATTACH;FMTTYPE=image/jpeg:https://destinationbedfordva.com/wp-content/uploads/2023/12/harvest-moon-logo.jpg
END:VEVENT
BEGIN:VEVENT
DTSTART;TZID=America/New_York:20281014T130000
DTEND;TZID=America/New_York:20281014T170000
DTSTAMP:20260425T165824
CREATED:20250827T205523Z
LAST-MODIFIED:20260213T192118Z
UID:10062079-1855141200-1855155600@destinationbedfordva.com
SUMMARY:Live Music at Harvest Moon
DESCRIPTION: \nCome see live music at Harvest Moon Marketplace! Click here to see who is playing this weekend! \n\n\nEnjoy beer\, wine\, meads\, ciders\, and non-alcoholic drinks\, along with delicious food and great shopping at the Marketplace. Free admission and free music!\n \n\n 
URL:https://destinationbedfordva.com/event/live-music-at-harvest-moon-10/2028-10-14/
LOCATION:Harvest Moon Marketplace\, 14917 Moneta Rd\, Moneta\, VA\, 24121\, United States
ATTACH;FMTTYPE=image/jpeg:https://destinationbedfordva.com/wp-content/uploads/2023/12/harvest-moon-logo.jpg
END:VEVENT
BEGIN:VEVENT
DTSTART;TZID=America/New_York:20281015T130000
DTEND;TZID=America/New_York:20281015T170000
DTSTAMP:20260425T165824
CREATED:20250827T205523Z
LAST-MODIFIED:20260213T192118Z
UID:10062080-1855227600-1855242000@destinationbedfordva.com
SUMMARY:Live Music at Harvest Moon
DESCRIPTION: \nCome see live music at Harvest Moon Marketplace! Click here to see who is playing this weekend! \n\n\nEnjoy beer\, wine\, meads\, ciders\, and non-alcoholic drinks\, along with delicious food and great shopping at the Marketplace. Free admission and free music!\n \n\n 
URL:https://destinationbedfordva.com/event/live-music-at-harvest-moon-10/2028-10-15/
LOCATION:Harvest Moon Marketplace\, 14917 Moneta Rd\, Moneta\, VA\, 24121\, United States
ATTACH;FMTTYPE=image/jpeg:https://destinationbedfordva.com/wp-content/uploads/2023/12/harvest-moon-logo.jpg
END:VEVENT
BEGIN:VEVENT
DTSTART;TZID=America/New_York:20281021T130000
DTEND;TZID=America/New_York:20281021T170000
DTSTAMP:20260425T165824
CREATED:20250827T205523Z
LAST-MODIFIED:20260213T192118Z
UID:10062081-1855746000-1855760400@destinationbedfordva.com
SUMMARY:Live Music at Harvest Moon
DESCRIPTION: \nCome see live music at Harvest Moon Marketplace! Click here to see who is playing this weekend! \n\n\nEnjoy beer\, wine\, meads\, ciders\, and non-alcoholic drinks\, along with delicious food and great shopping at the Marketplace. Free admission and free music!\n \n\n 
URL:https://destinationbedfordva.com/event/live-music-at-harvest-moon-10/2028-10-21/
LOCATION:Harvest Moon Marketplace\, 14917 Moneta Rd\, Moneta\, VA\, 24121\, United States
ATTACH;FMTTYPE=image/jpeg:https://destinationbedfordva.com/wp-content/uploads/2023/12/harvest-moon-logo.jpg
END:VEVENT
BEGIN:VEVENT
DTSTART;TZID=America/New_York:20281022T130000
DTEND;TZID=America/New_York:20281022T170000
DTSTAMP:20260425T165824
CREATED:20250827T205523Z
LAST-MODIFIED:20260213T192118Z
UID:10062082-1855832400-1855846800@destinationbedfordva.com
SUMMARY:Live Music at Harvest Moon
DESCRIPTION: \nCome see live music at Harvest Moon Marketplace! Click here to see who is playing this weekend! \n\n\nEnjoy beer\, wine\, meads\, ciders\, and non-alcoholic drinks\, along with delicious food and great shopping at the Marketplace. Free admission and free music!\n \n\n 
URL:https://destinationbedfordva.com/event/live-music-at-harvest-moon-10/2028-10-22/
LOCATION:Harvest Moon Marketplace\, 14917 Moneta Rd\, Moneta\, VA\, 24121\, United States
ATTACH;FMTTYPE=image/jpeg:https://destinationbedfordva.com/wp-content/uploads/2023/12/harvest-moon-logo.jpg
END:VEVENT
BEGIN:VEVENT
DTSTART;TZID=America/New_York:20281028T130000
DTEND;TZID=America/New_York:20281028T170000
DTSTAMP:20260425T165824
CREATED:20250827T205523Z
LAST-MODIFIED:20260213T192118Z
UID:10062083-1856350800-1856365200@destinationbedfordva.com
SUMMARY:Live Music at Harvest Moon
DESCRIPTION: \nCome see live music at Harvest Moon Marketplace! Click here to see who is playing this weekend! \n\n\nEnjoy beer\, wine\, meads\, ciders\, and non-alcoholic drinks\, along with delicious food and great shopping at the Marketplace. Free admission and free music!\n \n\n 
URL:https://destinationbedfordva.com/event/live-music-at-harvest-moon-10/2028-10-28/
LOCATION:Harvest Moon Marketplace\, 14917 Moneta Rd\, Moneta\, VA\, 24121\, United States
ATTACH;FMTTYPE=image/jpeg:https://destinationbedfordva.com/wp-content/uploads/2023/12/harvest-moon-logo.jpg
END:VEVENT
BEGIN:VEVENT
DTSTART;TZID=America/New_York:20281029T130000
DTEND;TZID=America/New_York:20281029T170000
DTSTAMP:20260425T165824
CREATED:20250827T205523Z
LAST-MODIFIED:20260213T192118Z
UID:10062084-1856437200-1856451600@destinationbedfordva.com
SUMMARY:Live Music at Harvest Moon
DESCRIPTION: \nCome see live music at Harvest Moon Marketplace! Click here to see who is playing this weekend! \n\n\nEnjoy beer\, wine\, meads\, ciders\, and non-alcoholic drinks\, along with delicious food and great shopping at the Marketplace. Free admission and free music!\n \n\n 
URL:https://destinationbedfordva.com/event/live-music-at-harvest-moon-10/2028-10-29/
LOCATION:Harvest Moon Marketplace\, 14917 Moneta Rd\, Moneta\, VA\, 24121\, United States
ATTACH;FMTTYPE=image/jpeg:https://destinationbedfordva.com/wp-content/uploads/2023/12/harvest-moon-logo.jpg
END:VEVENT
END:VCALENDAR