BEGIN:VCALENDAR
VERSION:2.0
PRODID:-//Destination Bedford - ECPv6.8.3//NONSGML v1.0//EN
CALSCALE:GREGORIAN
METHOD:PUBLISH
X-WR-CALNAME:Destination Bedford
X-ORIGINAL-URL:https://destinationbedfordva.com
X-WR-CALDESC:Events for Destination Bedford
REFRESH-INTERVAL;VALUE=DURATION:PT1H
X-Robots-Tag:noindex
X-PUBLISHED-TTL:PT1H
BEGIN:VTIMEZONE
TZID:America/New_York
BEGIN:DAYLIGHT
TZOFFSETFROM:-0500
TZOFFSETTO:-0400
TZNAME:EDT
DTSTART:20210314T070000
END:DAYLIGHT
BEGIN:STANDARD
TZOFFSETFROM:-0400
TZOFFSETTO:-0500
TZNAME:EST
DTSTART:20211107T060000
END:STANDARD
END:VTIMEZONE
BEGIN:VEVENT
DTSTART;TZID=America/New_York:20210703T080000
DTEND;TZID=America/New_York:20210703T150000
DTSTAMP:20260421T093512
CREATED:20210629T201639Z
LAST-MODIFIED:20210629T201639Z
UID:10048846-1625299200-1625324400@destinationbedfordva.com
SUMMARY:Homestead Mercantile Independence Day Celebration
DESCRIPTION: \n\n“Let Freedom Ring”\, and come celebrate this holiday at this great event! There will be BBQ\, hot dogs\, hamburgers\, apple cake\, woodworks by Mickey Harris\, local art and craftsman and much more! \n\n \n\n 
URL:https://destinationbedfordva.com/event/homestead-mercantile-independence-day-celebration/
LOCATION:Homestead Mercantile\, 1948 Lone Oak Xing\, Bedford\, 24523
ATTACH;FMTTYPE=image/jpeg:https://destinationbedfordva.com/wp-content/uploads/2021/06/homestead-mercantile.jpg
END:VEVENT
END:VCALENDAR